BEGIN:VCALENDAR
VERSION:2.0
PRODID:-//jEvents 2.0 for Joomla//EN
CALSCALE:GREGORIAN
METHOD:PUBLISH
BEGIN:VTIMEZONE
TZID:Europe/London
BEGIN:STANDARD
DTSTART:20211216T140000
RDATE:20220327T020000
TZOFFSETFROM:+0100
TZOFFSETTO:+0000
TZNAME:Europe/London GMT
END:STANDARD
BEGIN:STANDARD
DTSTART:20221030T010000
RDATE:20230326T020000
TZOFFSETFROM:+0100
TZOFFSETTO:+0000
TZNAME:Europe/London GMT
END:STANDARD
BEGIN:STANDARD
DTSTART:20231029T010000
RDATE:20240331T020000
TZOFFSETFROM:+0100
TZOFFSETTO:+0000
TZNAME:Europe/London GMT
END:STANDARD
BEGIN:STANDARD
DTSTART:20241027T010000
RDATE:20250330T020000
TZOFFSETFROM:+0100
TZOFFSETTO:+0000
TZNAME:Europe/London GMT
END:STANDARD
BEGIN:STANDARD
DTSTART:20251026T010000
RDATE:20260329T020000
TZOFFSETFROM:+0100
TZOFFSETTO:+0000
TZNAME:Europe/London GMT
END:STANDARD
BEGIN:STANDARD
DTSTART:20261025T010000
RDATE:20270328T020000
TZOFFSETFROM:+0100
TZOFFSETTO:+0000
TZNAME:Europe/London GMT
END:STANDARD
BEGIN:STANDARD
DTSTART:20271031T010000
RDATE:20280326T020000
TZOFFSETFROM:+0100
TZOFFSETTO:+0000
TZNAME:Europe/London GMT
END:STANDARD
BEGIN:STANDARD
DTSTART:20281029T010000
RDATE:20290325T020000
TZOFFSETFROM:+0100
TZOFFSETTO:+0000
TZNAME:Europe/London GMT
END:STANDARD
BEGIN:STANDARD
DTSTART:20291028T010000
RDATE:20300331T020000
TZOFFSETFROM:+0100
TZOFFSETTO:+0000
TZNAME:Europe/London GMT
END:STANDARD
BEGIN:STANDARD
DTSTART:20301027T010000
RDATE:20310330T020000
TZOFFSETFROM:+0100
TZOFFSETTO:+0000
TZNAME:Europe/London GMT
END:STANDARD
BEGIN:DAYLIGHT
DTSTART:20220327T020000
RDATE:20221030T010000
TZOFFSETFROM:+0000
TZOFFSETTO:+0100
TZNAME:Europe/London BST
END:DAYLIGHT
BEGIN:DAYLIGHT
DTSTART:20230326T020000
RDATE:20231029T010000
TZOFFSETFROM:+0000
TZOFFSETTO:+0100
TZNAME:Europe/London BST
END:DAYLIGHT
BEGIN:DAYLIGHT
DTSTART:20240331T020000
RDATE:20241027T010000
TZOFFSETFROM:+0000
TZOFFSETTO:+0100
TZNAME:Europe/London BST
END:DAYLIGHT
BEGIN:DAYLIGHT
DTSTART:20250330T020000
RDATE:20251026T010000
TZOFFSETFROM:+0000
TZOFFSETTO:+0100
TZNAME:Europe/London BST
END:DAYLIGHT
BEGIN:DAYLIGHT
DTSTART:20260329T020000
RDATE:20261025T010000
TZOFFSETFROM:+0000
TZOFFSETTO:+0100
TZNAME:Europe/London BST
END:DAYLIGHT
BEGIN:DAYLIGHT
DTSTART:20270328T020000
RDATE:20271031T010000
TZOFFSETFROM:+0000
TZOFFSETTO:+0100
TZNAME:Europe/London BST
END:DAYLIGHT
BEGIN:DAYLIGHT
DTSTART:20280326T020000
RDATE:20281029T010000
TZOFFSETFROM:+0000
TZOFFSETTO:+0100
TZNAME:Europe/London BST
END:DAYLIGHT
BEGIN:DAYLIGHT
DTSTART:20290325T020000
RDATE:20291028T010000
TZOFFSETFROM:+0000
TZOFFSETTO:+0100
TZNAME:Europe/London BST
END:DAYLIGHT
BEGIN:DAYLIGHT
DTSTART:20300331T020000
RDATE:20301027T010000
TZOFFSETFROM:+0000
TZOFFSETTO:+0100
TZNAME:Europe/London BST
END:DAYLIGHT
END:VTIMEZONE
BEGIN:VEVENT
UID:47d6dff5f67873e3722ccb3910cc0224
CATEGORIES:South
CREATED:20220805T100531
SUMMARY:General practice at Henfield
LOCATION:Henfield St Peter 
URL;VALUE=URI:https://scacr.org/news-events/calendar/1000/general-practice-at-henfield?tm
 pl=component
DESCRIPTION:Henfield is one of the best rings of eight bells in the District.  Parking 
 is normally available in the car park.\nIt would be nice to welcome ringers
  for a general practice from rounds and onwards. A last chance in the year 
 to meet at a Southern District event. Perhaps there will be some mince pies
 .\nPlease let Richard Neal Southern District Secretary (mailto:This email a
 ddress is being protected from spambots. You need JavaScript enabled to vie
 w it.
				document.getElementById('cloak037ee24f9f0286362e1180d6486663b5').
 innerHTML = '';
				var prefix = '&#109;a' + 'i&#108;' + '&#116;o';
				var
  path = 'hr' + 'ef' + '=';
				var addy037ee24f9f0286362e1180d6486663b5 = '
 s&#101;c-s&#111;&#117;th' + '&#64;';
				addy037ee24f9f0286362e1180d6486663
 b5 = addy037ee24f9f0286362e1180d6486663b5 + 'sc&#97;cr' + '&#46;' + '&#111;
 rg';
				var addy_text037ee24f9f0286362e1180d6486663b5 = 's&#101;c-s&#111;&
 #117;th' + '&#64;' + 'sc&#97;cr' + '&#46;' + '&#111;rg';document.getElement
 ById('cloak037ee24f9f0286362e1180d6486663b5').innerHTML += '<a ' + path + '
 \'' + prefix + ':' + addy037ee24f9f0286362e1180d6486663b5 + '\'>'+addy_text
 037ee24f9f0286362e1180d6486663b5+'';
		) know if you will be attending.\n T
 his event was imported from: https://scacr.org/news-events/calendar/1000/ge
 neral-practice-at-henfield?tmpl=component (https://scacr.org/news-events/ca
 lendar/1000/general-practice-at-henfield?tmpl=component)
X-ALT-DESC;FMTTYPE=text/html:<p>Henfield is one of the best rings of eight bells in the District. &nbsp;
 Parking is normally available in the car park.</p><p>It would be nice to we
 lcome ringers for a general practice from rounds and onwards. A last chance
  in the year to meet at a Southern District event. Perhaps there will be so
 me mince pies.</p><p>Please let Richard Neal Southern District Secretary (m
 ailto:<span id="cloak037ee24f9f0286362e1180d6486663b5">This email address i
 s being protected from spambots. You need JavaScript enabled to view it.</s
 pan><script type='text/javascript'>
				document.getElementById('cloak037ee
 24f9f0286362e1180d6486663b5').innerHTML = '';
				var prefix = '&#109;a' + 
 'i&#108;' + '&#116;o';
				var path = 'hr' + 'ef' + '=';
				var addy037ee2
 4f9f0286362e1180d6486663b5 = 's&#101;c-s&#111;&#117;th' + '&#64;';
				addy
 037ee24f9f0286362e1180d6486663b5 = addy037ee24f9f0286362e1180d6486663b5 + '
 sc&#97;cr' + '&#46;' + '&#111;rg';
				var addy_text037ee24f9f0286362e1180d
 6486663b5 = 's&#101;c-s&#111;&#117;th' + '&#64;' + 'sc&#97;cr' + '&#46;' + 
 '&#111;rg';document.getElementById('cloak037ee24f9f0286362e1180d6486663b5')
 .innerHTML += '<a ' + path + '\'' + prefix + ':' + addy037ee24f9f0286362e11
 80d6486663b5 + '\'>'+addy_text037ee24f9f0286362e1180d6486663b5+'<\/a>';
		<
 /script>) know if you will be attending.</p> <a href="https://scacr.org/new
 s-events/calendar/1000/general-practice-at-henfield?tmpl=component">This ev
 ent was imported from: https://scacr.org/news-events/calendar/1000/general-
 practice-at-henfield?tmpl=component</a>CONTACT:Richard Neal (District Secretary)  This email address is being protected from spambots. You need JavaScript enabled to view it.
				document.getElementById('cloak2130fe606eec8fd276149b71c813180a').innerHTML = '';
				var prefix = '&#109;a' + 'i&#108;' + '&#116;o';
				var path = 'hr' + 'ef' + '=';
				var addy2130fe606eec8fd276149b71c813180a = 's&#101;c-s&#111;&#117;th' + '&#64;';
				addy2130fe606eec8fd276149b71c813180a = addy2130fe606eec8fd276149b71c813180a + 'sc&#97;cr' + '&#46;' + '&#111;rg';
				var addy_text2130fe606eec8fd276149b71c813180a = 's&#101;c-s&#111;&#117;th' + '&#64;' + 'sc&#97;cr' + '&#46;' + '&#111;rg';document.getElementById('cloak2130fe606eec8fd276149b71c813180a').innerHTML += '<a ' + path + '\'' + prefix + ':' + addy2130fe606eec8fd276149b71c813180a + '\'>'+addy_text2130fe606eec8fd276149b71c813180a+'';
		
DTSTAMP:20260424T173407
DTSTART;TZID=Europe/London:20221217T140000
DTEND;TZID=Europe/London:20221217T160000
SEQUENCE:0
TRANSP:OPAQUE
END:VEVENT
END:VCALENDAR