BEGIN:VCALENDAR
VERSION:2.0
PRODID:-//jEvents 2.0 for Joomla//EN
CALSCALE:GREGORIAN
METHOD:PUBLISH
BEGIN:VTIMEZONE
TZID:Europe/London
BEGIN:STANDARD
DTSTART:20211031T010000
RDATE:20220327T020000
TZOFFSETFROM:+0100
TZOFFSETTO:+0000
TZNAME:Europe/London GMT
END:STANDARD
BEGIN:STANDARD
DTSTART:20221030T010000
RDATE:20230326T020000
TZOFFSETFROM:+0100
TZOFFSETTO:+0000
TZNAME:Europe/London GMT
END:STANDARD
BEGIN:STANDARD
DTSTART:20231029T010000
RDATE:20240331T020000
TZOFFSETFROM:+0100
TZOFFSETTO:+0000
TZNAME:Europe/London GMT
END:STANDARD
BEGIN:STANDARD
DTSTART:20241027T010000
RDATE:20250330T020000
TZOFFSETFROM:+0100
TZOFFSETTO:+0000
TZNAME:Europe/London GMT
END:STANDARD
BEGIN:STANDARD
DTSTART:20251026T010000
RDATE:20260329T020000
TZOFFSETFROM:+0100
TZOFFSETTO:+0000
TZNAME:Europe/London GMT
END:STANDARD
BEGIN:STANDARD
DTSTART:20261025T010000
RDATE:20270328T020000
TZOFFSETFROM:+0100
TZOFFSETTO:+0000
TZNAME:Europe/London GMT
END:STANDARD
BEGIN:STANDARD
DTSTART:20271031T010000
RDATE:20280326T020000
TZOFFSETFROM:+0100
TZOFFSETTO:+0000
TZNAME:Europe/London GMT
END:STANDARD
BEGIN:STANDARD
DTSTART:20281029T010000
RDATE:20290325T020000
TZOFFSETFROM:+0100
TZOFFSETTO:+0000
TZNAME:Europe/London GMT
END:STANDARD
BEGIN:STANDARD
DTSTART:20291028T010000
RDATE:20300331T020000
TZOFFSETFROM:+0100
TZOFFSETTO:+0000
TZNAME:Europe/London GMT
END:STANDARD
BEGIN:STANDARD
DTSTART:20301027T010000
RDATE:20310330T020000
TZOFFSETFROM:+0100
TZOFFSETTO:+0000
TZNAME:Europe/London GMT
END:STANDARD
BEGIN:DAYLIGHT
DTSTART:20210909T103000
RDATE:20211031T010000
TZOFFSETFROM:+0000
TZOFFSETTO:+0100
TZNAME:Europe/London BST
END:DAYLIGHT
BEGIN:DAYLIGHT
DTSTART:20220327T020000
RDATE:20221030T010000
TZOFFSETFROM:+0000
TZOFFSETTO:+0100
TZNAME:Europe/London BST
END:DAYLIGHT
BEGIN:DAYLIGHT
DTSTART:20230326T020000
RDATE:20231029T010000
TZOFFSETFROM:+0000
TZOFFSETTO:+0100
TZNAME:Europe/London BST
END:DAYLIGHT
BEGIN:DAYLIGHT
DTSTART:20240331T020000
RDATE:20241027T010000
TZOFFSETFROM:+0000
TZOFFSETTO:+0100
TZNAME:Europe/London BST
END:DAYLIGHT
BEGIN:DAYLIGHT
DTSTART:20250330T020000
RDATE:20251026T010000
TZOFFSETFROM:+0000
TZOFFSETTO:+0100
TZNAME:Europe/London BST
END:DAYLIGHT
BEGIN:DAYLIGHT
DTSTART:20260329T020000
RDATE:20261025T010000
TZOFFSETFROM:+0000
TZOFFSETTO:+0100
TZNAME:Europe/London BST
END:DAYLIGHT
BEGIN:DAYLIGHT
DTSTART:20270328T020000
RDATE:20271031T010000
TZOFFSETFROM:+0000
TZOFFSETTO:+0100
TZNAME:Europe/London BST
END:DAYLIGHT
BEGIN:DAYLIGHT
DTSTART:20280326T020000
RDATE:20281029T010000
TZOFFSETFROM:+0000
TZOFFSETTO:+0100
TZNAME:Europe/London BST
END:DAYLIGHT
BEGIN:DAYLIGHT
DTSTART:20290325T020000
RDATE:20291028T010000
TZOFFSETFROM:+0000
TZOFFSETTO:+0100
TZNAME:Europe/London BST
END:DAYLIGHT
BEGIN:DAYLIGHT
DTSTART:20300331T020000
RDATE:20301027T010000
TZOFFSETFROM:+0000
TZOFFSETTO:+0100
TZNAME:Europe/London BST
END:DAYLIGHT
END:VTIMEZONE
BEGIN:VEVENT
UID:d0e537e5f2c5b5dfc79f7a08a9af780f
CATEGORIES:West
CREATED:20220809T100332
SUMMARY:MONTHLY GET TOGETHER - CANCELLED
LOCATION: 
URL;VALUE=URI:https://scacr.org/news-events/calendar/1001/monthly-get-together-cancelled?
 tmpl=component
DESCRIPTION:<p>Due to the passing of our Queen and the commitments required for ringers
 , and availability of muffles - it has been decided to cancel both the towe
 r meets tomorrow.&nbsp; Apologies for any inconvenience caused but look for
 ward to have the opportunity again may be in the spring!! Any queries conta
 ct <span id="cloakf3dd6db3168fb280fd49428bc7c83d70">This email address is b
 eing protected from spambots. You need JavaScript enabled to view it.</span
 ><script type='text/javascript'>
				document.getElementById('cloakf3dd6db3
 168fb280fd49428bc7c83d70').innerHTML = '';
				var prefix = '&#109;a' + 'i&
 #108;' + '&#116;o';
				var path = 'hr' + 'ef' + '=';
				var addyf3dd6db31
 68fb280fd49428bc7c83d70 = 's&#101;c-w&#101;st' + '&#64;';
				addyf3dd6db31
 68fb280fd49428bc7c83d70 = addyf3dd6db3168fb280fd49428bc7c83d70 + 'sc&#97;cr
 ' + '&#46;' + 'c&#111;' + '&#46;' + '&#117;k';
				var addy_textf3dd6db3168
 fb280fd49428bc7c83d70 = 's&#101;c-w&#101;st@sc&#97;cr.';document.getElement
 ById('cloakf3dd6db3168fb280fd49428bc7c83d70').innerHTML += '<a ' + path + '
 \'' + prefix + ':' + addyf3dd6db3168fb280fd49428bc7c83d70 + '\'>'+addy_text
 f3dd6db3168fb280fd49428bc7c83d70+'<\/a>';
		</script>org</p><p>&nbsp;</p><p
 >&nbsp;</p><p>&nbsp;</p><p>&nbsp;</p><p>&nbsp;</p><p>&nbsp;</p><p>&nbsp;</p
 ><p>&nbsp;</p><p>&nbsp;</p><p>&nbsp;Any queries contact Janice on</p><p><sp
 an style="caret-color: auto;"><span id="cloak811172c395c7c88f128c6dc36dea2d
 93">This email address is being protected from spambots. You need JavaScrip
 t enabled to view it.</span><script type='text/javascript'>
				document.ge
 tElementById('cloak811172c395c7c88f128c6dc36dea2d93').innerHTML = '';
				v
 ar prefix = '&#109;a' + 'i&#108;' + '&#116;o';
				var path = 'hr' + 'ef' +
  '=';
				var addy811172c395c7c88f128c6dc36dea2d93 = 's&#101;c-w&#101;st' +
  '&#64;';
				addy811172c395c7c88f128c6dc36dea2d93 = addy811172c395c7c88f12
 8c6dc36dea2d93 + 'sc&#97;cr' + '&#46;' + '&#111;rg';
				var addy_text81117
 2c395c7c88f128c6dc36dea2d93 = 's&#101;c-w&#101;st' + '&#64;' + 'sc&#97;cr' 
 + '&#46;' + '&#111;rg';document.getElementById('cloak811172c395c7c88f128c6d
 c36dea2d93').innerHTML += '<a ' + path + '\'' + prefix + ':' + addy811172c3
 95c7c88f128c6dc36dea2d93 + '\'>'+addy_text811172c395c7c88f128c6dc36dea2d93+
 '<\/a>';
		</script></span></p> <a href="https://scacr.org/news-events/cale
 ndar/1001/monthly-get-together-cancelled?tmpl=component">This event was imp
 orted from: https://scacr.org/news-events/calendar/1001/monthly-get-togethe
 r-cancelled?tmpl=component</a>CONTACT:This email address is being protected from spambots. You need JavaScript enabled to view it.
				document.getElementById('cloak992cc85268f345176fd2fbc8e8c1f0a7').innerHTML = '';
				var prefix = '&#109;a' + 'i&#108;' + '&#116;o';
				var path = 'hr' + 'ef' + '=';
				var addy992cc85268f345176fd2fbc8e8c1f0a7 = 's&#101;c-w&#101;st' + '&#64;';
				addy992cc85268f345176fd2fbc8e8c1f0a7 = addy992cc85268f345176fd2fbc8e8c1f0a7 + 'sc&#97;cr' + '&#46;' + '&#111;rg';
				var addy_text992cc85268f345176fd2fbc8e8c1f0a7 = 's&#101;c-w&#101;st' + '&#64;' + 'sc&#97;cr' + '&#46;' + '&#111;rg';document.getElementById('cloak992cc85268f345176fd2fbc8e8c1f0a7').innerHTML += '<a ' + path + '\'' + prefix + ':' + addy992cc85268f345176fd2fbc8e8c1f0a7 + '\'>'+addy_text992cc85268f345176fd2fbc8e8c1f0a7+'';
		
X-EXTRAINFO: 
DTSTAMP:20260425T005802
DTSTART;TZID=Europe/London:20220910T103000
DTEND;TZID=Europe/London:20220910T133000
SEQUENCE:0
TRANSP:OPAQUE
END:VEVENT
END:VCALENDAR