BEGIN:VCALENDAR
VERSION:2.0
PRODID:-//jEvents 2.0 for Joomla//EN
CALSCALE:GREGORIAN
METHOD:PUBLISH
BEGIN:VTIMEZONE
TZID:Europe/London
BEGIN:STANDARD
DTSTART:20211031T010000
RDATE:20220327T020000
TZOFFSETFROM:+0100
TZOFFSETTO:+0000
TZNAME:Europe/London GMT
END:STANDARD
BEGIN:STANDARD
DTSTART:20221030T010000
RDATE:20230326T020000
TZOFFSETFROM:+0100
TZOFFSETTO:+0000
TZNAME:Europe/London GMT
END:STANDARD
BEGIN:STANDARD
DTSTART:20231029T010000
RDATE:20240331T020000
TZOFFSETFROM:+0100
TZOFFSETTO:+0000
TZNAME:Europe/London GMT
END:STANDARD
BEGIN:STANDARD
DTSTART:20241027T010000
RDATE:20250330T020000
TZOFFSETFROM:+0100
TZOFFSETTO:+0000
TZNAME:Europe/London GMT
END:STANDARD
BEGIN:STANDARD
DTSTART:20251026T010000
RDATE:20260329T020000
TZOFFSETFROM:+0100
TZOFFSETTO:+0000
TZNAME:Europe/London GMT
END:STANDARD
BEGIN:STANDARD
DTSTART:20261025T010000
RDATE:20270328T020000
TZOFFSETFROM:+0100
TZOFFSETTO:+0000
TZNAME:Europe/London GMT
END:STANDARD
BEGIN:STANDARD
DTSTART:20271031T010000
RDATE:20280326T020000
TZOFFSETFROM:+0100
TZOFFSETTO:+0000
TZNAME:Europe/London GMT
END:STANDARD
BEGIN:STANDARD
DTSTART:20281029T010000
RDATE:20290325T020000
TZOFFSETFROM:+0100
TZOFFSETTO:+0000
TZNAME:Europe/London GMT
END:STANDARD
BEGIN:STANDARD
DTSTART:20291028T010000
RDATE:20300331T020000
TZOFFSETFROM:+0100
TZOFFSETTO:+0000
TZNAME:Europe/London GMT
END:STANDARD
BEGIN:STANDARD
DTSTART:20301027T010000
RDATE:20310330T020000
TZOFFSETFROM:+0100
TZOFFSETTO:+0000
TZNAME:Europe/London GMT
END:STANDARD
BEGIN:DAYLIGHT
DTSTART:20210930T093000
RDATE:20211031T010000
TZOFFSETFROM:+0000
TZOFFSETTO:+0100
TZNAME:Europe/London BST
END:DAYLIGHT
BEGIN:DAYLIGHT
DTSTART:20220327T020000
RDATE:20221030T010000
TZOFFSETFROM:+0000
TZOFFSETTO:+0100
TZNAME:Europe/London BST
END:DAYLIGHT
BEGIN:DAYLIGHT
DTSTART:20230326T020000
RDATE:20231029T010000
TZOFFSETFROM:+0000
TZOFFSETTO:+0100
TZNAME:Europe/London BST
END:DAYLIGHT
BEGIN:DAYLIGHT
DTSTART:20240331T020000
RDATE:20241027T010000
TZOFFSETFROM:+0000
TZOFFSETTO:+0100
TZNAME:Europe/London BST
END:DAYLIGHT
BEGIN:DAYLIGHT
DTSTART:20250330T020000
RDATE:20251026T010000
TZOFFSETFROM:+0000
TZOFFSETTO:+0100
TZNAME:Europe/London BST
END:DAYLIGHT
BEGIN:DAYLIGHT
DTSTART:20260329T020000
RDATE:20261025T010000
TZOFFSETFROM:+0000
TZOFFSETTO:+0100
TZNAME:Europe/London BST
END:DAYLIGHT
BEGIN:DAYLIGHT
DTSTART:20270328T020000
RDATE:20271031T010000
TZOFFSETFROM:+0000
TZOFFSETTO:+0100
TZNAME:Europe/London BST
END:DAYLIGHT
BEGIN:DAYLIGHT
DTSTART:20280326T020000
RDATE:20281029T010000
TZOFFSETFROM:+0000
TZOFFSETTO:+0100
TZNAME:Europe/London BST
END:DAYLIGHT
BEGIN:DAYLIGHT
DTSTART:20290325T020000
RDATE:20291028T010000
TZOFFSETFROM:+0000
TZOFFSETTO:+0100
TZNAME:Europe/London BST
END:DAYLIGHT
BEGIN:DAYLIGHT
DTSTART:20300331T020000
RDATE:20301027T010000
TZOFFSETFROM:+0000
TZOFFSETTO:+0100
TZNAME:Europe/London BST
END:DAYLIGHT
END:VTIMEZONE
BEGIN:VEVENT
UID:adefadcc8a7c939d8fc8cc58c025a47f
CATEGORIES:West
CREATED:20220809T104721
SUMMARY:Beginners & Improvers Practice
LOCATION:St Mary's Washington
URL;VALUE=URI:https://scacr.org/news-events/calendar/1010/beginners-improvers-practice?tm
 pl=component
DESCRIPTION:A great opportunity to ring on this ground floor tower with a supportive ba
 nd.  This is a regular monthly event.  Refreshments are also provided. \nIt
  is important that you contact Christine Butterfeld on 01903 872623 so that
  she can monitor numbers.  E mail This email address is being protected fro
 m spambots. You need JavaScript enabled to view it.
				document.getElement
 ById('cloak0637a7e9bdcb5b5a9bfb074da2fa16db').innerHTML = '';
				var prefi
 x = '&#109;a' + 'i&#108;' + '&#116;o';
				var path = 'hr' + 'ef' + '=';
		
 		var addy0637a7e9bdcb5b5a9bfb074da2fa16db = 's&#101;c-w&#101;st' + '&#64;'
 ;
				addy0637a7e9bdcb5b5a9bfb074da2fa16db = addy0637a7e9bdcb5b5a9bfb074da2
 fa16db + 'sc&#97;cr' + '&#46;' + '&#111;rg';
				var addy_text0637a7e9bdcb5
 b5a9bfb074da2fa16db = 's&#101;c-w&#101;st' + '&#64;' + 'sc&#97;cr' + '&#46;
 ' + '&#111;rg';document.getElementById('cloak0637a7e9bdcb5b5a9bfb074da2fa16
 db').innerHTML += '<a ' + path + '\'' + prefix + ':' + addy0637a7e9bdcb5b5a
 9bfb074da2fa16db + '\'>'+addy_text0637a7e9bdcb5b5a9bfb074da2fa16db+'';
		 i
 f you require refreshments.\nIt is encouraged for masks to be worn.  Look f
 orward to seeing you there!\n This event was imported from: https://scacr.o
 rg/news-events/calendar/1010/beginners-improvers-practice?tmpl=component (h
 ttps://scacr.org/news-events/calendar/1010/beginners-improvers-practice?tmp
 l=component)
X-ALT-DESC;FMTTYPE=text/html:<p>A great opportunity to ring on this ground floor tower with a supportive
  band.&nbsp; This is a regular monthly event.&nbsp; Refreshments are also p
 rovided.&nbsp;</p><p>It is important that you contact Christine Butterfeld 
 on 01903 872623 so that she can monitor numbers.&nbsp; E mail <span id="clo
 ak0637a7e9bdcb5b5a9bfb074da2fa16db">This email address is being protected f
 rom spambots. You need JavaScript enabled to view it.</span><script type='t
 ext/javascript'>
				document.getElementById('cloak0637a7e9bdcb5b5a9bfb074d
 a2fa16db').innerHTML = '';
				var prefix = '&#109;a' + 'i&#108;' + '&#116;
 o';
				var path = 'hr' + 'ef' + '=';
				var addy0637a7e9bdcb5b5a9bfb074da
 2fa16db = 's&#101;c-w&#101;st' + '&#64;';
				addy0637a7e9bdcb5b5a9bfb074da
 2fa16db = addy0637a7e9bdcb5b5a9bfb074da2fa16db + 'sc&#97;cr' + '&#46;' + '&
 #111;rg';
				var addy_text0637a7e9bdcb5b5a9bfb074da2fa16db = 's&#101;c-w&#
 101;st' + '&#64;' + 'sc&#97;cr' + '&#46;' + '&#111;rg';document.getElementB
 yId('cloak0637a7e9bdcb5b5a9bfb074da2fa16db').innerHTML += '<a ' + path + '\
 '' + prefix + ':' + addy0637a7e9bdcb5b5a9bfb074da2fa16db + '\'>'+addy_text0
 637a7e9bdcb5b5a9bfb074da2fa16db+'<\/a>';
		</script>&nbsp;if you require re
 freshments.</p><p>It is encouraged for masks to be worn.&nbsp; Look forward
  to seeing you there!</p> <a href="https://scacr.org/news-events/calendar/1
 010/beginners-improvers-practice?tmpl=component">This event was imported fr
 om: https://scacr.org/news-events/calendar/1010/beginners-improvers-practic
 e?tmpl=component</a>CONTACT:Christine Butterfield 01903 872623
DTSTAMP:20260424T173404
DTSTART;TZID=Europe/London:20221001T093000
DTEND;TZID=Europe/London:20221001T120000
SEQUENCE:0
TRANSP:OPAQUE
END:VEVENT
END:VCALENDAR