BEGIN:VCALENDAR
VERSION:2.0
PRODID:-//jEvents 2.0 for Joomla//EN
CALSCALE:GREGORIAN
METHOD:PUBLISH
BEGIN:VTIMEZONE
TZID:Europe/London
BEGIN:STANDARD
DTSTART:20211031T010000
RDATE:20220327T020000
TZOFFSETFROM:+0100
TZOFFSETTO:+0000
TZNAME:Europe/London GMT
END:STANDARD
BEGIN:STANDARD
DTSTART:20221030T010000
RDATE:20230326T020000
TZOFFSETFROM:+0100
TZOFFSETTO:+0000
TZNAME:Europe/London GMT
END:STANDARD
BEGIN:STANDARD
DTSTART:20231029T010000
RDATE:20240331T020000
TZOFFSETFROM:+0100
TZOFFSETTO:+0000
TZNAME:Europe/London GMT
END:STANDARD
BEGIN:STANDARD
DTSTART:20241027T010000
RDATE:20250330T020000
TZOFFSETFROM:+0100
TZOFFSETTO:+0000
TZNAME:Europe/London GMT
END:STANDARD
BEGIN:STANDARD
DTSTART:20251026T010000
RDATE:20260329T020000
TZOFFSETFROM:+0100
TZOFFSETTO:+0000
TZNAME:Europe/London GMT
END:STANDARD
BEGIN:STANDARD
DTSTART:20261025T010000
RDATE:20270328T020000
TZOFFSETFROM:+0100
TZOFFSETTO:+0000
TZNAME:Europe/London GMT
END:STANDARD
BEGIN:STANDARD
DTSTART:20271031T010000
RDATE:20280326T020000
TZOFFSETFROM:+0100
TZOFFSETTO:+0000
TZNAME:Europe/London GMT
END:STANDARD
BEGIN:STANDARD
DTSTART:20281029T010000
RDATE:20290325T020000
TZOFFSETFROM:+0100
TZOFFSETTO:+0000
TZNAME:Europe/London GMT
END:STANDARD
BEGIN:STANDARD
DTSTART:20291028T010000
RDATE:20300331T020000
TZOFFSETFROM:+0100
TZOFFSETTO:+0000
TZNAME:Europe/London GMT
END:STANDARD
BEGIN:STANDARD
DTSTART:20301027T010000
RDATE:20310330T020000
TZOFFSETFROM:+0100
TZOFFSETTO:+0000
TZNAME:Europe/London GMT
END:STANDARD
BEGIN:DAYLIGHT
DTSTART:20211021T100000
RDATE:20211031T010000
TZOFFSETFROM:+0000
TZOFFSETTO:+0100
TZNAME:Europe/London BST
END:DAYLIGHT
BEGIN:DAYLIGHT
DTSTART:20220327T020000
RDATE:20221030T010000
TZOFFSETFROM:+0000
TZOFFSETTO:+0100
TZNAME:Europe/London BST
END:DAYLIGHT
BEGIN:DAYLIGHT
DTSTART:20230326T020000
RDATE:20231029T010000
TZOFFSETFROM:+0000
TZOFFSETTO:+0100
TZNAME:Europe/London BST
END:DAYLIGHT
BEGIN:DAYLIGHT
DTSTART:20240331T020000
RDATE:20241027T010000
TZOFFSETFROM:+0000
TZOFFSETTO:+0100
TZNAME:Europe/London BST
END:DAYLIGHT
BEGIN:DAYLIGHT
DTSTART:20250330T020000
RDATE:20251026T010000
TZOFFSETFROM:+0000
TZOFFSETTO:+0100
TZNAME:Europe/London BST
END:DAYLIGHT
BEGIN:DAYLIGHT
DTSTART:20260329T020000
RDATE:20261025T010000
TZOFFSETFROM:+0000
TZOFFSETTO:+0100
TZNAME:Europe/London BST
END:DAYLIGHT
BEGIN:DAYLIGHT
DTSTART:20270328T020000
RDATE:20271031T010000
TZOFFSETFROM:+0000
TZOFFSETTO:+0100
TZNAME:Europe/London BST
END:DAYLIGHT
BEGIN:DAYLIGHT
DTSTART:20280326T020000
RDATE:20281029T010000
TZOFFSETFROM:+0000
TZOFFSETTO:+0100
TZNAME:Europe/London BST
END:DAYLIGHT
BEGIN:DAYLIGHT
DTSTART:20290325T020000
RDATE:20291028T010000
TZOFFSETFROM:+0000
TZOFFSETTO:+0100
TZNAME:Europe/London BST
END:DAYLIGHT
BEGIN:DAYLIGHT
DTSTART:20300331T020000
RDATE:20301027T010000
TZOFFSETFROM:+0000
TZOFFSETTO:+0100
TZNAME:Europe/London BST
END:DAYLIGHT
END:VTIMEZONE
BEGIN:VEVENT
UID:73a5b4a32d21e06ab4898a15fb109c62
CATEGORIES:South
CREATED:20220913T100352
SUMMARY:New date for Cambridge Practice
LOCATION:Hurstpierpoint
URL;VALUE=URI:https://scacr.org/news-events/calendar/1016/new-date-for-cambridge-practice
 ?tmpl=component
DESCRIPTION:Postponed Cambridge practice previously advertised for the 17th September 2
 022. \nIt would be nice to welcome ringers who wish to practice, learn or h
 elp others with Cambridge either minor or major. \nHurstpierpoint is an eas
 y going ring of eight bells.  The village has long and short stay parking s
 ections. The long stay bit is free but often full(ish) at weekends. The sho
 rt stay bit (3 hrs max) requires a Mid Sussex parking disc (£1), available 
 from Jantons the Newsagents in the High Street, roughly opposite the pedest
 rian exit from the car park into the High Street.\nPlease let Richard Neal 
 Southern District Secretary (mailto: (mailto:sec-south@scacr.org)This email
  address is being protected from spambots. You need JavaScript enabled to v
 iew it.
				document.getElementById('cloakd3c1d3a310a3edc933666fa89d1354d5'
 ).innerHTML = '';
				var prefix = '&#109;a' + 'i&#108;' + '&#116;o';
				v
 ar path = 'hr' + 'ef' + '=';
				var addyd3c1d3a310a3edc933666fa89d1354d5 =
  's&#101;c-s&#111;&#117;th' + '&#64;';
				addyd3c1d3a310a3edc933666fa89d13
 54d5 = addyd3c1d3a310a3edc933666fa89d1354d5 + 'sc&#97;cr' + '&#46;' + '&#11
 1;rg';
				var addy_textd3c1d3a310a3edc933666fa89d1354d5 = 's&#101;c-s&#111
 ;&#117;th' + '&#64;' + 'sc&#97;cr' + '&#46;' + '&#111;rg';document.getEleme
 ntById('cloakd3c1d3a310a3edc933666fa89d1354d5').innerHTML += '<a ' + path +
  '\'' + prefix + ':' + addyd3c1d3a310a3edc933666fa89d1354d5 + '\'>'+addy_te
 xtd3c1d3a310a3edc933666fa89d1354d5+'';
		) know if you would like to attend
 .\n This event was imported from: https://scacr.org/news-events/calendar/10
 16/new-date-for-cambridge-practice?tmpl=component (https://scacr.org/news-e
 vents/calendar/1016/new-date-for-cambridge-practice?tmpl=component)
X-ALT-DESC;FMTTYPE=text/html:<p>Postponed Cambridge practice previously advertised for the 17th Septembe
 r 2022.&nbsp;</p><p><em>It would be nice to welcome ringers who wish to pra
 ctice, learn or help others with Cambridge either minor or major. </em></p>
 <p><em>Hurstpierpoint is an easy going ring of eight bells.&nbsp; The villa
 ge&nbsp;has long and short stay parking sections. The long stay&nbsp;bit is
  free but often full(ish) at weekends. The short stay bit (3 hrs&nbsp;max) 
 requires a Mid Sussex parking disc (£1), available from Jantons the&nbsp;Ne
 wsagents in the High Street, roughly opposite the pedestrian exit from&nbsp
 ;the car park into the High Street.</em></p><p><em>Please let Richard Neal 
 Southern District Secretary (mailto:<a href="mailto:sec-south@scacr.org"></
 a><strong><span id="cloakd3c1d3a310a3edc933666fa89d1354d5">This email addre
 ss is being protected from spambots. You need JavaScript enabled to view it
 .</span><script type='text/javascript'>
				document.getElementById('cloakd
 3c1d3a310a3edc933666fa89d1354d5').innerHTML = '';
				var prefix = '&#109;a
 ' + 'i&#108;' + '&#116;o';
				var path = 'hr' + 'ef' + '=';
				var addyd3
 c1d3a310a3edc933666fa89d1354d5 = 's&#101;c-s&#111;&#117;th' + '&#64;';
				
 addyd3c1d3a310a3edc933666fa89d1354d5 = addyd3c1d3a310a3edc933666fa89d1354d5
  + 'sc&#97;cr' + '&#46;' + '&#111;rg';
				var addy_textd3c1d3a310a3edc9336
 66fa89d1354d5 = 's&#101;c-s&#111;&#117;th' + '&#64;' + 'sc&#97;cr' + '&#46;
 ' + '&#111;rg';document.getElementById('cloakd3c1d3a310a3edc933666fa89d1354
 d5').innerHTML += '<a ' + path + '\'' + prefix + ':' + addyd3c1d3a310a3edc9
 33666fa89d1354d5 + '\'>'+addy_textd3c1d3a310a3edc933666fa89d1354d5+'<\/a>';
 
		</script></strong>) know if you would like to attend.</em></p> <a href="
 https://scacr.org/news-events/calendar/1016/new-date-for-cambridge-practice
 ?tmpl=component">This event was imported from: https://scacr.org/news-event
 s/calendar/1016/new-date-for-cambridge-practice?tmpl=component</a>CONTACT:Richard Neal (District Secretary)  This email address is being protected from spambots. You need JavaScript enabled to view it.
				document.getElementById('cloak276082918c59f679bbf970c1fe116baf').innerHTML = '';
				var prefix = '&#109;a' + 'i&#108;' + '&#116;o';
				var path = 'hr' + 'ef' + '=';
				var addy276082918c59f679bbf970c1fe116baf = 's&#101;c-s&#111;&#117;th' + '&#64;';
				addy276082918c59f679bbf970c1fe116baf = addy276082918c59f679bbf970c1fe116baf + 'sc&#97;cr' + '&#46;' + '&#111;rg';
				var addy_text276082918c59f679bbf970c1fe116baf = 's&#101;c-s&#111;&#117;th' + '&#64;' + 'sc&#97;cr' + '&#46;' + '&#111;rg';document.getElementById('cloak276082918c59f679bbf970c1fe116baf').innerHTML += '<a ' + path + '\'' + prefix + ':' + addy276082918c59f679bbf970c1fe116baf + '\'>'+addy_text276082918c59f679bbf970c1fe116baf+'';
		
DTSTAMP:20260424T173408
DTSTART;TZID=Europe/London:20221022T100000
DTEND;TZID=Europe/London:20221022T120000
SEQUENCE:0
TRANSP:OPAQUE
END:VEVENT
END:VCALENDAR