BEGIN:VCALENDAR
VERSION:2.0
PRODID:-//jEvents 2.0 for Joomla//EN
CALSCALE:GREGORIAN
METHOD:PUBLISH
BEGIN:VTIMEZONE
TZID:Europe/London
BEGIN:STANDARD
DTSTART:20211209T144500
RDATE:20220327T020000
TZOFFSETFROM:+0100
TZOFFSETTO:+0000
TZNAME:Europe/London GMT
END:STANDARD
BEGIN:STANDARD
DTSTART:20221030T010000
RDATE:20230326T020000
TZOFFSETFROM:+0100
TZOFFSETTO:+0000
TZNAME:Europe/London GMT
END:STANDARD
BEGIN:STANDARD
DTSTART:20231029T010000
RDATE:20240331T020000
TZOFFSETFROM:+0100
TZOFFSETTO:+0000
TZNAME:Europe/London GMT
END:STANDARD
BEGIN:STANDARD
DTSTART:20241027T010000
RDATE:20250330T020000
TZOFFSETFROM:+0100
TZOFFSETTO:+0000
TZNAME:Europe/London GMT
END:STANDARD
BEGIN:STANDARD
DTSTART:20251026T010000
RDATE:20260329T020000
TZOFFSETFROM:+0100
TZOFFSETTO:+0000
TZNAME:Europe/London GMT
END:STANDARD
BEGIN:STANDARD
DTSTART:20261025T010000
RDATE:20270328T020000
TZOFFSETFROM:+0100
TZOFFSETTO:+0000
TZNAME:Europe/London GMT
END:STANDARD
BEGIN:STANDARD
DTSTART:20271031T010000
RDATE:20280326T020000
TZOFFSETFROM:+0100
TZOFFSETTO:+0000
TZNAME:Europe/London GMT
END:STANDARD
BEGIN:STANDARD
DTSTART:20281029T010000
RDATE:20290325T020000
TZOFFSETFROM:+0100
TZOFFSETTO:+0000
TZNAME:Europe/London GMT
END:STANDARD
BEGIN:STANDARD
DTSTART:20291028T010000
RDATE:20300331T020000
TZOFFSETFROM:+0100
TZOFFSETTO:+0000
TZNAME:Europe/London GMT
END:STANDARD
BEGIN:STANDARD
DTSTART:20301027T010000
RDATE:20310330T020000
TZOFFSETFROM:+0100
TZOFFSETTO:+0000
TZNAME:Europe/London GMT
END:STANDARD
BEGIN:DAYLIGHT
DTSTART:20220327T020000
RDATE:20221030T010000
TZOFFSETFROM:+0000
TZOFFSETTO:+0100
TZNAME:Europe/London BST
END:DAYLIGHT
BEGIN:DAYLIGHT
DTSTART:20230326T020000
RDATE:20231029T010000
TZOFFSETFROM:+0000
TZOFFSETTO:+0100
TZNAME:Europe/London BST
END:DAYLIGHT
BEGIN:DAYLIGHT
DTSTART:20240331T020000
RDATE:20241027T010000
TZOFFSETFROM:+0000
TZOFFSETTO:+0100
TZNAME:Europe/London BST
END:DAYLIGHT
BEGIN:DAYLIGHT
DTSTART:20250330T020000
RDATE:20251026T010000
TZOFFSETFROM:+0000
TZOFFSETTO:+0100
TZNAME:Europe/London BST
END:DAYLIGHT
BEGIN:DAYLIGHT
DTSTART:20260329T020000
RDATE:20261025T010000
TZOFFSETFROM:+0000
TZOFFSETTO:+0100
TZNAME:Europe/London BST
END:DAYLIGHT
BEGIN:DAYLIGHT
DTSTART:20270328T020000
RDATE:20271031T010000
TZOFFSETFROM:+0000
TZOFFSETTO:+0100
TZNAME:Europe/London BST
END:DAYLIGHT
BEGIN:DAYLIGHT
DTSTART:20280326T020000
RDATE:20281029T010000
TZOFFSETFROM:+0000
TZOFFSETTO:+0100
TZNAME:Europe/London BST
END:DAYLIGHT
BEGIN:DAYLIGHT
DTSTART:20290325T020000
RDATE:20291028T010000
TZOFFSETFROM:+0000
TZOFFSETTO:+0100
TZNAME:Europe/London BST
END:DAYLIGHT
BEGIN:DAYLIGHT
DTSTART:20300331T020000
RDATE:20301027T010000
TZOFFSETFROM:+0000
TZOFFSETTO:+0100
TZNAME:Europe/London BST
END:DAYLIGHT
END:VTIMEZONE
BEGIN:VEVENT
UID:dfdbedc6be954ea6be548cd9d82b555e
CATEGORIES:West
CREATED:20221007T131201
SUMMARY:Ringing, Carol Service and Tea!
LOCATION:St Margaret's Church\, Angmering
URL;VALUE=URI:https://scacr.org/news-events/calendar/1028/ringing-carol-service-and-tea?t
 mpl=component
DESCRIPTION:<p>Ringing on 6 bells followed by a carol service and then tea and cake!!&n
 bsp; Perfect for getting into the Christmas spirit!!&nbsp; Please ensure yo
 u contact <span id="cloakacb90f9a316c7a909fae54b08f3d1bfa">This email addre
 ss is being protected from spambots. You need JavaScript enabled to view it
 .</span><script type='text/javascript'>
				document.getElementById('cloaka
 cb90f9a316c7a909fae54b08f3d1bfa').innerHTML = '';
				var prefix = '&#109;a
 ' + 'i&#108;' + '&#116;o';
				var path = 'hr' + 'ef' + '=';
				var addyac
 b90f9a316c7a909fae54b08f3d1bfa = 's&#101;c-w&#101;st' + '&#64;';
				addyac
 b90f9a316c7a909fae54b08f3d1bfa = addyacb90f9a316c7a909fae54b08f3d1bfa + 'sc
 &#97;cr' + '&#46;' + '&#111;rg';
				var addy_textacb90f9a316c7a909fae54b08
 f3d1bfa = 's&#101;c-w&#101;st' + '&#64;' + 'sc&#97;cr' + '&#46;' + '&#111;r
 g';document.getElementById('cloakacb90f9a316c7a909fae54b08f3d1bfa').innerHT
 ML += '<a ' + path + '\'' + prefix + ':' + addyacb90f9a316c7a909fae54b08f3d
 1bfa + '\'>'+addy_textacb90f9a316c7a909fae54b08f3d1bfa+'<\/a>';
		</script>
 &nbsp; if requiring tea and cake by the 8th December!</p> <a href="https://
 scacr.org/news-events/calendar/1028/ringing-carol-service-and-tea?tmpl=comp
 onent">This event was imported from: https://scacr.org/news-events/calendar
 /1028/ringing-carol-service-and-tea?tmpl=component</a>CONTACT:This email address is being protected from spambots. You need JavaScript enabled to view it.
				document.getElementById('cloakd9326879526251be29211805729517ab').innerHTML = '';
				var prefix = '&#109;a' + 'i&#108;' + '&#116;o';
				var path = 'hr' + 'ef' + '=';
				var addyd9326879526251be29211805729517ab = 's&#101;c-w&#101;st' + '&#64;';
				addyd9326879526251be29211805729517ab = addyd9326879526251be29211805729517ab + 'sc&#97;cr' + '&#46;' + '&#111;rg';
				var addy_textd9326879526251be29211805729517ab = 's&#101;c-w&#101;st' + '&#64;' + 'sc&#97;cr' + '&#46;' + '&#111;rg';document.getElementById('cloakd9326879526251be29211805729517ab').innerHTML += '<a ' + path + '\'' + prefix + ':' + addyd9326879526251be29211805729517ab + '\'>'+addy_textd9326879526251be29211805729517ab+'';
		
DTSTAMP:20260424T160536
DTSTART;TZID=Europe/London:20221210T144500
DTEND;TZID=Europe/London:20221210T173000
SEQUENCE:0
TRANSP:OPAQUE
END:VEVENT
END:VCALENDAR