BEGIN:VCALENDAR
VERSION:2.0
PRODID:-//jEvents 2.0 for Joomla//EN
CALSCALE:GREGORIAN
METHOD:PUBLISH
BEGIN:VTIMEZONE
TZID:Europe/London
BEGIN:STANDARD
DTSTART:20211104T140000
RDATE:20220327T020000
TZOFFSETFROM:+0100
TZOFFSETTO:+0000
TZNAME:Europe/London GMT
END:STANDARD
BEGIN:STANDARD
DTSTART:20221030T010000
RDATE:20230326T020000
TZOFFSETFROM:+0100
TZOFFSETTO:+0000
TZNAME:Europe/London GMT
END:STANDARD
BEGIN:STANDARD
DTSTART:20231029T010000
RDATE:20240331T020000
TZOFFSETFROM:+0100
TZOFFSETTO:+0000
TZNAME:Europe/London GMT
END:STANDARD
BEGIN:STANDARD
DTSTART:20241027T010000
RDATE:20250330T020000
TZOFFSETFROM:+0100
TZOFFSETTO:+0000
TZNAME:Europe/London GMT
END:STANDARD
BEGIN:STANDARD
DTSTART:20251026T010000
RDATE:20260329T020000
TZOFFSETFROM:+0100
TZOFFSETTO:+0000
TZNAME:Europe/London GMT
END:STANDARD
BEGIN:STANDARD
DTSTART:20261025T010000
RDATE:20270328T020000
TZOFFSETFROM:+0100
TZOFFSETTO:+0000
TZNAME:Europe/London GMT
END:STANDARD
BEGIN:STANDARD
DTSTART:20271031T010000
RDATE:20280326T020000
TZOFFSETFROM:+0100
TZOFFSETTO:+0000
TZNAME:Europe/London GMT
END:STANDARD
BEGIN:STANDARD
DTSTART:20281029T010000
RDATE:20290325T020000
TZOFFSETFROM:+0100
TZOFFSETTO:+0000
TZNAME:Europe/London GMT
END:STANDARD
BEGIN:STANDARD
DTSTART:20291028T010000
RDATE:20300331T020000
TZOFFSETFROM:+0100
TZOFFSETTO:+0000
TZNAME:Europe/London GMT
END:STANDARD
BEGIN:STANDARD
DTSTART:20301027T010000
RDATE:20310330T020000
TZOFFSETFROM:+0100
TZOFFSETTO:+0000
TZNAME:Europe/London GMT
END:STANDARD
BEGIN:DAYLIGHT
DTSTART:20220327T020000
RDATE:20221030T010000
TZOFFSETFROM:+0000
TZOFFSETTO:+0100
TZNAME:Europe/London BST
END:DAYLIGHT
BEGIN:DAYLIGHT
DTSTART:20230326T020000
RDATE:20231029T010000
TZOFFSETFROM:+0000
TZOFFSETTO:+0100
TZNAME:Europe/London BST
END:DAYLIGHT
BEGIN:DAYLIGHT
DTSTART:20240331T020000
RDATE:20241027T010000
TZOFFSETFROM:+0000
TZOFFSETTO:+0100
TZNAME:Europe/London BST
END:DAYLIGHT
BEGIN:DAYLIGHT
DTSTART:20250330T020000
RDATE:20251026T010000
TZOFFSETFROM:+0000
TZOFFSETTO:+0100
TZNAME:Europe/London BST
END:DAYLIGHT
BEGIN:DAYLIGHT
DTSTART:20260329T020000
RDATE:20261025T010000
TZOFFSETFROM:+0000
TZOFFSETTO:+0100
TZNAME:Europe/London BST
END:DAYLIGHT
BEGIN:DAYLIGHT
DTSTART:20270328T020000
RDATE:20271031T010000
TZOFFSETFROM:+0000
TZOFFSETTO:+0100
TZNAME:Europe/London BST
END:DAYLIGHT
BEGIN:DAYLIGHT
DTSTART:20280326T020000
RDATE:20281029T010000
TZOFFSETFROM:+0000
TZOFFSETTO:+0100
TZNAME:Europe/London BST
END:DAYLIGHT
BEGIN:DAYLIGHT
DTSTART:20290325T020000
RDATE:20291028T010000
TZOFFSETFROM:+0000
TZOFFSETTO:+0100
TZNAME:Europe/London BST
END:DAYLIGHT
BEGIN:DAYLIGHT
DTSTART:20300331T020000
RDATE:20301027T010000
TZOFFSETFROM:+0000
TZOFFSETTO:+0100
TZNAME:Europe/London BST
END:DAYLIGHT
END:VTIMEZONE
BEGIN:VEVENT
UID:b0042657ea69842fdd4b073df63c54dd
CATEGORIES:Other Event
CREATED:20221016T193243
SUMMARY:novices' 12-bell practice - helpers needed
LOCATION:East Grinstead
URL;VALUE=URI:https://scacr.org/news-events/calendar/1029/novices-12-bell-practice-helper
 s-needed?tmpl=component
DESCRIPTION:Vicky Chase (Training Team Leader) is looking for helpers for a novices' 12
 -bell session at East Grinstead on Saturday 5th November, 2-5 pm.  There wi
 ll be a break for coffee and cake!  Helpers who are experienced 12-bell rin
 gers who can form a steady band around learners who have no or little exper
 ience on 12 (for rounds and call changes) are needed - if you could help, p
 lease contact Vicky on This email address is being protected from spambots.
  You need JavaScript enabled to view it.
				document.getElementById('cloak
 095258dfc76b60dc9bad41318cbd64e0').innerHTML = '';
				var prefix = '&#109;
 a' + 'i&#108;' + '&#116;o';
				var path = 'hr' + 'ef' + '=';
				var addy0
 95258dfc76b60dc9bad41318cbd64e0 = 'tr&#97;&#105;n&#105;ng' + '&#64;';
				a
 ddy095258dfc76b60dc9bad41318cbd64e0 = addy095258dfc76b60dc9bad41318cbd64e0 
 + 'sc&#97;cr' + '&#46;' + '&#111;rg';
				var addy_text095258dfc76b60dc9bad
 41318cbd64e0 = 'tr&#97;&#105;n&#105;ng' + '&#64;' + 'sc&#97;cr' + '&#46;' +
  '&#111;rg';document.getElementById('cloak095258dfc76b60dc9bad41318cbd64e0'
 ).innerHTML += '<a ' + path + '\'' + prefix + ':' + addy095258dfc76b60dc9ba
 d41318cbd64e0 + '\'>'+addy_text095258dfc76b60dc9bad41318cbd64e0+'';
		.  \n
 Please note that all the learners' spaces for this session have all been fi
 lled.\n This event was imported from: https://scacr.org/news-events/calenda
 r/1029/novices-12-bell-practice-helpers-needed?tmpl=component (https://scac
 r.org/news-events/calendar/1029/novices-12-bell-practice-helpers-needed?tmp
 l=component)
X-ALT-DESC;FMTTYPE=text/html:<p>Vicky Chase (Training Team Leader) is looking for helpers for a novices'
  12-bell session at East Grinstead on Saturday 5th November, 2-5 pm.&nbsp; 
 There will be a break for coffee and cake!&nbsp; Helpers who are experience
 d 12-bell ringers who can form a steady band around learners who have no or
  little experience on 12 (for rounds and call changes) are needed - if you 
 could help, please contact Vicky on <span id="cloak095258dfc76b60dc9bad4131
 8cbd64e0">This email address is being protected from spambots. You need Jav
 aScript enabled to view it.</span><script type='text/javascript'>
				docum
 ent.getElementById('cloak095258dfc76b60dc9bad41318cbd64e0').innerHTML = '';
 
				var prefix = '&#109;a' + 'i&#108;' + '&#116;o';
				var path = 'hr' + 
 'ef' + '=';
				var addy095258dfc76b60dc9bad41318cbd64e0 = 'tr&#97;&#105;n&
 #105;ng' + '&#64;';
				addy095258dfc76b60dc9bad41318cbd64e0 = addy095258df
 c76b60dc9bad41318cbd64e0 + 'sc&#97;cr' + '&#46;' + '&#111;rg';
				var addy
 _text095258dfc76b60dc9bad41318cbd64e0 = 'tr&#97;&#105;n&#105;ng' + '&#64;' 
 + 'sc&#97;cr' + '&#46;' + '&#111;rg';document.getElementById('cloak095258df
 c76b60dc9bad41318cbd64e0').innerHTML += '<a ' + path + '\'' + prefix + ':' 
 + addy095258dfc76b60dc9bad41318cbd64e0 + '\'>'+addy_text095258dfc76b60dc9ba
 d41318cbd64e0+'<\/a>';
		</script>.&nbsp;&nbsp;</p><p>Please note that all 
 the learners' spaces for this session have all been filled.</p> <a href="ht
 tps://scacr.org/news-events/calendar/1029/novices-12-bell-practice-helpers-
 needed?tmpl=component">This event was imported from: https://scacr.org/news
 -events/calendar/1029/novices-12-bell-practice-helpers-needed?tmpl=componen
 t</a>CONTACT:This email address is being protected from spambots. You need JavaScript enabled to view it.
				document.getElementById('cloak2a3b9929658da9f82a0f4436eda66a9e').innerHTML = '';
				var prefix = '&#109;a' + 'i&#108;' + '&#116;o';
				var path = 'hr' + 'ef' + '=';
				var addy2a3b9929658da9f82a0f4436eda66a9e = 'tr&#97;&#105;n&#105;ng' + '&#64;';
				addy2a3b9929658da9f82a0f4436eda66a9e = addy2a3b9929658da9f82a0f4436eda66a9e + 'sc&#97;cr' + '&#46;' + '&#111;rg';
				var addy_text2a3b9929658da9f82a0f4436eda66a9e = 'tr&#97;&#105;n&#105;ng' + '&#64;' + 'sc&#97;cr' + '&#46;' + '&#111;rg';document.getElementById('cloak2a3b9929658da9f82a0f4436eda66a9e').innerHTML += '<a ' + path + '\'' + prefix + ':' + addy2a3b9929658da9f82a0f4436eda66a9e + '\'>'+addy_text2a3b9929658da9f82a0f4436eda66a9e+'';
		
DTSTAMP:20260424T173404
DTSTART;TZID=Europe/London:20221105T140000
DTEND;TZID=Europe/London:20221105T170000
SEQUENCE:0
TRANSP:OPAQUE
END:VEVENT
END:VCALENDAR