BEGIN:VCALENDAR
VERSION:2.0
PRODID:-//jEvents 2.0 for Joomla//EN
CALSCALE:GREGORIAN
METHOD:PUBLISH
BEGIN:VTIMEZONE
TZID:Europe/London
BEGIN:STANDARD
DTSTART:20220113T140000
RDATE:20220327T020000
TZOFFSETFROM:+0100
TZOFFSETTO:+0000
TZNAME:Europe/London GMT
END:STANDARD
BEGIN:STANDARD
DTSTART:20221030T010000
RDATE:20230326T020000
TZOFFSETFROM:+0100
TZOFFSETTO:+0000
TZNAME:Europe/London GMT
END:STANDARD
BEGIN:STANDARD
DTSTART:20231029T010000
RDATE:20240331T020000
TZOFFSETFROM:+0100
TZOFFSETTO:+0000
TZNAME:Europe/London GMT
END:STANDARD
BEGIN:STANDARD
DTSTART:20241027T010000
RDATE:20250330T020000
TZOFFSETFROM:+0100
TZOFFSETTO:+0000
TZNAME:Europe/London GMT
END:STANDARD
BEGIN:STANDARD
DTSTART:20251026T010000
RDATE:20260329T020000
TZOFFSETFROM:+0100
TZOFFSETTO:+0000
TZNAME:Europe/London GMT
END:STANDARD
BEGIN:STANDARD
DTSTART:20261025T010000
RDATE:20270328T020000
TZOFFSETFROM:+0100
TZOFFSETTO:+0000
TZNAME:Europe/London GMT
END:STANDARD
BEGIN:STANDARD
DTSTART:20271031T010000
RDATE:20280326T020000
TZOFFSETFROM:+0100
TZOFFSETTO:+0000
TZNAME:Europe/London GMT
END:STANDARD
BEGIN:STANDARD
DTSTART:20281029T010000
RDATE:20290325T020000
TZOFFSETFROM:+0100
TZOFFSETTO:+0000
TZNAME:Europe/London GMT
END:STANDARD
BEGIN:STANDARD
DTSTART:20291028T010000
RDATE:20300331T020000
TZOFFSETFROM:+0100
TZOFFSETTO:+0000
TZNAME:Europe/London GMT
END:STANDARD
BEGIN:STANDARD
DTSTART:20301027T010000
RDATE:20310330T020000
TZOFFSETFROM:+0100
TZOFFSETTO:+0000
TZNAME:Europe/London GMT
END:STANDARD
BEGIN:DAYLIGHT
DTSTART:20220327T020000
RDATE:20221030T010000
TZOFFSETFROM:+0000
TZOFFSETTO:+0100
TZNAME:Europe/London BST
END:DAYLIGHT
BEGIN:DAYLIGHT
DTSTART:20230326T020000
RDATE:20231029T010000
TZOFFSETFROM:+0000
TZOFFSETTO:+0100
TZNAME:Europe/London BST
END:DAYLIGHT
BEGIN:DAYLIGHT
DTSTART:20240331T020000
RDATE:20241027T010000
TZOFFSETFROM:+0000
TZOFFSETTO:+0100
TZNAME:Europe/London BST
END:DAYLIGHT
BEGIN:DAYLIGHT
DTSTART:20250330T020000
RDATE:20251026T010000
TZOFFSETFROM:+0000
TZOFFSETTO:+0100
TZNAME:Europe/London BST
END:DAYLIGHT
BEGIN:DAYLIGHT
DTSTART:20260329T020000
RDATE:20261025T010000
TZOFFSETFROM:+0000
TZOFFSETTO:+0100
TZNAME:Europe/London BST
END:DAYLIGHT
BEGIN:DAYLIGHT
DTSTART:20270328T020000
RDATE:20271031T010000
TZOFFSETFROM:+0000
TZOFFSETTO:+0100
TZNAME:Europe/London BST
END:DAYLIGHT
BEGIN:DAYLIGHT
DTSTART:20280326T020000
RDATE:20281029T010000
TZOFFSETFROM:+0000
TZOFFSETTO:+0100
TZNAME:Europe/London BST
END:DAYLIGHT
BEGIN:DAYLIGHT
DTSTART:20290325T020000
RDATE:20291028T010000
TZOFFSETFROM:+0000
TZOFFSETTO:+0100
TZNAME:Europe/London BST
END:DAYLIGHT
BEGIN:DAYLIGHT
DTSTART:20300331T020000
RDATE:20301027T010000
TZOFFSETFROM:+0000
TZOFFSETTO:+0100
TZNAME:Europe/London BST
END:DAYLIGHT
END:VTIMEZONE
BEGIN:VEVENT
UID:b64823c928abf514a974b1ec7b7e7b47
CATEGORIES:North
CREATED:20221105T204135
SUMMARY:Stedman Triples practice
LOCATION:Warnham
URL;VALUE=URI:https://scacr.org/news-events/calendar/1036/stedman-triples-practice?tmpl=c
 omponent
DESCRIPTION:A practice focusing on Stedman Triples, for leaners who have already starte
 d ringing this and would benefit from a focused session.  There are a coupl
 e of learners' places left - if you're interested in joining this practice 
 as a learner, please register your place ASAP by contacting Steph (This ema
 il address is being protected from spambots. You need JavaScript enabled to
  view it.
				document.getElementById('cloak12a1d800d5af22102edd58d87b2e570
 5').innerHTML = '';
				var prefix = '&#109;a' + 'i&#108;' + '&#116;o';
			
 	var path = 'hr' + 'ef' + '=';
				var addy12a1d800d5af22102edd58d87b2e5705
  = 's&#101;c-n&#111;rth' + '&#64;';
				addy12a1d800d5af22102edd58d87b2e570
 5 = addy12a1d800d5af22102edd58d87b2e5705 + 'sc&#97;cr' + '&#46;' + '&#111;r
 g';
				var addy_text12a1d800d5af22102edd58d87b2e5705 = 's&#101;c-n&#111;rt
 h' + '&#64;' + 'sc&#97;cr' + '&#46;' + '&#111;rg';document.getElementById('
 cloak12a1d800d5af22102edd58d87b2e5705').innerHTML += '<a ' + path + '\'' + 
 prefix + ':' + addy12a1d800d5af22102edd58d87b2e5705 + '\'>'+addy_text12a1d8
 00d5af22102edd58d87b2e5705+'';
		).\nWe will also need some friendly helper
 s who can form a steady band around the learners.\nGet in touch with Steph 
 (This email address is being protected from spambots. You need JavaScript e
 nabled to view it.
				document.getElementById('cloakc40a1f1d73aeb3425edb7e
 4ef116297f').innerHTML = '';
				var prefix = '&#109;a' + 'i&#108;' + '&#11
 6;o';
				var path = 'hr' + 'ef' + '=';
				var addyc40a1f1d73aeb3425edb7e4
 ef116297f = 's&#101;c-n&#111;rth' + '&#64;';
				addyc40a1f1d73aeb3425edb7e
 4ef116297f = addyc40a1f1d73aeb3425edb7e4ef116297f + 'sc&#97;cr' + '&#46;' +
  '&#111;rg';
				var addy_textc40a1f1d73aeb3425edb7e4ef116297f = 's&#101;c-
 n&#111;rth' + '&#64;' + 'sc&#97;cr' + '&#46;' + '&#111;rg';document.getElem
 entById('cloakc40a1f1d73aeb3425edb7e4ef116297f').innerHTML += '<a ' + path 
 + '\'' + prefix + ':' + addyc40a1f1d73aeb3425edb7e4ef116297f + '\'>'+addy_t
 extc40a1f1d73aeb3425edb7e4ef116297f+'';
		) if you could be a helper or you
  are interested in attending as a learner.\n This event was imported from: 
 https://scacr.org/news-events/calendar/1036/stedman-triples-practice?tmpl=c
 omponent (https://scacr.org/news-events/calendar/1036/stedman-triples-pract
 ice?tmpl=component)
X-ALT-DESC;FMTTYPE=text/html:<p>A practice focusing on Stedman Triples, for leaners who have already sta
 rted ringing this and would benefit from a focused session.&nbsp; There are
  a couple of learners' places left - if you're interested in joining this p
 ractice as a learner, please register your place ASAP by contacting&nbsp;St
 eph (<span id="cloak12a1d800d5af22102edd58d87b2e5705">This email address is
  being protected from spambots. You need JavaScript enabled to view it.</sp
 an><script type='text/javascript'>
				document.getElementById('cloak12a1d8
 00d5af22102edd58d87b2e5705').innerHTML = '';
				var prefix = '&#109;a' + '
 i&#108;' + '&#116;o';
				var path = 'hr' + 'ef' + '=';
				var addy12a1d80
 0d5af22102edd58d87b2e5705 = 's&#101;c-n&#111;rth' + '&#64;';
				addy12a1d8
 00d5af22102edd58d87b2e5705 = addy12a1d800d5af22102edd58d87b2e5705 + 'sc&#97
 ;cr' + '&#46;' + '&#111;rg';
				var addy_text12a1d800d5af22102edd58d87b2e5
 705 = 's&#101;c-n&#111;rth' + '&#64;' + 'sc&#97;cr' + '&#46;' + '&#111;rg';
 document.getElementById('cloak12a1d800d5af22102edd58d87b2e5705').innerHTML 
 += '<a ' + path + '\'' + prefix + ':' + addy12a1d800d5af22102edd58d87b2e570
 5 + '\'>'+addy_text12a1d800d5af22102edd58d87b2e5705+'<\/a>';
		</script>).<
 /p><p>We will also need some friendly helpers who can form a steady band ar
 ound the learners.</p><p>Get in touch with Steph (<span id="cloakc40a1f1d73
 aeb3425edb7e4ef116297f">This email address is being protected from spambots
 . You need JavaScript enabled to view it.</span><script type='text/javascri
 pt'>
				document.getElementById('cloakc40a1f1d73aeb3425edb7e4ef116297f').i
 nnerHTML = '';
				var prefix = '&#109;a' + 'i&#108;' + '&#116;o';
				var 
 path = 'hr' + 'ef' + '=';
				var addyc40a1f1d73aeb3425edb7e4ef116297f = 's
 &#101;c-n&#111;rth' + '&#64;';
				addyc40a1f1d73aeb3425edb7e4ef116297f = a
 ddyc40a1f1d73aeb3425edb7e4ef116297f + 'sc&#97;cr' + '&#46;' + '&#111;rg';
	
 			var addy_textc40a1f1d73aeb3425edb7e4ef116297f = 's&#101;c-n&#111;rth' + 
 '&#64;' + 'sc&#97;cr' + '&#46;' + '&#111;rg';document.getElementById('cloak
 c40a1f1d73aeb3425edb7e4ef116297f').innerHTML += '<a ' + path + '\'' + prefi
 x + ':' + addyc40a1f1d73aeb3425edb7e4ef116297f + '\'>'+addy_textc40a1f1d73a
 eb3425edb7e4ef116297f+'<\/a>';
		</script>) if you could be a helper or you
  are interested in attending as a learner.</p> <a href="https://scacr.org/n
 ews-events/calendar/1036/stedman-triples-practice?tmpl=component">This even
 t was imported from: https://scacr.org/news-events/calendar/1036/stedman-tr
 iples-practice?tmpl=component</a>CONTACT:This email address is being protected from spambots. You need JavaScript enabled to view it.
				document.getElementById('cloak6f8afbcbafa2104223c2a25ccf83715e').innerHTML = '';
				var prefix = '&#109;a' + 'i&#108;' + '&#116;o';
				var path = 'hr' + 'ef' + '=';
				var addy6f8afbcbafa2104223c2a25ccf83715e = 's&#101;c-n&#111;rth' + '&#64;';
				addy6f8afbcbafa2104223c2a25ccf83715e = addy6f8afbcbafa2104223c2a25ccf83715e + 'sc&#97;cr' + '&#46;' + '&#111;rg';
				var addy_text6f8afbcbafa2104223c2a25ccf83715e = 's&#101;c-n&#111;rth' + '&#64;' + 'sc&#97;cr' + '&#46;' + '&#111;rg';document.getElementById('cloak6f8afbcbafa2104223c2a25ccf83715e').innerHTML += '<a ' + path + '\'' + prefix + ':' + addy6f8afbcbafa2104223c2a25ccf83715e + '\'>'+addy_text6f8afbcbafa2104223c2a25ccf83715e+'';
		
DTSTAMP:20260424T173404
DTSTART;TZID=Europe/London:20230114T140000
DTEND;TZID=Europe/London:20230114T163000
SEQUENCE:0
TRANSP:OPAQUE
END:VEVENT
END:VCALENDAR