BEGIN:VCALENDAR
VERSION:2.0
PRODID:-//jEvents 2.0 for Joomla//EN
CALSCALE:GREGORIAN
METHOD:PUBLISH
BEGIN:VTIMEZONE
TZID:Europe/London
BEGIN:STANDARD
DTSTART:20221030T010000
RDATE:20230326T020000
TZOFFSETFROM:+0100
TZOFFSETTO:+0000
TZNAME:Europe/London GMT
END:STANDARD
BEGIN:STANDARD
DTSTART:20231029T010000
RDATE:20240331T020000
TZOFFSETFROM:+0100
TZOFFSETTO:+0000
TZNAME:Europe/London GMT
END:STANDARD
BEGIN:STANDARD
DTSTART:20241027T010000
RDATE:20250330T020000
TZOFFSETFROM:+0100
TZOFFSETTO:+0000
TZNAME:Europe/London GMT
END:STANDARD
BEGIN:STANDARD
DTSTART:20251026T010000
RDATE:20260329T020000
TZOFFSETFROM:+0100
TZOFFSETTO:+0000
TZNAME:Europe/London GMT
END:STANDARD
BEGIN:STANDARD
DTSTART:20261025T010000
RDATE:20270328T020000
TZOFFSETFROM:+0100
TZOFFSETTO:+0000
TZNAME:Europe/London GMT
END:STANDARD
BEGIN:STANDARD
DTSTART:20271031T010000
RDATE:20280326T020000
TZOFFSETFROM:+0100
TZOFFSETTO:+0000
TZNAME:Europe/London GMT
END:STANDARD
BEGIN:STANDARD
DTSTART:20281029T010000
RDATE:20290325T020000
TZOFFSETFROM:+0100
TZOFFSETTO:+0000
TZNAME:Europe/London GMT
END:STANDARD
BEGIN:STANDARD
DTSTART:20291028T010000
RDATE:20300331T020000
TZOFFSETFROM:+0100
TZOFFSETTO:+0000
TZNAME:Europe/London GMT
END:STANDARD
BEGIN:STANDARD
DTSTART:20301027T010000
RDATE:20310330T020000
TZOFFSETFROM:+0100
TZOFFSETTO:+0000
TZNAME:Europe/London GMT
END:STANDARD
BEGIN:DAYLIGHT
DTSTART:20220519T093000
RDATE:20221030T010000
TZOFFSETFROM:+0000
TZOFFSETTO:+0100
TZNAME:Europe/London BST
END:DAYLIGHT
BEGIN:DAYLIGHT
DTSTART:20230326T020000
RDATE:20231029T010000
TZOFFSETFROM:+0000
TZOFFSETTO:+0100
TZNAME:Europe/London BST
END:DAYLIGHT
BEGIN:DAYLIGHT
DTSTART:20240331T020000
RDATE:20241027T010000
TZOFFSETFROM:+0000
TZOFFSETTO:+0100
TZNAME:Europe/London BST
END:DAYLIGHT
BEGIN:DAYLIGHT
DTSTART:20250330T020000
RDATE:20251026T010000
TZOFFSETFROM:+0000
TZOFFSETTO:+0100
TZNAME:Europe/London BST
END:DAYLIGHT
BEGIN:DAYLIGHT
DTSTART:20260329T020000
RDATE:20261025T010000
TZOFFSETFROM:+0000
TZOFFSETTO:+0100
TZNAME:Europe/London BST
END:DAYLIGHT
BEGIN:DAYLIGHT
DTSTART:20270328T020000
RDATE:20271031T010000
TZOFFSETFROM:+0000
TZOFFSETTO:+0100
TZNAME:Europe/London BST
END:DAYLIGHT
BEGIN:DAYLIGHT
DTSTART:20280326T020000
RDATE:20281029T010000
TZOFFSETFROM:+0000
TZOFFSETTO:+0100
TZNAME:Europe/London BST
END:DAYLIGHT
BEGIN:DAYLIGHT
DTSTART:20290325T020000
RDATE:20291028T010000
TZOFFSETFROM:+0000
TZOFFSETTO:+0100
TZNAME:Europe/London BST
END:DAYLIGHT
BEGIN:DAYLIGHT
DTSTART:20300331T020000
RDATE:20301027T010000
TZOFFSETFROM:+0000
TZOFFSETTO:+0100
TZNAME:Europe/London BST
END:DAYLIGHT
END:VTIMEZONE
BEGIN:VEVENT
UID:6d9550e076068bcbe38d020ccf9c5245
CATEGORIES:East
CREATED:20230111T121123
SUMMARY:Eastern district walk and ring meeting
LOCATION:Hastings &amp; St Leonards
URL;VALUE=URI:https://scacr.org/news-events/calendar/1065/eastern-district-walk-and-ring-
 meeting?tmpl=component
DESCRIPTION:<p>Eastern district ringing meeting. Walk and ring&nbsp;</p><p>The plan is 
 to start the walk at Hastings Station (Bus and train connections) at 9.30 a
 nd walk between the following:</p><p>Christ Church, Blacklands 10.0 - 10.40
 </p><p>Hastings, All Saints 11.30- 12.15</p><p>Lunch break</p><p>Hastimgs, 
 St Clements 1.30 - 2.15</p><p>Christ Church, St Leonards 3.15 - 4.0</p><p>S
 t Leonards Warrior Square station and local buses are close at hand for hom
 eward travel.</p><p>Car drivers can park very near to St Leonards Warrior S
 quare and bus or train to join the start at Hastings station.&nbsp;</p><p>&
 nbsp;</p><p>&nbsp;</p><p>&nbsp;</p> <a href="https://scacr.org/news-events/
 calendar/1065/eastern-district-walk-and-ring-meeting?tmpl=component">This e
 vent was imported from: https://scacr.org/news-events/calendar/1065/eastern
 -district-walk-and-ring-meeting?tmpl=component</a>CONTACT:This email address is being protected from spambots. You need JavaScript enabled to view it.
				document.getElementById('cloaka2d9b03adb30c3566e06a12e2b0e8370').innerHTML = '';
				var prefix = '&#109;a' + 'i&#108;' + '&#116;o';
				var path = 'hr' + 'ef' + '=';
				var addya2d9b03adb30c3566e06a12e2b0e8370 = 's&#101;c-&#101;&#97;st' + '&#64;';
				addya2d9b03adb30c3566e06a12e2b0e8370 = addya2d9b03adb30c3566e06a12e2b0e8370 + 'sc&#97;cr' + '&#46;' + '&#111;rg';
				var addy_texta2d9b03adb30c3566e06a12e2b0e8370 = 's&#101;c-&#101;&#97;st' + '&#64;' + 'sc&#97;cr' + '&#46;' + '&#111;rg';document.getElementById('cloaka2d9b03adb30c3566e06a12e2b0e8370').innerHTML += '<a ' + path + '\'' + prefix + ':' + addya2d9b03adb30c3566e06a12e2b0e8370 + '\'>'+addy_texta2d9b03adb30c3566e06a12e2b0e8370+'';
		
DTSTAMP:20260420T154941
DTSTART;TZID=Europe/London:20230520T093000
DTEND;TZID=Europe/London:20230520T160000
SEQUENCE:0
TRANSP:OPAQUE
END:VEVENT
END:VCALENDAR