BEGIN:VCALENDAR
VERSION:2.0
PRODID:-//jEvents 2.0 for Joomla//EN
CALSCALE:GREGORIAN
METHOD:PUBLISH
BEGIN:VTIMEZONE
TZID:Europe/London
BEGIN:STANDARD
DTSTART:20220216T103000
RDATE:20220327T020000
TZOFFSETFROM:+0100
TZOFFSETTO:+0000
TZNAME:Europe/London GMT
END:STANDARD
BEGIN:STANDARD
DTSTART:20221030T010000
RDATE:20230326T020000
TZOFFSETFROM:+0100
TZOFFSETTO:+0000
TZNAME:Europe/London GMT
END:STANDARD
BEGIN:STANDARD
DTSTART:20231029T010000
RDATE:20240331T020000
TZOFFSETFROM:+0100
TZOFFSETTO:+0000
TZNAME:Europe/London GMT
END:STANDARD
BEGIN:STANDARD
DTSTART:20241027T010000
RDATE:20250330T020000
TZOFFSETFROM:+0100
TZOFFSETTO:+0000
TZNAME:Europe/London GMT
END:STANDARD
BEGIN:STANDARD
DTSTART:20251026T010000
RDATE:20260329T020000
TZOFFSETFROM:+0100
TZOFFSETTO:+0000
TZNAME:Europe/London GMT
END:STANDARD
BEGIN:STANDARD
DTSTART:20261025T010000
RDATE:20270328T020000
TZOFFSETFROM:+0100
TZOFFSETTO:+0000
TZNAME:Europe/London GMT
END:STANDARD
BEGIN:STANDARD
DTSTART:20271031T010000
RDATE:20280326T020000
TZOFFSETFROM:+0100
TZOFFSETTO:+0000
TZNAME:Europe/London GMT
END:STANDARD
BEGIN:STANDARD
DTSTART:20281029T010000
RDATE:20290325T020000
TZOFFSETFROM:+0100
TZOFFSETTO:+0000
TZNAME:Europe/London GMT
END:STANDARD
BEGIN:STANDARD
DTSTART:20291028T010000
RDATE:20300331T020000
TZOFFSETFROM:+0100
TZOFFSETTO:+0000
TZNAME:Europe/London GMT
END:STANDARD
BEGIN:STANDARD
DTSTART:20301027T010000
RDATE:20310330T020000
TZOFFSETFROM:+0100
TZOFFSETTO:+0000
TZNAME:Europe/London GMT
END:STANDARD
BEGIN:DAYLIGHT
DTSTART:20220327T020000
RDATE:20221030T010000
TZOFFSETFROM:+0000
TZOFFSETTO:+0100
TZNAME:Europe/London BST
END:DAYLIGHT
BEGIN:DAYLIGHT
DTSTART:20230326T020000
RDATE:20231029T010000
TZOFFSETFROM:+0000
TZOFFSETTO:+0100
TZNAME:Europe/London BST
END:DAYLIGHT
BEGIN:DAYLIGHT
DTSTART:20240331T020000
RDATE:20241027T010000
TZOFFSETFROM:+0000
TZOFFSETTO:+0100
TZNAME:Europe/London BST
END:DAYLIGHT
BEGIN:DAYLIGHT
DTSTART:20250330T020000
RDATE:20251026T010000
TZOFFSETFROM:+0000
TZOFFSETTO:+0100
TZNAME:Europe/London BST
END:DAYLIGHT
BEGIN:DAYLIGHT
DTSTART:20260329T020000
RDATE:20261025T010000
TZOFFSETFROM:+0000
TZOFFSETTO:+0100
TZNAME:Europe/London BST
END:DAYLIGHT
BEGIN:DAYLIGHT
DTSTART:20270328T020000
RDATE:20271031T010000
TZOFFSETFROM:+0000
TZOFFSETTO:+0100
TZNAME:Europe/London BST
END:DAYLIGHT
BEGIN:DAYLIGHT
DTSTART:20280326T020000
RDATE:20281029T010000
TZOFFSETFROM:+0000
TZOFFSETTO:+0100
TZNAME:Europe/London BST
END:DAYLIGHT
BEGIN:DAYLIGHT
DTSTART:20290325T020000
RDATE:20291028T010000
TZOFFSETFROM:+0000
TZOFFSETTO:+0100
TZNAME:Europe/London BST
END:DAYLIGHT
BEGIN:DAYLIGHT
DTSTART:20300331T020000
RDATE:20301027T010000
TZOFFSETFROM:+0000
TZOFFSETTO:+0100
TZNAME:Europe/London BST
END:DAYLIGHT
END:VTIMEZONE
BEGIN:VEVENT
UID:fe32e462eb567a512beb46104adc335c
CATEGORIES:Young Ringers Event
CREATED:20230204T083458
SUMMARY:Young Ringers Outing 
LOCATION:BEXHILL\, BATTLE
URL;VALUE=URI:https://scacr.org/news-events/calendar/1078/young-ringers-outing?tmpl=compo
 nent
DESCRIPTION: A mini-outing to Bexhill, Battle and another tower(tbc). \nYoung ringers o
 f all abilities are welcome to join us for a mini-trip during the half term
  week. \nBexhill (10) from 10.30am - 12.30pm\nBattle (8) from 2pm\nTBC from
  3.30pm\nPlease get in touch with Marisa for any transport requirements as 
 soon as you can!\n \n This event was imported from: https://scacr.org/news-
 events/calendar/1078/young-ringers-outing?tmpl=component (https://scacr.org
 /news-events/calendar/1078/young-ringers-outing?tmpl=component)
X-ALT-DESC;FMTTYPE=text/html:<p>&nbsp;A mini-outing to Bexhill, Battle and another tower(tbc).&nbsp;</p>
 <p>Young ringers of all abilities are welcome to join us for a mini-trip du
 ring the half term week.&nbsp;</p><p>Bexhill (10) from 10.30am - 12.30pm</p
 ><p>Battle (8) from 2pm</p><p>TBC from 3.30pm</p><p>Please get in touch wit
 h Marisa for any transport requirements as soon as you can!</p><p>&nbsp;</p
 > <a href="https://scacr.org/news-events/calendar/1078/young-ringers-outing
 ?tmpl=component">This event was imported from: https://scacr.org/news-event
 s/calendar/1078/young-ringers-outing?tmpl=component</a>CONTACT:Marisa Hayes
DTSTAMP:20260424T173358
DTSTART;TZID=Europe/London:20230217T103000
DTEND;TZID=Europe/London:20230217T163000
SEQUENCE:0
TRANSP:OPAQUE
END:VEVENT
END:VCALENDAR