BEGIN:VCALENDAR
VERSION:2.0
PRODID:-//jEvents 2.0 for Joomla//EN
CALSCALE:GREGORIAN
METHOD:PUBLISH
BEGIN:VTIMEZONE
TZID:Europe/London
BEGIN:STANDARD
DTSTART:20221030T010000
RDATE:20230326T020000
TZOFFSETFROM:+0100
TZOFFSETTO:+0000
TZNAME:Europe/London GMT
END:STANDARD
BEGIN:STANDARD
DTSTART:20231029T010000
RDATE:20240331T020000
TZOFFSETFROM:+0100
TZOFFSETTO:+0000
TZNAME:Europe/London GMT
END:STANDARD
BEGIN:STANDARD
DTSTART:20241027T010000
RDATE:20250330T020000
TZOFFSETFROM:+0100
TZOFFSETTO:+0000
TZNAME:Europe/London GMT
END:STANDARD
BEGIN:STANDARD
DTSTART:20251026T010000
RDATE:20260329T020000
TZOFFSETFROM:+0100
TZOFFSETTO:+0000
TZNAME:Europe/London GMT
END:STANDARD
BEGIN:STANDARD
DTSTART:20261025T010000
RDATE:20270328T020000
TZOFFSETFROM:+0100
TZOFFSETTO:+0000
TZNAME:Europe/London GMT
END:STANDARD
BEGIN:STANDARD
DTSTART:20271031T010000
RDATE:20280326T020000
TZOFFSETFROM:+0100
TZOFFSETTO:+0000
TZNAME:Europe/London GMT
END:STANDARD
BEGIN:STANDARD
DTSTART:20281029T010000
RDATE:20290325T020000
TZOFFSETFROM:+0100
TZOFFSETTO:+0000
TZNAME:Europe/London GMT
END:STANDARD
BEGIN:STANDARD
DTSTART:20291028T010000
RDATE:20300331T020000
TZOFFSETFROM:+0100
TZOFFSETTO:+0000
TZNAME:Europe/London GMT
END:STANDARD
BEGIN:STANDARD
DTSTART:20301027T010000
RDATE:20310330T020000
TZOFFSETFROM:+0100
TZOFFSETTO:+0000
TZNAME:Europe/London GMT
END:STANDARD
BEGIN:DAYLIGHT
DTSTART:20220416T193000
RDATE:20221030T010000
TZOFFSETFROM:+0000
TZOFFSETTO:+0100
TZNAME:Europe/London BST
END:DAYLIGHT
BEGIN:DAYLIGHT
DTSTART:20230326T020000
RDATE:20231029T010000
TZOFFSETFROM:+0000
TZOFFSETTO:+0100
TZNAME:Europe/London BST
END:DAYLIGHT
BEGIN:DAYLIGHT
DTSTART:20240331T020000
RDATE:20241027T010000
TZOFFSETFROM:+0000
TZOFFSETTO:+0100
TZNAME:Europe/London BST
END:DAYLIGHT
BEGIN:DAYLIGHT
DTSTART:20250330T020000
RDATE:20251026T010000
TZOFFSETFROM:+0000
TZOFFSETTO:+0100
TZNAME:Europe/London BST
END:DAYLIGHT
BEGIN:DAYLIGHT
DTSTART:20260329T020000
RDATE:20261025T010000
TZOFFSETFROM:+0000
TZOFFSETTO:+0100
TZNAME:Europe/London BST
END:DAYLIGHT
BEGIN:DAYLIGHT
DTSTART:20270328T020000
RDATE:20271031T010000
TZOFFSETFROM:+0000
TZOFFSETTO:+0100
TZNAME:Europe/London BST
END:DAYLIGHT
BEGIN:DAYLIGHT
DTSTART:20280326T020000
RDATE:20281029T010000
TZOFFSETFROM:+0000
TZOFFSETTO:+0100
TZNAME:Europe/London BST
END:DAYLIGHT
BEGIN:DAYLIGHT
DTSTART:20290325T020000
RDATE:20291028T010000
TZOFFSETFROM:+0000
TZOFFSETTO:+0100
TZNAME:Europe/London BST
END:DAYLIGHT
BEGIN:DAYLIGHT
DTSTART:20300331T020000
RDATE:20301027T010000
TZOFFSETFROM:+0000
TZOFFSETTO:+0100
TZNAME:Europe/London BST
END:DAYLIGHT
END:VTIMEZONE
BEGIN:VEVENT
UID:12749ba61a2cc9d35699eec09dff52ab
CATEGORIES:North
CREATED:20230213T211515
SUMMARY:Advanced Practice
LOCATION:Crawley (confirmed)
URL;VALUE=URI:https://scacr.org/news-events/calendar/1081/advanced-practice?tmpl=componen
 t
DESCRIPTION:<p>&nbsp;Method of the month: Deva.&nbsp;&nbsp;Tip per Simon Linford’s book
 : “Bristol above the treble, Superlative below the treble, and then executi
 ng a 1-8 half lead”<br /><br />Aspiration to ring some spliced Core 7 (Camb
 ridge, Yorkshire, Superlative, Cornwall, Lessness, London, Bristol) dependi
 ng on attendance.&nbsp;Other Surprise methods rung on request!</p><p>Member
 s from other Districts are very welcome!&nbsp;&nbsp;</p><p>Many thanks to N
 ess for organising the advanced practices.&nbsp; <strong>Ness has put toget
 her a survey to find out what people would like from these practices - plea
 se do fill it in:</strong> <a href="https://qfreeaccountssjc1.az1.qualtrics
 .com/jfe/form/SV_3mTvpgeoxE4pkKq"><strong>link to survey</strong></a>.</p> 
 <a href="https://scacr.org/news-events/calendar/1081/advanced-practice?tmpl
 =component">This event was imported from: https://scacr.org/news-events/cal
 endar/1081/advanced-practice?tmpl=component</a>CONTACT:This email address is being protected from spambots. You need JavaScript enabled to view it.
				document.getElementById('cloak6fc985d68cf9151056533cad59466af4').innerHTML = '';
				var prefix = '&#109;a' + 'i&#108;' + '&#116;o';
				var path = 'hr' + 'ef' + '=';
				var addy6fc985d68cf9151056533cad59466af4 = 's&#101;c-n&#111;rth' + '&#64;';
				addy6fc985d68cf9151056533cad59466af4 = addy6fc985d68cf9151056533cad59466af4 + 'sc&#97;cr' + '&#46;' + '&#111;rg';
				var addy_text6fc985d68cf9151056533cad59466af4 = 's&#101;c-n&#111;rth' + '&#64;' + 'sc&#97;cr' + '&#46;' + '&#111;rg';document.getElementById('cloak6fc985d68cf9151056533cad59466af4').innerHTML += '<a ' + path + '\'' + prefix + ':' + addy6fc985d68cf9151056533cad59466af4 + '\'>'+addy_text6fc985d68cf9151056533cad59466af4+'';
		
DTSTAMP:20260424T224652
DTSTART;TZID=Europe/London:20230417T193000
DTEND;TZID=Europe/London:20230417T210000
SEQUENCE:0
TRANSP:OPAQUE
END:VEVENT
END:VCALENDAR