BEGIN:VCALENDAR
VERSION:2.0
PRODID:-//jEvents 2.0 for Joomla//EN
CALSCALE:GREGORIAN
METHOD:PUBLISH
BEGIN:VTIMEZONE
TZID:Europe/London
BEGIN:STANDARD
DTSTART:20221030T010000
RDATE:20230326T020000
TZOFFSETFROM:+0100
TZOFFSETTO:+0000
TZNAME:Europe/London GMT
END:STANDARD
BEGIN:STANDARD
DTSTART:20231029T010000
RDATE:20240331T020000
TZOFFSETFROM:+0100
TZOFFSETTO:+0000
TZNAME:Europe/London GMT
END:STANDARD
BEGIN:STANDARD
DTSTART:20241027T010000
RDATE:20250330T020000
TZOFFSETFROM:+0100
TZOFFSETTO:+0000
TZNAME:Europe/London GMT
END:STANDARD
BEGIN:STANDARD
DTSTART:20251026T010000
RDATE:20260329T020000
TZOFFSETFROM:+0100
TZOFFSETTO:+0000
TZNAME:Europe/London GMT
END:STANDARD
BEGIN:STANDARD
DTSTART:20261025T010000
RDATE:20270328T020000
TZOFFSETFROM:+0100
TZOFFSETTO:+0000
TZNAME:Europe/London GMT
END:STANDARD
BEGIN:STANDARD
DTSTART:20271031T010000
RDATE:20280326T020000
TZOFFSETFROM:+0100
TZOFFSETTO:+0000
TZNAME:Europe/London GMT
END:STANDARD
BEGIN:STANDARD
DTSTART:20281029T010000
RDATE:20290325T020000
TZOFFSETFROM:+0100
TZOFFSETTO:+0000
TZNAME:Europe/London GMT
END:STANDARD
BEGIN:STANDARD
DTSTART:20291028T010000
RDATE:20300331T020000
TZOFFSETFROM:+0100
TZOFFSETTO:+0000
TZNAME:Europe/London GMT
END:STANDARD
BEGIN:STANDARD
DTSTART:20301027T010000
RDATE:20310330T020000
TZOFFSETFROM:+0100
TZOFFSETTO:+0000
TZNAME:Europe/London GMT
END:STANDARD
BEGIN:DAYLIGHT
DTSTART:20220709T193000
RDATE:20221030T010000
TZOFFSETFROM:+0000
TZOFFSETTO:+0100
TZNAME:Europe/London BST
END:DAYLIGHT
BEGIN:DAYLIGHT
DTSTART:20230326T020000
RDATE:20231029T010000
TZOFFSETFROM:+0000
TZOFFSETTO:+0100
TZNAME:Europe/London BST
END:DAYLIGHT
BEGIN:DAYLIGHT
DTSTART:20240331T020000
RDATE:20241027T010000
TZOFFSETFROM:+0000
TZOFFSETTO:+0100
TZNAME:Europe/London BST
END:DAYLIGHT
BEGIN:DAYLIGHT
DTSTART:20250330T020000
RDATE:20251026T010000
TZOFFSETFROM:+0000
TZOFFSETTO:+0100
TZNAME:Europe/London BST
END:DAYLIGHT
BEGIN:DAYLIGHT
DTSTART:20260329T020000
RDATE:20261025T010000
TZOFFSETFROM:+0000
TZOFFSETTO:+0100
TZNAME:Europe/London BST
END:DAYLIGHT
BEGIN:DAYLIGHT
DTSTART:20270328T020000
RDATE:20271031T010000
TZOFFSETFROM:+0000
TZOFFSETTO:+0100
TZNAME:Europe/London BST
END:DAYLIGHT
BEGIN:DAYLIGHT
DTSTART:20280326T020000
RDATE:20281029T010000
TZOFFSETFROM:+0000
TZOFFSETTO:+0100
TZNAME:Europe/London BST
END:DAYLIGHT
BEGIN:DAYLIGHT
DTSTART:20290325T020000
RDATE:20291028T010000
TZOFFSETFROM:+0000
TZOFFSETTO:+0100
TZNAME:Europe/London BST
END:DAYLIGHT
BEGIN:DAYLIGHT
DTSTART:20300331T020000
RDATE:20301027T010000
TZOFFSETFROM:+0000
TZOFFSETTO:+0100
TZNAME:Europe/London BST
END:DAYLIGHT
END:VTIMEZONE
BEGIN:VEVENT
UID:4d2d129eb8554e85ea4f2e4dc04c7723
CATEGORIES:North
CREATED:20230217T193411
SUMMARY:Advanced Practice - Surprise Major
LOCATION:Slaugham (confirmed)
URL;VALUE=URI:https://scacr.org/news-events/calendar/1084/advanced-practice-surprise-majo
 r?tmpl=component
DESCRIPTION:Method of the month remains Deva - we will be ringing this at least once at
  the practice! Deva is Bristol above the treble, Superlative below the treb
 le, and then executing a 1-8 half lead (so for those standard eight stalwar
 ts, it isn't a departure ;).\nThe aspiration for the practice continues to 
 be ring some individual and spliced Core 7 (Cambridge, Yorkshire, Superlati
 ve, Cornwall, Lessness, London, Bristol) depending on attendance.\nOther su
 rprise or delight methods available on request, but if it's something non-s
 tandard, let me know so we can encourage others to learn it ahead of the pr
 actice!\nIf you plan to attend, please let Ness know via This email address
  is being protected from spambots. You need JavaScript enabled to view it.

 				document.getElementById('cloak9c27d24d3eb581b4b76283ccbda7aa68').innerH
 TML = '';
				var prefix = '&#109;a' + 'i&#108;' + '&#116;o';
				var path 
 = 'hr' + 'ef' + '=';
				var addy9c27d24d3eb581b4b76283ccbda7aa68 = 'n&#101
 ;ssr&#105;ng&#105;ng' + '&#64;';
				addy9c27d24d3eb581b4b76283ccbda7aa68 =
  addy9c27d24d3eb581b4b76283ccbda7aa68 + '&#105;cl&#111;&#117;d' + '&#46;' +
  'c&#111;m';
				var addy_text9c27d24d3eb581b4b76283ccbda7aa68 = 'n&#101;ss
 r&#105;ng&#105;ng' + '&#64;' + '&#105;cl&#111;&#117;d' + '&#46;' + 'c&#111;
 m';document.getElementById('cloak9c27d24d3eb581b4b76283ccbda7aa68').innerHT
 ML += '<a ' + path + '\'' + prefix + ':' + addy9c27d24d3eb581b4b76283ccbda7
 aa68 + '\' target="_blank">'+addy_text9c27d24d3eb581b4b76283ccbda7aa68+'';

 		 by the Sunday beforehand, so that she can plan the practice.\nSCACR memb
 ers from other Districts are very welcome to attend!\n This event was impor
 ted from: https://scacr.org/news-events/calendar/1084/advanced-practice-sur
 prise-major?tmpl=component (https://scacr.org/news-events/calendar/1084/adv
 anced-practice-surprise-major?tmpl=component)
X-ALT-DESC;FMTTYPE=text/html:<p>Method of the month remains Deva - we will be ringing this at least once
  at the practice! Deva is Bristol above the treble, Superlative below the t
 reble, and then executing a 1-8 half lead (so for those standard eight stal
 warts, it isn't a departure ;).</p><p>The aspiration for the practice conti
 nues to be&nbsp;ring some individual and spliced Core 7 (Cambridge, Yorkshi
 re, Superlative, Cornwall, Lessness, London, Bristol) depending on attendan
 ce.</p><p>Other surprise or delight methods available on request, but if it
 's something non-standard, let me know so we can encourage others to learn 
 it ahead of the practice!</p><p>If you plan to attend, please let Ness know
  via&nbsp;<span id="cloak9c27d24d3eb581b4b76283ccbda7aa68">This email addre
 ss is being protected from spambots. You need JavaScript enabled to view it
 .</span><script type='text/javascript'>
				document.getElementById('cloak9
 c27d24d3eb581b4b76283ccbda7aa68').innerHTML = '';
				var prefix = '&#109;a
 ' + 'i&#108;' + '&#116;o';
				var path = 'hr' + 'ef' + '=';
				var addy9c
 27d24d3eb581b4b76283ccbda7aa68 = 'n&#101;ssr&#105;ng&#105;ng' + '&#64;';
		
 		addy9c27d24d3eb581b4b76283ccbda7aa68 = addy9c27d24d3eb581b4b76283ccbda7aa
 68 + '&#105;cl&#111;&#117;d' + '&#46;' + 'c&#111;m';
				var addy_text9c27d
 24d3eb581b4b76283ccbda7aa68 = 'n&#101;ssr&#105;ng&#105;ng' + '&#64;' + '&#1
 05;cl&#111;&#117;d' + '&#46;' + 'c&#111;m';document.getElementById('cloak9c
 27d24d3eb581b4b76283ccbda7aa68').innerHTML += '<a ' + path + '\'' + prefix 
 + ':' + addy9c27d24d3eb581b4b76283ccbda7aa68 + '\' target="_blank">'+addy_t
 ext9c27d24d3eb581b4b76283ccbda7aa68+'<\/a>';
		</script>&nbsp;by the Sunday
  beforehand, so that she can plan the practice.</p><p>SCACR members from ot
 her Districts are very welcome to attend!</p> <a href="https://scacr.org/ne
 ws-events/calendar/1084/advanced-practice-surprise-major?tmpl=component">Th
 is event was imported from: https://scacr.org/news-events/calendar/1084/adv
 anced-practice-surprise-major?tmpl=component</a>CONTACT:This email address is being protected from spambots. You need JavaScript enabled to view it.
				document.getElementById('cloak7d0d7f8ff1dfee4a45cc3337fb278233').innerHTML = '';
				var prefix = '&#109;a' + 'i&#108;' + '&#116;o';
				var path = 'hr' + 'ef' + '=';
				var addy7d0d7f8ff1dfee4a45cc3337fb278233 = 's&#101;c-n&#111;rth' + '&#64;';
				addy7d0d7f8ff1dfee4a45cc3337fb278233 = addy7d0d7f8ff1dfee4a45cc3337fb278233 + 'sc&#97;cr' + '&#46;' + '&#111;rg';
				var addy_text7d0d7f8ff1dfee4a45cc3337fb278233 = 's&#101;c-n&#111;rth' + '&#64;' + 'sc&#97;cr' + '&#46;' + '&#111;rg';document.getElementById('cloak7d0d7f8ff1dfee4a45cc3337fb278233').innerHTML += '<a ' + path + '\'' + prefix + ':' + addy7d0d7f8ff1dfee4a45cc3337fb278233 + '\'>'+addy_text7d0d7f8ff1dfee4a45cc3337fb278233+'';
		
X-EXTRAINFO:https://dove.cccbr.org.uk/detail.php?DoveID=SLAUGHAM
DTSTAMP:20260420T212409
DTSTART;TZID=Europe/London:20230710T193000
DTEND;TZID=Europe/London:20230710T210000
SEQUENCE:0
TRANSP:OPAQUE
END:VEVENT
END:VCALENDAR