BEGIN:VCALENDAR
VERSION:2.0
PRODID:-//jEvents 2.0 for Joomla//EN
CALSCALE:GREGORIAN
METHOD:PUBLISH
BEGIN:VTIMEZONE
TZID:Europe/London
BEGIN:STANDARD
DTSTART:20221030T010000
RDATE:20230326T020000
TZOFFSETFROM:+0100
TZOFFSETTO:+0000
TZNAME:Europe/London GMT
END:STANDARD
BEGIN:STANDARD
DTSTART:20231029T010000
RDATE:20240331T020000
TZOFFSETFROM:+0100
TZOFFSETTO:+0000
TZNAME:Europe/London GMT
END:STANDARD
BEGIN:STANDARD
DTSTART:20241027T010000
RDATE:20250330T020000
TZOFFSETFROM:+0100
TZOFFSETTO:+0000
TZNAME:Europe/London GMT
END:STANDARD
BEGIN:STANDARD
DTSTART:20251026T010000
RDATE:20260329T020000
TZOFFSETFROM:+0100
TZOFFSETTO:+0000
TZNAME:Europe/London GMT
END:STANDARD
BEGIN:STANDARD
DTSTART:20261025T010000
RDATE:20270328T020000
TZOFFSETFROM:+0100
TZOFFSETTO:+0000
TZNAME:Europe/London GMT
END:STANDARD
BEGIN:STANDARD
DTSTART:20271031T010000
RDATE:20280326T020000
TZOFFSETFROM:+0100
TZOFFSETTO:+0000
TZNAME:Europe/London GMT
END:STANDARD
BEGIN:STANDARD
DTSTART:20281029T010000
RDATE:20290325T020000
TZOFFSETFROM:+0100
TZOFFSETTO:+0000
TZNAME:Europe/London GMT
END:STANDARD
BEGIN:STANDARD
DTSTART:20291028T010000
RDATE:20300331T020000
TZOFFSETFROM:+0100
TZOFFSETTO:+0000
TZNAME:Europe/London GMT
END:STANDARD
BEGIN:STANDARD
DTSTART:20301027T010000
RDATE:20310330T020000
TZOFFSETFROM:+0100
TZOFFSETTO:+0000
TZNAME:Europe/London GMT
END:STANDARD
BEGIN:DAYLIGHT
DTSTART:20220813T193000
RDATE:20221030T010000
TZOFFSETFROM:+0000
TZOFFSETTO:+0100
TZNAME:Europe/London BST
END:DAYLIGHT
BEGIN:DAYLIGHT
DTSTART:20230326T020000
RDATE:20231029T010000
TZOFFSETFROM:+0000
TZOFFSETTO:+0100
TZNAME:Europe/London BST
END:DAYLIGHT
BEGIN:DAYLIGHT
DTSTART:20240331T020000
RDATE:20241027T010000
TZOFFSETFROM:+0000
TZOFFSETTO:+0100
TZNAME:Europe/London BST
END:DAYLIGHT
BEGIN:DAYLIGHT
DTSTART:20250330T020000
RDATE:20251026T010000
TZOFFSETFROM:+0000
TZOFFSETTO:+0100
TZNAME:Europe/London BST
END:DAYLIGHT
BEGIN:DAYLIGHT
DTSTART:20260329T020000
RDATE:20261025T010000
TZOFFSETFROM:+0000
TZOFFSETTO:+0100
TZNAME:Europe/London BST
END:DAYLIGHT
BEGIN:DAYLIGHT
DTSTART:20270328T020000
RDATE:20271031T010000
TZOFFSETFROM:+0000
TZOFFSETTO:+0100
TZNAME:Europe/London BST
END:DAYLIGHT
BEGIN:DAYLIGHT
DTSTART:20280326T020000
RDATE:20281029T010000
TZOFFSETFROM:+0000
TZOFFSETTO:+0100
TZNAME:Europe/London BST
END:DAYLIGHT
BEGIN:DAYLIGHT
DTSTART:20290325T020000
RDATE:20291028T010000
TZOFFSETFROM:+0000
TZOFFSETTO:+0100
TZNAME:Europe/London BST
END:DAYLIGHT
BEGIN:DAYLIGHT
DTSTART:20300331T020000
RDATE:20301027T010000
TZOFFSETFROM:+0000
TZOFFSETTO:+0100
TZNAME:Europe/London BST
END:DAYLIGHT
END:VTIMEZONE
BEGIN:VEVENT
UID:6aa6fdeec29f6f1679899b0b6d01b89e
CATEGORIES:North
CREATED:20230217T193425
SUMMARY:Advanced Practice - Surprise Major
LOCATION:Balcombe (confirmed)
URL;VALUE=URI:https://scacr.org/news-events/calendar/1085/advanced-practice-surprise-majo
 r?tmpl=component
DESCRIPTION:<p>Reflecting on the recent experience at these practices, the focus will n
 ow be on three core methods: Yorkshire, Cambridge and Cornwall.</p><p>The i
 dea is to try and improve the success rate and striking accuracy in these t
 hree methods and it would be very much appreciated if where possible attend
 ees do a little extra homework in advance, to help ensure we peform our bes
 t on the night. There will also be an enhanced effort to ensure more optima
 l band placement.</p><p>I hope there will continue to be an opportunity for
  the more experienced ringers to ring a touch of spliced at the end of the 
 practice subject to attendance.</p><p>If you plan to attend or would like t
 o feedback on how these sessions could be improved, please let Ness know vi
 a&nbsp;<span id="cloakfa0665685c438729dd21cfc92090860e"><a href="mailto:nes
 sringing@icloud.com" target="_blank"></a><span id="cloakd184881556635f608c6
 f0d45153788f2">This email address is being protected from spambots. You nee
 d JavaScript enabled to view it.</span><script type='text/javascript'>
				
 document.getElementById('cloakd184881556635f608c6f0d45153788f2').innerHTML 
 = '';
				var prefix = '&#109;a' + 'i&#108;' + '&#116;o';
				var path = 'h
 r' + 'ef' + '=';
				var addyd184881556635f608c6f0d45153788f2 = 'n&#101;ssr
 &#105;ng&#105;ng' + '&#64;';
				addyd184881556635f608c6f0d45153788f2 = add
 yd184881556635f608c6f0d45153788f2 + '&#105;cl&#111;&#117;d' + '&#46;' + 'c&
 #111;m';
				var addy_textd184881556635f608c6f0d45153788f2 = 'n&#101;ssr&#1
 05;ng&#105;ng' + '&#64;' + '&#105;cl&#111;&#117;d' + '&#46;' + 'c&#111;m';d
 ocument.getElementById('cloakd184881556635f608c6f0d45153788f2').innerHTML +
 = '<a ' + path + '\'' + prefix + ':' + addyd184881556635f608c6f0d45153788f2
  + '\'>'+addy_textd184881556635f608c6f0d45153788f2+'<\/a>';
		</script></sp
 an>&nbsp;by the Sunday beforehand, so that she can plan the practice.</p><p
 >SCACR members from other Districts are very welcome to attend!</p> <a href
 ="https://scacr.org/news-events/calendar/1085/advanced-practice-surprise-ma
 jor?tmpl=component">This event was imported from: https://scacr.org/news-ev
 ents/calendar/1085/advanced-practice-surprise-major?tmpl=component</a>CONTACT:This email address is being protected from spambots. You need JavaScript enabled to view it.
				document.getElementById('cloak5fa6057dc456789f63979a75e2332184').innerHTML = '';
				var prefix = '&#109;a' + 'i&#108;' + '&#116;o';
				var path = 'hr' + 'ef' + '=';
				var addy5fa6057dc456789f63979a75e2332184 = 's&#101;c-n&#111;rth' + '&#64;';
				addy5fa6057dc456789f63979a75e2332184 = addy5fa6057dc456789f63979a75e2332184 + 'sc&#97;cr' + '&#46;' + '&#111;rg';
				var addy_text5fa6057dc456789f63979a75e2332184 = 's&#101;c-n&#111;rth' + '&#64;' + 'sc&#97;cr' + '&#46;' + '&#111;rg';document.getElementById('cloak5fa6057dc456789f63979a75e2332184').innerHTML += '<a ' + path + '\'' + prefix + ':' + addy5fa6057dc456789f63979a75e2332184 + '\'>'+addy_text5fa6057dc456789f63979a75e2332184+'';
		
X-EXTRAINFO:https://www.stmarys-balcombe.org
DTSTAMP:20260420T100918
DTSTART;TZID=Europe/London:20230814T193000
DTEND;TZID=Europe/London:20230814T210000
SEQUENCE:0
TRANSP:OPAQUE
END:VEVENT
END:VCALENDAR