BEGIN:VCALENDAR
VERSION:2.0
PRODID:-//jEvents 2.0 for Joomla//EN
CALSCALE:GREGORIAN
METHOD:PUBLISH
BEGIN:VTIMEZONE
TZID:Europe/London
BEGIN:STANDARD
DTSTART:20221112T193000
RDATE:20230326T020000
TZOFFSETFROM:+0100
TZOFFSETTO:+0000
TZNAME:Europe/London GMT
END:STANDARD
BEGIN:STANDARD
DTSTART:20231029T010000
RDATE:20240331T020000
TZOFFSETFROM:+0100
TZOFFSETTO:+0000
TZNAME:Europe/London GMT
END:STANDARD
BEGIN:STANDARD
DTSTART:20241027T010000
RDATE:20250330T020000
TZOFFSETFROM:+0100
TZOFFSETTO:+0000
TZNAME:Europe/London GMT
END:STANDARD
BEGIN:STANDARD
DTSTART:20251026T010000
RDATE:20260329T020000
TZOFFSETFROM:+0100
TZOFFSETTO:+0000
TZNAME:Europe/London GMT
END:STANDARD
BEGIN:STANDARD
DTSTART:20261025T010000
RDATE:20270328T020000
TZOFFSETFROM:+0100
TZOFFSETTO:+0000
TZNAME:Europe/London GMT
END:STANDARD
BEGIN:STANDARD
DTSTART:20271031T010000
RDATE:20280326T020000
TZOFFSETFROM:+0100
TZOFFSETTO:+0000
TZNAME:Europe/London GMT
END:STANDARD
BEGIN:STANDARD
DTSTART:20281029T010000
RDATE:20290325T020000
TZOFFSETFROM:+0100
TZOFFSETTO:+0000
TZNAME:Europe/London GMT
END:STANDARD
BEGIN:STANDARD
DTSTART:20291028T010000
RDATE:20300331T020000
TZOFFSETFROM:+0100
TZOFFSETTO:+0000
TZNAME:Europe/London GMT
END:STANDARD
BEGIN:STANDARD
DTSTART:20301027T010000
RDATE:20310330T020000
TZOFFSETFROM:+0100
TZOFFSETTO:+0000
TZNAME:Europe/London GMT
END:STANDARD
BEGIN:DAYLIGHT
DTSTART:20230326T020000
RDATE:20231029T010000
TZOFFSETFROM:+0000
TZOFFSETTO:+0100
TZNAME:Europe/London BST
END:DAYLIGHT
BEGIN:DAYLIGHT
DTSTART:20240331T020000
RDATE:20241027T010000
TZOFFSETFROM:+0000
TZOFFSETTO:+0100
TZNAME:Europe/London BST
END:DAYLIGHT
BEGIN:DAYLIGHT
DTSTART:20250330T020000
RDATE:20251026T010000
TZOFFSETFROM:+0000
TZOFFSETTO:+0100
TZNAME:Europe/London BST
END:DAYLIGHT
BEGIN:DAYLIGHT
DTSTART:20260329T020000
RDATE:20261025T010000
TZOFFSETFROM:+0000
TZOFFSETTO:+0100
TZNAME:Europe/London BST
END:DAYLIGHT
BEGIN:DAYLIGHT
DTSTART:20270328T020000
RDATE:20271031T010000
TZOFFSETFROM:+0000
TZOFFSETTO:+0100
TZNAME:Europe/London BST
END:DAYLIGHT
BEGIN:DAYLIGHT
DTSTART:20280326T020000
RDATE:20281029T010000
TZOFFSETFROM:+0000
TZOFFSETTO:+0100
TZNAME:Europe/London BST
END:DAYLIGHT
BEGIN:DAYLIGHT
DTSTART:20290325T020000
RDATE:20291028T010000
TZOFFSETFROM:+0000
TZOFFSETTO:+0100
TZNAME:Europe/London BST
END:DAYLIGHT
BEGIN:DAYLIGHT
DTSTART:20300331T020000
RDATE:20301027T010000
TZOFFSETFROM:+0000
TZOFFSETTO:+0100
TZNAME:Europe/London BST
END:DAYLIGHT
END:VTIMEZONE
BEGIN:VEVENT
UID:31aa888d4e313e9b04b5df2fef2f186c
CATEGORIES:North
CREATED:20230217T193519
SUMMARY:Advanced Practice
LOCATION:Bolney
URL;VALUE=URI:https://scacr.org/news-events/calendar/1088/advanced-practice?tmpl=componen
 t
DESCRIPTION:The focus continues to be on the Core 7 surprise major methods (Cambridge, 
 Yorkshire, Superlative, Bristol, London, Cornwall and Lessness). For those 
 with a burning desire to ring Lincolnshire, in the words of the book I stil
 l haven't put down "you can do better" and Turramurra is an option if you f
 ancy it.\nIf there is something you'd particularly like to ring, please get
  in touch by emailing  (mailto:nessringing@icloud.com)This email address is
  being protected from spambots. You need JavaScript enabled to view it.
			
 	document.getElementById('cloak82d972ed7de96846c8857829414fe3a7').innerHTML
  = '';
				var prefix = '&#109;a' + 'i&#108;' + '&#116;o';
				var path = '
 hr' + 'ef' + '=';
				var addy82d972ed7de96846c8857829414fe3a7 = 'n&#101;ss
 r&#105;ng&#105;ng' + '&#64;';
				addy82d972ed7de96846c8857829414fe3a7 = ad
 dy82d972ed7de96846c8857829414fe3a7 + '&#105;cl&#111;&#117;d' + '&#46;' + 'c
 &#111;m';
				var addy_text82d972ed7de96846c8857829414fe3a7 = 'n&#101;ssr&#
 105;ng&#105;ng' + '&#64;' + '&#105;cl&#111;&#117;d' + '&#46;' + 'c&#111;m';
 document.getElementById('cloak82d972ed7de96846c8857829414fe3a7').innerHTML 
 += '<a ' + path + '\'' + prefix + ':' + addy82d972ed7de96846c8857829414fe3a
 7 + '\'>'+addy_text82d972ed7de96846c8857829414fe3a7+'';
		 and I will do my
  best to accommodate at an upcoming practice.\nThe idea is to try and impro
 ve the success rate and striking accuracy in the core method reportoire, an
 d it would be very much appreciated if where possible attendees do a little
  extra homework in advance, to help ensure we peform our best on the night.
  There will also be an enhanced effort to ensure more optimal band placemen
 t.\nI hope there will continue to be an opportunity for the more experience
 d ringers to ring a touch of spliced at the end of the practice.\n   This e
 vent was imported from: https://scacr.org/news-events/calendar/1088/advance
 d-practice?tmpl=component (https://scacr.org/news-events/calendar/1088/adva
 nced-practice?tmpl=component)
X-ALT-DESC;FMTTYPE=text/html:<div class="contentpaneopen jev_evdt"><div class="jev_eventdetails_body"><d
 iv class="jev_evdt_desc"><p>The focus continues to be on the Core 7 surpris
 e major methods (Cambridge, Yorkshire, Superlative, Bristol, London, Cornwa
 ll and Lessness). For those with a burning desire to ring Lincolnshire, in 
 the words of the book I still haven't put down "you can do better" and Turr
 amurra is an option if you fancy it.</p><p>If there is something you'd part
 icularly like to ring, please get in touch by emailing&nbsp;<a href="mailto
 :nessringing@icloud.com"></a><span id="cloak82d972ed7de96846c8857829414fe3a
 7">This email address is being protected from spambots. You need JavaScript
  enabled to view it.</span><script type='text/javascript'>
				document.get
 ElementById('cloak82d972ed7de96846c8857829414fe3a7').innerHTML = '';
				va
 r prefix = '&#109;a' + 'i&#108;' + '&#116;o';
				var path = 'hr' + 'ef' + 
 '=';
				var addy82d972ed7de96846c8857829414fe3a7 = 'n&#101;ssr&#105;ng&#10
 5;ng' + '&#64;';
				addy82d972ed7de96846c8857829414fe3a7 = addy82d972ed7de
 96846c8857829414fe3a7 + '&#105;cl&#111;&#117;d' + '&#46;' + 'c&#111;m';
			
 	var addy_text82d972ed7de96846c8857829414fe3a7 = 'n&#101;ssr&#105;ng&#105;n
 g' + '&#64;' + '&#105;cl&#111;&#117;d' + '&#46;' + 'c&#111;m';document.getE
 lementById('cloak82d972ed7de96846c8857829414fe3a7').innerHTML += '<a ' + pa
 th + '\'' + prefix + ':' + addy82d972ed7de96846c8857829414fe3a7 + '\'>'+add
 y_text82d972ed7de96846c8857829414fe3a7+'<\/a>';
		</script>&nbsp;and I will
  do my best to accommodate at an upcoming practice.</p><p>The idea is to tr
 y and improve the success rate and striking accuracy in the core method rep
 ortoire, and it would be very much appreciated if where possible attendees 
 do a little extra homework in advance, to help ensure we peform our best on
  the night. There will also be an enhanced effort to ensure more optimal ba
 nd placement.</p><p>I hope there will continue to be an opportunity for the
  more experienced ringers to ring a touch of spliced at the end of the prac
 tice.</p></div><div>&nbsp;</div></div></div><div class="ev_adminpanel">&nbs
 p;</div> <a href="https://scacr.org/news-events/calendar/1088/advanced-prac
 tice?tmpl=component">This event was imported from: https://scacr.org/news-e
 vents/calendar/1088/advanced-practice?tmpl=component</a>CONTACT:This email address is being protected from spambots. You need JavaScript enabled to view it.
				document.getElementById('cloak7e7e78156701a96990370832e42ed030').innerHTML = '';
				var prefix = '&#109;a' + 'i&#108;' + '&#116;o';
				var path = 'hr' + 'ef' + '=';
				var addy7e7e78156701a96990370832e42ed030 = 'n&#101;ssr&#105;ng&#105;ng' + '&#64;';
				addy7e7e78156701a96990370832e42ed030 = addy7e7e78156701a96990370832e42ed030 + '&#105;cl&#111;&#117;d' + '&#46;' + 'c&#111;m';
				var addy_text7e7e78156701a96990370832e42ed030 = 'n&#101;ssr&#105;ng&#105;ng' + '&#64;' + '&#105;cl&#111;&#117;d' + '&#46;' + 'c&#111;m';document.getElementById('cloak7e7e78156701a96990370832e42ed030').innerHTML += '<a ' + path + '\'' + prefix + ':' + addy7e7e78156701a96990370832e42ed030 + '\'>'+addy_text7e7e78156701a96990370832e42ed030+'';
		
DTSTAMP:20260424T173358
DTSTART;TZID=Europe/London:20231113T193000
DTEND;TZID=Europe/London:20231113T210000
SEQUENCE:0
TRANSP:OPAQUE
END:VEVENT
END:VCALENDAR