BEGIN:VCALENDAR
VERSION:2.0
PRODID:-//jEvents 2.0 for Joomla//EN
CALSCALE:GREGORIAN
METHOD:PUBLISH
BEGIN:VTIMEZONE
TZID:Europe/London
BEGIN:STANDARD
DTSTART:20221030T010000
RDATE:20230326T020000
TZOFFSETFROM:+0100
TZOFFSETTO:+0000
TZNAME:Europe/London GMT
END:STANDARD
BEGIN:STANDARD
DTSTART:20231029T010000
RDATE:20240331T020000
TZOFFSETFROM:+0100
TZOFFSETTO:+0000
TZNAME:Europe/London GMT
END:STANDARD
BEGIN:STANDARD
DTSTART:20241027T010000
RDATE:20250330T020000
TZOFFSETFROM:+0100
TZOFFSETTO:+0000
TZNAME:Europe/London GMT
END:STANDARD
BEGIN:STANDARD
DTSTART:20251026T010000
RDATE:20260329T020000
TZOFFSETFROM:+0100
TZOFFSETTO:+0000
TZNAME:Europe/London GMT
END:STANDARD
BEGIN:STANDARD
DTSTART:20261025T010000
RDATE:20270328T020000
TZOFFSETFROM:+0100
TZOFFSETTO:+0000
TZNAME:Europe/London GMT
END:STANDARD
BEGIN:STANDARD
DTSTART:20271031T010000
RDATE:20280326T020000
TZOFFSETFROM:+0100
TZOFFSETTO:+0000
TZNAME:Europe/London GMT
END:STANDARD
BEGIN:STANDARD
DTSTART:20281029T010000
RDATE:20290325T020000
TZOFFSETFROM:+0100
TZOFFSETTO:+0000
TZNAME:Europe/London GMT
END:STANDARD
BEGIN:STANDARD
DTSTART:20291028T010000
RDATE:20300331T020000
TZOFFSETFROM:+0100
TZOFFSETTO:+0000
TZNAME:Europe/London GMT
END:STANDARD
BEGIN:STANDARD
DTSTART:20301027T010000
RDATE:20310330T020000
TZOFFSETFROM:+0100
TZOFFSETTO:+0000
TZNAME:Europe/London GMT
END:STANDARD
BEGIN:DAYLIGHT
DTSTART:20220414T140000
RDATE:20221030T010000
TZOFFSETFROM:+0000
TZOFFSETTO:+0100
TZNAME:Europe/London BST
END:DAYLIGHT
BEGIN:DAYLIGHT
DTSTART:20230326T020000
RDATE:20231029T010000
TZOFFSETFROM:+0000
TZOFFSETTO:+0100
TZNAME:Europe/London BST
END:DAYLIGHT
BEGIN:DAYLIGHT
DTSTART:20240331T020000
RDATE:20241027T010000
TZOFFSETFROM:+0000
TZOFFSETTO:+0100
TZNAME:Europe/London BST
END:DAYLIGHT
BEGIN:DAYLIGHT
DTSTART:20250330T020000
RDATE:20251026T010000
TZOFFSETFROM:+0000
TZOFFSETTO:+0100
TZNAME:Europe/London BST
END:DAYLIGHT
BEGIN:DAYLIGHT
DTSTART:20260329T020000
RDATE:20261025T010000
TZOFFSETFROM:+0000
TZOFFSETTO:+0100
TZNAME:Europe/London BST
END:DAYLIGHT
BEGIN:DAYLIGHT
DTSTART:20270328T020000
RDATE:20271031T010000
TZOFFSETFROM:+0000
TZOFFSETTO:+0100
TZNAME:Europe/London BST
END:DAYLIGHT
BEGIN:DAYLIGHT
DTSTART:20280326T020000
RDATE:20281029T010000
TZOFFSETFROM:+0000
TZOFFSETTO:+0100
TZNAME:Europe/London BST
END:DAYLIGHT
BEGIN:DAYLIGHT
DTSTART:20290325T020000
RDATE:20291028T010000
TZOFFSETFROM:+0000
TZOFFSETTO:+0100
TZNAME:Europe/London BST
END:DAYLIGHT
BEGIN:DAYLIGHT
DTSTART:20300331T020000
RDATE:20301027T010000
TZOFFSETFROM:+0000
TZOFFSETTO:+0100
TZNAME:Europe/London BST
END:DAYLIGHT
END:VTIMEZONE
BEGIN:VEVENT
UID:7992e6f9357d38034121e6c9b920e850
CATEGORIES:South
CREATED:20230228T092027
SUMMARY:Basic skills 6 bell practice 
LOCATION:Newick St Mary
URL;VALUE=URI:https://scacr.org/news-events/calendar/1099/basic-skills-6-bell-practice?tm
 pl=component
DESCRIPTION:<p>Newick is a ground floor ring of six bells. There is plenty of space in 
 the church. Parking&nbsp;is available in the car park behind the church. Re
 freshments will be available half way through the afternoon.</p><p>It would
  be great to welcome ringers to ring Rounds, Call Changes, Plain Hunt, Plai
 n Bob or Grandsire Doubles. We will need experienced ringers as well as nov
 ices. Please let Richard Neal Southern District Secretary (<span id="cloak2
 bbce301a7c2d7e6725e4df2160fe910">This email address is being protected from
  spambots. You need JavaScript enabled to view it.</span><script type='text
 /javascript'>
				document.getElementById('cloak2bbce301a7c2d7e6725e4df2160
 fe910').innerHTML = '';
				var prefix = '&#109;a' + 'i&#108;' + '&#116;o';
 
				var path = 'hr' + 'ef' + '=';
				var addy2bbce301a7c2d7e6725e4df2160f
 e910 = 's&#101;c-s&#111;&#117;th' + '&#64;';
				addy2bbce301a7c2d7e6725e4d
 f2160fe910 = addy2bbce301a7c2d7e6725e4df2160fe910 + 'sc&#97;cr' + '&#46;' +
  '&#111;rg';
				var addy_text2bbce301a7c2d7e6725e4df2160fe910 = 'm&#97;&#1
 05;lt&#111;:';document.getElementById('cloak2bbce301a7c2d7e6725e4df2160fe91
 0').innerHTML += '<a ' + path + '\'' + prefix + ':' + addy2bbce301a7c2d7e67
 25e4df2160fe910 + '\'>'+addy_text2bbce301a7c2d7e6725e4df2160fe910+'<\/a>';

 		</script><span id="cloak291577d3aef487c119237d34ee82c4d0">This email addr
 ess is being protected from spambots. You need JavaScript enabled to view i
 t.</span><script type='text/javascript'>
				document.getElementById('cloak
 291577d3aef487c119237d34ee82c4d0').innerHTML = '';
				var prefix = '&#109;
 a' + 'i&#108;' + '&#116;o';
				var path = 'hr' + 'ef' + '=';
				var addy2
 91577d3aef487c119237d34ee82c4d0 = 's&#101;c-s&#111;&#117;th' + '&#64;';
			
 	addy291577d3aef487c119237d34ee82c4d0 = addy291577d3aef487c119237d34ee82c4d
 0 + 'sc&#97;cr' + '&#46;' + '&#111;rg';
				var addy_text291577d3aef487c119
 237d34ee82c4d0 = 's&#101;c-s&#111;&#117;th' + '&#64;' + 'sc&#97;cr' + '&#46
 ;' + '&#111;rg';document.getElementById('cloak291577d3aef487c119237d34ee82c
 4d0').innerHTML += '<a ' + path + '\'' + prefix + ':' + addy291577d3aef487c
 119237d34ee82c4d0 + '\'>'+addy_text291577d3aef487c119237d34ee82c4d0+'<\/a>'
 ;
		</script>) know if you will be attending.</p> <a href="https://scacr.or
 g/news-events/calendar/1099/basic-skills-6-bell-practice?tmpl=component">Th
 is event was imported from: https://scacr.org/news-events/calendar/1099/bas
 ic-skills-6-bell-practice?tmpl=component</a>CONTACT:Richard Neal (District Secretary)  This email address is being protected from spambots. You need JavaScript enabled to view it.
				document.getElementById('cloak4dbb124baf62cbfb6166ed2a160f300d').innerHTML = '';
				var prefix = '&#109;a' + 'i&#108;' + '&#116;o';
				var path = 'hr' + 'ef' + '=';
				var addy4dbb124baf62cbfb6166ed2a160f300d = 's&#101;c-s&#111;&#117;th' + '&#64;';
				addy4dbb124baf62cbfb6166ed2a160f300d = addy4dbb124baf62cbfb6166ed2a160f300d + 'sc&#97;cr' + '&#46;' + '&#111;rg';
				var addy_text4dbb124baf62cbfb6166ed2a160f300d = 's&#101;c-s&#111;&#117;th' + '&#64;' + 'sc&#97;cr' + '&#46;' + '&#111;rg';document.getElementById('cloak4dbb124baf62cbfb6166ed2a160f300d').innerHTML += '<a ' + path + '\'' + prefix + ':' + addy4dbb124baf62cbfb6166ed2a160f300d + '\'>'+addy_text4dbb124baf62cbfb6166ed2a160f300d+'';
		
DTSTAMP:20260424T224652
DTSTART;TZID=Europe/London:20230415T140000
DTEND;TZID=Europe/London:20230415T160000
SEQUENCE:0
TRANSP:OPAQUE
END:VEVENT
END:VCALENDAR