BEGIN:VCALENDAR
VERSION:2.0
PRODID:-//jEvents 2.0 for Joomla//EN
CALSCALE:GREGORIAN
METHOD:PUBLISH
BEGIN:VTIMEZONE
TZID:Europe/London
BEGIN:STANDARD
DTSTART:20221030T010000
RDATE:20230326T020000
TZOFFSETFROM:+0100
TZOFFSETTO:+0000
TZNAME:Europe/London GMT
END:STANDARD
BEGIN:STANDARD
DTSTART:20231029T010000
RDATE:20240331T020000
TZOFFSETFROM:+0100
TZOFFSETTO:+0000
TZNAME:Europe/London GMT
END:STANDARD
BEGIN:STANDARD
DTSTART:20241027T010000
RDATE:20250330T020000
TZOFFSETFROM:+0100
TZOFFSETTO:+0000
TZNAME:Europe/London GMT
END:STANDARD
BEGIN:STANDARD
DTSTART:20251026T010000
RDATE:20260329T020000
TZOFFSETFROM:+0100
TZOFFSETTO:+0000
TZNAME:Europe/London GMT
END:STANDARD
BEGIN:STANDARD
DTSTART:20261025T010000
RDATE:20270328T020000
TZOFFSETFROM:+0100
TZOFFSETTO:+0000
TZNAME:Europe/London GMT
END:STANDARD
BEGIN:STANDARD
DTSTART:20271031T010000
RDATE:20280326T020000
TZOFFSETFROM:+0100
TZOFFSETTO:+0000
TZNAME:Europe/London GMT
END:STANDARD
BEGIN:STANDARD
DTSTART:20281029T010000
RDATE:20290325T020000
TZOFFSETFROM:+0100
TZOFFSETTO:+0000
TZNAME:Europe/London GMT
END:STANDARD
BEGIN:STANDARD
DTSTART:20291028T010000
RDATE:20300331T020000
TZOFFSETFROM:+0100
TZOFFSETTO:+0000
TZNAME:Europe/London GMT
END:STANDARD
BEGIN:STANDARD
DTSTART:20301027T010000
RDATE:20310330T020000
TZOFFSETFROM:+0100
TZOFFSETTO:+0000
TZNAME:Europe/London GMT
END:STANDARD
BEGIN:DAYLIGHT
DTSTART:20220707T100000
RDATE:20221030T010000
TZOFFSETFROM:+0000
TZOFFSETTO:+0100
TZNAME:Europe/London BST
END:DAYLIGHT
BEGIN:DAYLIGHT
DTSTART:20230326T020000
RDATE:20231029T010000
TZOFFSETFROM:+0000
TZOFFSETTO:+0100
TZNAME:Europe/London BST
END:DAYLIGHT
BEGIN:DAYLIGHT
DTSTART:20240331T020000
RDATE:20241027T010000
TZOFFSETFROM:+0000
TZOFFSETTO:+0100
TZNAME:Europe/London BST
END:DAYLIGHT
BEGIN:DAYLIGHT
DTSTART:20250330T020000
RDATE:20251026T010000
TZOFFSETFROM:+0000
TZOFFSETTO:+0100
TZNAME:Europe/London BST
END:DAYLIGHT
BEGIN:DAYLIGHT
DTSTART:20260329T020000
RDATE:20261025T010000
TZOFFSETFROM:+0000
TZOFFSETTO:+0100
TZNAME:Europe/London BST
END:DAYLIGHT
BEGIN:DAYLIGHT
DTSTART:20270328T020000
RDATE:20271031T010000
TZOFFSETFROM:+0000
TZOFFSETTO:+0100
TZNAME:Europe/London BST
END:DAYLIGHT
BEGIN:DAYLIGHT
DTSTART:20280326T020000
RDATE:20281029T010000
TZOFFSETFROM:+0000
TZOFFSETTO:+0100
TZNAME:Europe/London BST
END:DAYLIGHT
BEGIN:DAYLIGHT
DTSTART:20290325T020000
RDATE:20291028T010000
TZOFFSETFROM:+0000
TZOFFSETTO:+0100
TZNAME:Europe/London BST
END:DAYLIGHT
BEGIN:DAYLIGHT
DTSTART:20300331T020000
RDATE:20301027T010000
TZOFFSETFROM:+0000
TZOFFSETTO:+0100
TZNAME:Europe/London BST
END:DAYLIGHT
END:VTIMEZONE
BEGIN:VEVENT
UID:056853ad1329b725f5717c413a3c90f5
CATEGORIES:Young Ringers Event
CREATED:20230316T154933
SUMMARY:Sussex Young Ringers at RWNYC
LOCATION:York
URL;VALUE=URI:https://scacr.org/news-events/calendar/1106/sussex-young-ringers-at-rwnyc?t
 mpl=component
DESCRIPTION:Sussex Young Ringers will be competing against the rest of the country at Y
 ork this year. \nThanks to SCACR, travel and accommodation is covered for e
 ach competing young ringer and one family member. If you would like to supp
 ort the Young Ringers' Fund, please consider donating online. \nMore to fol
 low nearer the time.\n \n \n \n This event was imported from: https://scacr
 .org/news-events/calendar/1106/sussex-young-ringers-at-rwnyc?tmpl=component
  (https://scacr.org/news-events/calendar/1106/sussex-young-ringers-at-rwnyc
 ?tmpl=component)
X-ALT-DESC;FMTTYPE=text/html:<p>Sussex Young Ringers will be competing against the rest of the country a
 t York this year.&nbsp;</p><p>Thanks to SCACR, travel and accommodation is 
 covered for each competing young ringer and one family member. If you would
  like to support the Young Ringers' Fund, please consider donating online.&
 nbsp;</p><p>More to follow nearer the time.</p><p>&nbsp;</p><p>&nbsp;</p><p
 >&nbsp;</p> <a href="https://scacr.org/news-events/calendar/1106/sussex-you
 ng-ringers-at-rwnyc?tmpl=component">This event was imported from: https://s
 cacr.org/news-events/calendar/1106/sussex-young-ringers-at-rwnyc?tmpl=compo
 nent</a>CONTACT:Marisa Hayes
DTSTAMP:20260420T183352
DTSTART;TZID=Europe/London:20230708T100000
DTEND;TZID=Europe/London:20230708T170000
SEQUENCE:0
TRANSP:OPAQUE
END:VEVENT
END:VCALENDAR