BEGIN:VCALENDAR
VERSION:2.0
PRODID:-//jEvents 2.0 for Joomla//EN
CALSCALE:GREGORIAN
METHOD:PUBLISH
BEGIN:VTIMEZONE
TZID:Europe/London
BEGIN:STANDARD
DTSTART:20221030T010000
RDATE:20230326T020000
TZOFFSETFROM:+0100
TZOFFSETTO:+0000
TZNAME:Europe/London GMT
END:STANDARD
BEGIN:STANDARD
DTSTART:20231029T010000
RDATE:20240331T020000
TZOFFSETFROM:+0100
TZOFFSETTO:+0000
TZNAME:Europe/London GMT
END:STANDARD
BEGIN:STANDARD
DTSTART:20241027T010000
RDATE:20250330T020000
TZOFFSETFROM:+0100
TZOFFSETTO:+0000
TZNAME:Europe/London GMT
END:STANDARD
BEGIN:STANDARD
DTSTART:20251026T010000
RDATE:20260329T020000
TZOFFSETFROM:+0100
TZOFFSETTO:+0000
TZNAME:Europe/London GMT
END:STANDARD
BEGIN:STANDARD
DTSTART:20261025T010000
RDATE:20270328T020000
TZOFFSETFROM:+0100
TZOFFSETTO:+0000
TZNAME:Europe/London GMT
END:STANDARD
BEGIN:STANDARD
DTSTART:20271031T010000
RDATE:20280326T020000
TZOFFSETFROM:+0100
TZOFFSETTO:+0000
TZNAME:Europe/London GMT
END:STANDARD
BEGIN:STANDARD
DTSTART:20281029T010000
RDATE:20290325T020000
TZOFFSETFROM:+0100
TZOFFSETTO:+0000
TZNAME:Europe/London GMT
END:STANDARD
BEGIN:STANDARD
DTSTART:20291028T010000
RDATE:20300331T020000
TZOFFSETFROM:+0100
TZOFFSETTO:+0000
TZNAME:Europe/London GMT
END:STANDARD
BEGIN:STANDARD
DTSTART:20301027T010000
RDATE:20310330T020000
TZOFFSETFROM:+0100
TZOFFSETTO:+0000
TZNAME:Europe/London GMT
END:STANDARD
BEGIN:DAYLIGHT
DTSTART:20220602T141500
RDATE:20221030T010000
TZOFFSETFROM:+0000
TZOFFSETTO:+0100
TZNAME:Europe/London BST
END:DAYLIGHT
BEGIN:DAYLIGHT
DTSTART:20230326T020000
RDATE:20231029T010000
TZOFFSETFROM:+0000
TZOFFSETTO:+0100
TZNAME:Europe/London BST
END:DAYLIGHT
BEGIN:DAYLIGHT
DTSTART:20240331T020000
RDATE:20241027T010000
TZOFFSETFROM:+0000
TZOFFSETTO:+0100
TZNAME:Europe/London BST
END:DAYLIGHT
BEGIN:DAYLIGHT
DTSTART:20250330T020000
RDATE:20251026T010000
TZOFFSETFROM:+0000
TZOFFSETTO:+0100
TZNAME:Europe/London BST
END:DAYLIGHT
BEGIN:DAYLIGHT
DTSTART:20260329T020000
RDATE:20261025T010000
TZOFFSETFROM:+0000
TZOFFSETTO:+0100
TZNAME:Europe/London BST
END:DAYLIGHT
BEGIN:DAYLIGHT
DTSTART:20270328T020000
RDATE:20271031T010000
TZOFFSETFROM:+0000
TZOFFSETTO:+0100
TZNAME:Europe/London BST
END:DAYLIGHT
BEGIN:DAYLIGHT
DTSTART:20280326T020000
RDATE:20281029T010000
TZOFFSETFROM:+0000
TZOFFSETTO:+0100
TZNAME:Europe/London BST
END:DAYLIGHT
BEGIN:DAYLIGHT
DTSTART:20290325T020000
RDATE:20291028T010000
TZOFFSETFROM:+0000
TZOFFSETTO:+0100
TZNAME:Europe/London BST
END:DAYLIGHT
BEGIN:DAYLIGHT
DTSTART:20300331T020000
RDATE:20301027T010000
TZOFFSETFROM:+0000
TZOFFSETTO:+0100
TZNAME:Europe/London BST
END:DAYLIGHT
END:VTIMEZONE
BEGIN:VEVENT
UID:7e246d3ed97440fed486685487df61c2
CATEGORIES:South
CREATED:20230512T105007
SUMMARY:Basic Practice
LOCATION:Good Shepherd Brighton
URL;VALUE=URI:https://scacr.org/news-events/calendar/1132/basic-practice?tmpl=component
DESCRIPTION:The Good Shepherd is a ring of eight bells. There is plenty of space in the
  belfry. Parking is available in the streets near the church.\nThis is a ch
 ance to ring Rounds, Call Changes, Plain Hunt, Plain Bob or Grandsire Doubl
 es. So that enough time is given to novice ringers numbers will be limited.
  We will need experienced ringers as well as novices. Please let Richard Ne
 al, the District Secretary, know if you would like to attend (This email ad
 dress is being protected from spambots. You need JavaScript enabled to view
  it.
				document.getElementById('cloak6e9610be70a1f06f6deaf12c83151820').i
 nnerHTML = '';
				var prefix = '&#109;a' + 'i&#108;' + '&#116;o';
				var 
 path = 'hr' + 'ef' + '=';
				var addy6e9610be70a1f06f6deaf12c83151820 = 's
 &#101;c-s&#111;&#117;th' + '&#64;';
				addy6e9610be70a1f06f6deaf12c8315182
 0 = addy6e9610be70a1f06f6deaf12c83151820 + 'sc&#97;cr' + '&#46;' + '&#111;r
 g';
				var addy_text6e9610be70a1f06f6deaf12c83151820 = 'm&#97;&#105;lt&#11
 1;:';document.getElementById('cloak6e9610be70a1f06f6deaf12c83151820').inner
 HTML += '<a ' + path + '\'' + prefix + ':' + addy6e9610be70a1f06f6deaf12c83
 151820 + '\'>'+addy_text6e9610be70a1f06f6deaf12c83151820+'';
		This email a
 ddress is being protected from spambots. You need JavaScript enabled to vie
 w it.
				document.getElementById('cloaka2a7258371bbdd912782eb9751ff3827').
 innerHTML = '';
				var prefix = '&#109;a' + 'i&#108;' + '&#116;o';
				var
  path = 'hr' + 'ef' + '=';
				var addya2a7258371bbdd912782eb9751ff3827 = '
 s&#101;c-s&#111;&#117;th' + '&#64;';
				addya2a7258371bbdd912782eb9751ff38
 27 = addya2a7258371bbdd912782eb9751ff3827 + 'sc&#97;cr' + '&#46;' + '&#111;
 rg';
				var addy_texta2a7258371bbdd912782eb9751ff3827 = 's&#101;c-s&#111;&
 #117;th' + '&#64;' + 'sc&#97;cr' + '&#46;' + '&#111;rg';document.getElement
 ById('cloaka2a7258371bbdd912782eb9751ff3827').innerHTML += '<a ' + path + '
 \'' + prefix + ':' + addya2a7258371bbdd912782eb9751ff3827 + '\'>'+addy_text
 a2a7258371bbdd912782eb9751ff3827+'';
		) or could help.\n This event was im
 ported from: https://scacr.org/news-events/calendar/1132/basic-practice?tmp
 l=component (https://scacr.org/news-events/calendar/1132/basic-practice?tmp
 l=component)
X-ALT-DESC;FMTTYPE=text/html:<p>The Good Shepherd is a ring of eight bells. There is plenty of space in 
 the belfry. Parking&nbsp;is available in the streets near the church.</p><p
 >This is a chance to ring Rounds, Call Changes, Plain Hunt, Plain Bob or Gr
 andsire Doubles. So that enough time is given to novice ringers numbers wil
 l be limited. We will need experienced ringers as well as novices. Please l
 et Richard Neal, the District Secretary, know if you would like to attend (
 <span id="cloak6e9610be70a1f06f6deaf12c83151820">This email address is bein
 g protected from spambots. You need JavaScript enabled to view it.</span><s
 cript type='text/javascript'>
				document.getElementById('cloak6e9610be70a
 1f06f6deaf12c83151820').innerHTML = '';
				var prefix = '&#109;a' + 'i&#10
 8;' + '&#116;o';
				var path = 'hr' + 'ef' + '=';
				var addy6e9610be70a1
 f06f6deaf12c83151820 = 's&#101;c-s&#111;&#117;th' + '&#64;';
				addy6e9610
 be70a1f06f6deaf12c83151820 = addy6e9610be70a1f06f6deaf12c83151820 + 'sc&#97
 ;cr' + '&#46;' + '&#111;rg';
				var addy_text6e9610be70a1f06f6deaf12c83151
 820 = 'm&#97;&#105;lt&#111;:';document.getElementById('cloak6e9610be70a1f06
 f6deaf12c83151820').innerHTML += '<a ' + path + '\'' + prefix + ':' + addy6
 e9610be70a1f06f6deaf12c83151820 + '\'>'+addy_text6e9610be70a1f06f6deaf12c83
 151820+'<\/a>';
		</script><span id="cloaka2a7258371bbdd912782eb9751ff3827"
 >This email address is being protected from spambots. You need JavaScript e
 nabled to view it.</span><script type='text/javascript'>
				document.getEl
 ementById('cloaka2a7258371bbdd912782eb9751ff3827').innerHTML = '';
				var 
 prefix = '&#109;a' + 'i&#108;' + '&#116;o';
				var path = 'hr' + 'ef' + '=
 ';
				var addya2a7258371bbdd912782eb9751ff3827 = 's&#101;c-s&#111;&#117;th
 ' + '&#64;';
				addya2a7258371bbdd912782eb9751ff3827 = addya2a7258371bbdd9
 12782eb9751ff3827 + 'sc&#97;cr' + '&#46;' + '&#111;rg';
				var addy_texta2
 a7258371bbdd912782eb9751ff3827 = 's&#101;c-s&#111;&#117;th' + '&#64;' + 'sc
 &#97;cr' + '&#46;' + '&#111;rg';document.getElementById('cloaka2a7258371bbd
 d912782eb9751ff3827').innerHTML += '<a ' + path + '\'' + prefix + ':' + add
 ya2a7258371bbdd912782eb9751ff3827 + '\'>'+addy_texta2a7258371bbdd912782eb97
 51ff3827+'<\/a>';
		</script>) or could help.</p> <a href="https://scacr.or
 g/news-events/calendar/1132/basic-practice?tmpl=component">This event was i
 mported from: https://scacr.org/news-events/calendar/1132/basic-practice?tm
 pl=component</a>CONTACT:Richard Neal (District Secretary)  This email address is being protected from spambots. You need JavaScript enabled to view it.
				document.getElementById('cloak72d00812939d4c487905e3d8387e957b').innerHTML = '';
				var prefix = '&#109;a' + 'i&#108;' + '&#116;o';
				var path = 'hr' + 'ef' + '=';
				var addy72d00812939d4c487905e3d8387e957b = 's&#101;c-s&#111;&#117;th' + '&#64;';
				addy72d00812939d4c487905e3d8387e957b = addy72d00812939d4c487905e3d8387e957b + 'sc&#97;cr' + '&#46;' + '&#111;rg';
				var addy_text72d00812939d4c487905e3d8387e957b = 's&#101;c-s&#111;&#117;th' + '&#64;' + 'sc&#97;cr' + '&#46;' + '&#111;rg';document.getElementById('cloak72d00812939d4c487905e3d8387e957b').innerHTML += '<a ' + path + '\'' + prefix + ':' + addy72d00812939d4c487905e3d8387e957b + '\'>'+addy_text72d00812939d4c487905e3d8387e957b+'';
		
DTSTAMP:20260424T072512
DTSTART;TZID=Europe/London:20230603T141500
DTEND;TZID=Europe/London:20230603T160000
SEQUENCE:0
TRANSP:OPAQUE
END:VEVENT
END:VCALENDAR