BEGIN:VCALENDAR
VERSION:2.0
PRODID:-//jEvents 2.0 for Joomla//EN
CALSCALE:GREGORIAN
METHOD:PUBLISH
BEGIN:VTIMEZONE
TZID:Europe/London
BEGIN:STANDARD
DTSTART:20221030T010000
RDATE:20230326T020000
TZOFFSETFROM:+0100
TZOFFSETTO:+0000
TZNAME:Europe/London GMT
END:STANDARD
BEGIN:STANDARD
DTSTART:20231029T010000
RDATE:20240331T020000
TZOFFSETFROM:+0100
TZOFFSETTO:+0000
TZNAME:Europe/London GMT
END:STANDARD
BEGIN:STANDARD
DTSTART:20241027T010000
RDATE:20250330T020000
TZOFFSETFROM:+0100
TZOFFSETTO:+0000
TZNAME:Europe/London GMT
END:STANDARD
BEGIN:STANDARD
DTSTART:20251026T010000
RDATE:20260329T020000
TZOFFSETFROM:+0100
TZOFFSETTO:+0000
TZNAME:Europe/London GMT
END:STANDARD
BEGIN:STANDARD
DTSTART:20261025T010000
RDATE:20270328T020000
TZOFFSETFROM:+0100
TZOFFSETTO:+0000
TZNAME:Europe/London GMT
END:STANDARD
BEGIN:STANDARD
DTSTART:20271031T010000
RDATE:20280326T020000
TZOFFSETFROM:+0100
TZOFFSETTO:+0000
TZNAME:Europe/London GMT
END:STANDARD
BEGIN:STANDARD
DTSTART:20281029T010000
RDATE:20290325T020000
TZOFFSETFROM:+0100
TZOFFSETTO:+0000
TZNAME:Europe/London GMT
END:STANDARD
BEGIN:STANDARD
DTSTART:20291028T010000
RDATE:20300331T020000
TZOFFSETFROM:+0100
TZOFFSETTO:+0000
TZNAME:Europe/London GMT
END:STANDARD
BEGIN:STANDARD
DTSTART:20301027T010000
RDATE:20310330T020000
TZOFFSETFROM:+0100
TZOFFSETTO:+0000
TZNAME:Europe/London GMT
END:STANDARD
BEGIN:DAYLIGHT
DTSTART:20221020T140000
RDATE:20221030T010000
TZOFFSETFROM:+0000
TZOFFSETTO:+0100
TZNAME:Europe/London BST
END:DAYLIGHT
BEGIN:DAYLIGHT
DTSTART:20230326T020000
RDATE:20231029T010000
TZOFFSETFROM:+0000
TZOFFSETTO:+0100
TZNAME:Europe/London BST
END:DAYLIGHT
BEGIN:DAYLIGHT
DTSTART:20240331T020000
RDATE:20241027T010000
TZOFFSETFROM:+0000
TZOFFSETTO:+0100
TZNAME:Europe/London BST
END:DAYLIGHT
BEGIN:DAYLIGHT
DTSTART:20250330T020000
RDATE:20251026T010000
TZOFFSETFROM:+0000
TZOFFSETTO:+0100
TZNAME:Europe/London BST
END:DAYLIGHT
BEGIN:DAYLIGHT
DTSTART:20260329T020000
RDATE:20261025T010000
TZOFFSETFROM:+0000
TZOFFSETTO:+0100
TZNAME:Europe/London BST
END:DAYLIGHT
BEGIN:DAYLIGHT
DTSTART:20270328T020000
RDATE:20271031T010000
TZOFFSETFROM:+0000
TZOFFSETTO:+0100
TZNAME:Europe/London BST
END:DAYLIGHT
BEGIN:DAYLIGHT
DTSTART:20280326T020000
RDATE:20281029T010000
TZOFFSETFROM:+0000
TZOFFSETTO:+0100
TZNAME:Europe/London BST
END:DAYLIGHT
BEGIN:DAYLIGHT
DTSTART:20290325T020000
RDATE:20291028T010000
TZOFFSETFROM:+0000
TZOFFSETTO:+0100
TZNAME:Europe/London BST
END:DAYLIGHT
BEGIN:DAYLIGHT
DTSTART:20300331T020000
RDATE:20301027T010000
TZOFFSETFROM:+0000
TZOFFSETTO:+0100
TZNAME:Europe/London BST
END:DAYLIGHT
END:VTIMEZONE
BEGIN:VEVENT
UID:7df7ae56e6ea3c8f30f2643bf84bb069
CATEGORIES:South
CREATED:20230512T111907
SUMMARY:Basic 8 bell practice
LOCATION:Uckfield Church
URL;VALUE=URI:https://scacr.org/news-events/calendar/1134/basic-8-bell-practice?tmpl=comp
 onent
DESCRIPTION:<p>Uckfield is a ring of eight bells. Parking&nbsp;is available in the car 
 park near the south side of the church. Refreshments will be available half
  way through the afternoon.</p><p>It would be great to welcome ringers to r
 ing Rounds, Call Changes, Plain Hunt, Plain Bob or Grandsire Triples. We wi
 ll need experienced ringers as well as novices. Please let Richard Neal Sou
 thern District Secretary (<span id="cloak127bbd47343d926a3b32df5cb8bba029">
 This email address is being protected from spambots. You need JavaScript en
 abled to view it.</span><script type='text/javascript'>
				document.getEle
 mentById('cloak127bbd47343d926a3b32df5cb8bba029').innerHTML = '';
				var p
 refix = '&#109;a' + 'i&#108;' + '&#116;o';
				var path = 'hr' + 'ef' + '='
 ;
				var addy127bbd47343d926a3b32df5cb8bba029 = 's&#101;c-s&#111;&#117;th'
  + '&#64;';
				addy127bbd47343d926a3b32df5cb8bba029 = addy127bbd47343d926a
 3b32df5cb8bba029 + 'sc&#97;cr' + '&#46;' + '&#111;rg';
				var addy_text127
 bbd47343d926a3b32df5cb8bba029 = 'm&#97;&#105;lt&#111;:';document.getElement
 ById('cloak127bbd47343d926a3b32df5cb8bba029').innerHTML += '<a ' + path + '
 \'' + prefix + ':' + addy127bbd47343d926a3b32df5cb8bba029 + '\'>'+addy_text
 127bbd47343d926a3b32df5cb8bba029+'<\/a>';
		</script><span id="cloakcb08dfd
 8da32a2188ff38a865dc5e8c3">This email address is being protected from spamb
 ots. You need JavaScript enabled to view it.</span><script type='text/javas
 cript'>
				document.getElementById('cloakcb08dfd8da32a2188ff38a865dc5e8c3'
 ).innerHTML = '';
				var prefix = '&#109;a' + 'i&#108;' + '&#116;o';
				v
 ar path = 'hr' + 'ef' + '=';
				var addycb08dfd8da32a2188ff38a865dc5e8c3 =
  's&#101;c-s&#111;&#117;th' + '&#64;';
				addycb08dfd8da32a2188ff38a865dc5
 e8c3 = addycb08dfd8da32a2188ff38a865dc5e8c3 + 'sc&#97;cr' + '&#46;' + '&#11
 1;rg';
				var addy_textcb08dfd8da32a2188ff38a865dc5e8c3 = 's&#101;c-s&#111
 ;&#117;th' + '&#64;' + 'sc&#97;cr' + '&#46;' + '&#111;rg';document.getEleme
 ntById('cloakcb08dfd8da32a2188ff38a865dc5e8c3').innerHTML += '<a ' + path +
  '\'' + prefix + ':' + addycb08dfd8da32a2188ff38a865dc5e8c3 + '\'>'+addy_te
 xtcb08dfd8da32a2188ff38a865dc5e8c3+'<\/a>';
		</script>) know if you will b
 e attending.</p> <a href="https://scacr.org/news-events/calendar/1134/basic
 -8-bell-practice?tmpl=component">This event was imported from: https://scac
 r.org/news-events/calendar/1134/basic-8-bell-practice?tmpl=component</a>CONTACT:Richard Neal (District Secretary)  This email address is being protected from spambots. You need JavaScript enabled to view it.
				document.getElementById('cloak59d51269a48b9ae132f1a6677966b757').innerHTML = '';
				var prefix = '&#109;a' + 'i&#108;' + '&#116;o';
				var path = 'hr' + 'ef' + '=';
				var addy59d51269a48b9ae132f1a6677966b757 = 's&#101;c-s&#111;&#117;th' + '&#64;';
				addy59d51269a48b9ae132f1a6677966b757 = addy59d51269a48b9ae132f1a6677966b757 + 'sc&#97;cr' + '&#46;' + '&#111;rg';
				var addy_text59d51269a48b9ae132f1a6677966b757 = 's&#101;c-s&#111;&#117;th' + '&#64;' + 'sc&#97;cr' + '&#46;' + '&#111;rg';document.getElementById('cloak59d51269a48b9ae132f1a6677966b757').innerHTML += '<a ' + path + '\'' + prefix + ':' + addy59d51269a48b9ae132f1a6677966b757 + '\'>'+addy_text59d51269a48b9ae132f1a6677966b757+'';
		
DTSTAMP:20260423T235207
DTSTART;TZID=Europe/London:20231021T140000
DTEND;TZID=Europe/London:20231021T160000
SEQUENCE:0
TRANSP:OPAQUE
END:VEVENT
END:VCALENDAR