BEGIN:VCALENDAR
VERSION:2.0
PRODID:-//jEvents 2.0 for Joomla//EN
CALSCALE:GREGORIAN
METHOD:PUBLISH
BEGIN:VTIMEZONE
TZID:Europe/London
BEGIN:STANDARD
DTSTART:20221215T140000
RDATE:20230326T020000
TZOFFSETFROM:+0100
TZOFFSETTO:+0000
TZNAME:Europe/London GMT
END:STANDARD
BEGIN:STANDARD
DTSTART:20231029T010000
RDATE:20240331T020000
TZOFFSETFROM:+0100
TZOFFSETTO:+0000
TZNAME:Europe/London GMT
END:STANDARD
BEGIN:STANDARD
DTSTART:20241027T010000
RDATE:20250330T020000
TZOFFSETFROM:+0100
TZOFFSETTO:+0000
TZNAME:Europe/London GMT
END:STANDARD
BEGIN:STANDARD
DTSTART:20251026T010000
RDATE:20260329T020000
TZOFFSETFROM:+0100
TZOFFSETTO:+0000
TZNAME:Europe/London GMT
END:STANDARD
BEGIN:STANDARD
DTSTART:20261025T010000
RDATE:20270328T020000
TZOFFSETFROM:+0100
TZOFFSETTO:+0000
TZNAME:Europe/London GMT
END:STANDARD
BEGIN:STANDARD
DTSTART:20271031T010000
RDATE:20280326T020000
TZOFFSETFROM:+0100
TZOFFSETTO:+0000
TZNAME:Europe/London GMT
END:STANDARD
BEGIN:STANDARD
DTSTART:20281029T010000
RDATE:20290325T020000
TZOFFSETFROM:+0100
TZOFFSETTO:+0000
TZNAME:Europe/London GMT
END:STANDARD
BEGIN:STANDARD
DTSTART:20291028T010000
RDATE:20300331T020000
TZOFFSETFROM:+0100
TZOFFSETTO:+0000
TZNAME:Europe/London GMT
END:STANDARD
BEGIN:STANDARD
DTSTART:20301027T010000
RDATE:20310330T020000
TZOFFSETFROM:+0100
TZOFFSETTO:+0000
TZNAME:Europe/London GMT
END:STANDARD
BEGIN:DAYLIGHT
DTSTART:20230326T020000
RDATE:20231029T010000
TZOFFSETFROM:+0000
TZOFFSETTO:+0100
TZNAME:Europe/London BST
END:DAYLIGHT
BEGIN:DAYLIGHT
DTSTART:20240331T020000
RDATE:20241027T010000
TZOFFSETFROM:+0000
TZOFFSETTO:+0100
TZNAME:Europe/London BST
END:DAYLIGHT
BEGIN:DAYLIGHT
DTSTART:20250330T020000
RDATE:20251026T010000
TZOFFSETFROM:+0000
TZOFFSETTO:+0100
TZNAME:Europe/London BST
END:DAYLIGHT
BEGIN:DAYLIGHT
DTSTART:20260329T020000
RDATE:20261025T010000
TZOFFSETFROM:+0000
TZOFFSETTO:+0100
TZNAME:Europe/London BST
END:DAYLIGHT
BEGIN:DAYLIGHT
DTSTART:20270328T020000
RDATE:20271031T010000
TZOFFSETFROM:+0000
TZOFFSETTO:+0100
TZNAME:Europe/London BST
END:DAYLIGHT
BEGIN:DAYLIGHT
DTSTART:20280326T020000
RDATE:20281029T010000
TZOFFSETFROM:+0000
TZOFFSETTO:+0100
TZNAME:Europe/London BST
END:DAYLIGHT
BEGIN:DAYLIGHT
DTSTART:20290325T020000
RDATE:20291028T010000
TZOFFSETFROM:+0000
TZOFFSETTO:+0100
TZNAME:Europe/London BST
END:DAYLIGHT
BEGIN:DAYLIGHT
DTSTART:20300331T020000
RDATE:20301027T010000
TZOFFSETFROM:+0000
TZOFFSETTO:+0100
TZNAME:Europe/London BST
END:DAYLIGHT
END:VTIMEZONE
BEGIN:VEVENT
UID:ca04ec0f85a34e00e570e8c6940c3d47
CATEGORIES:South
CREATED:20230512T112533
SUMMARY:General Practice
LOCATION:Seaford Church
URL;VALUE=URI:https://scacr.org/news-events/calendar/1135/general-practice?tmpl=component
DESCRIPTION:Seaford is a ring of eight bells. Parking is available in the town car park
 s. Refreshments will be available half way through the afternoon.\nIt would
  be great to welcome ringers of all abilities to ring rounds and onwards. A
 ll welcome. Please let Richard Neal Southern District Secretary (This email
  address is being protected from spambots. You need JavaScript enabled to v
 iew it.
				document.getElementById('cloake4b881c509941e1899f4706c781ff113'
 ).innerHTML = '';
				var prefix = '&#109;a' + 'i&#108;' + '&#116;o';
				v
 ar path = 'hr' + 'ef' + '=';
				var addye4b881c509941e1899f4706c781ff113 =
  's&#101;c-s&#111;&#117;th' + '&#64;';
				addye4b881c509941e1899f4706c781f
 f113 = addye4b881c509941e1899f4706c781ff113 + 'sc&#97;cr' + '&#46;' + '&#11
 1;rg';
				var addy_texte4b881c509941e1899f4706c781ff113 = 'm&#97;&#105;lt&
 #111;:';document.getElementById('cloake4b881c509941e1899f4706c781ff113').in
 nerHTML += '<a ' + path + '\'' + prefix + ':' + addye4b881c509941e1899f4706
 c781ff113 + '\'>'+addy_texte4b881c509941e1899f4706c781ff113+'';
		This emai
 l address is being protected from spambots. You need JavaScript enabled to 
 view it.
				document.getElementById('cloak25212ceaff9fc2c99cd73e67cad10390
 ').innerHTML = '';
				var prefix = '&#109;a' + 'i&#108;' + '&#116;o';
				
 var path = 'hr' + 'ef' + '=';
				var addy25212ceaff9fc2c99cd73e67cad10390 
 = 's&#101;c-s&#111;&#117;th' + '&#64;';
				addy25212ceaff9fc2c99cd73e67cad
 10390 = addy25212ceaff9fc2c99cd73e67cad10390 + 'sc&#97;cr' + '&#46;' + '&#1
 11;rg';
				var addy_text25212ceaff9fc2c99cd73e67cad10390 = 's&#101;c-s&#11
 1;&#117;th' + '&#64;' + 'sc&#97;cr' + '&#46;' + '&#111;rg';document.getElem
 entById('cloak25212ceaff9fc2c99cd73e67cad10390').innerHTML += '<a ' + path 
 + '\'' + prefix + ':' + addy25212ceaff9fc2c99cd73e67cad10390 + '\'>'+addy_t
 ext25212ceaff9fc2c99cd73e67cad10390+'';
		) know if you will be attending.\
 n This event was imported from: https://scacr.org/news-events/calendar/1135
 /general-practice?tmpl=component (https://scacr.org/news-events/calendar/11
 35/general-practice?tmpl=component)
X-ALT-DESC;FMTTYPE=text/html:<p>Seaford is a ring of eight bells. Parking&nbsp;is available in the town 
 car parks. Refreshments will be available half way through the afternoon.</
 p><p>It would be great to welcome ringers of all abilities to ring rounds a
 nd onwards. All welcome. Please let Richard Neal Southern District Secretar
 y (<span id="cloake4b881c509941e1899f4706c781ff113">This email address is b
 eing protected from spambots. You need JavaScript enabled to view it.</span
 ><script type='text/javascript'>
				document.getElementById('cloake4b881c5
 09941e1899f4706c781ff113').innerHTML = '';
				var prefix = '&#109;a' + 'i&
 #108;' + '&#116;o';
				var path = 'hr' + 'ef' + '=';
				var addye4b881c50
 9941e1899f4706c781ff113 = 's&#101;c-s&#111;&#117;th' + '&#64;';
				addye4b
 881c509941e1899f4706c781ff113 = addye4b881c509941e1899f4706c781ff113 + 'sc&
 #97;cr' + '&#46;' + '&#111;rg';
				var addy_texte4b881c509941e1899f4706c78
 1ff113 = 'm&#97;&#105;lt&#111;:';document.getElementById('cloake4b881c50994
 1e1899f4706c781ff113').innerHTML += '<a ' + path + '\'' + prefix + ':' + ad
 dye4b881c509941e1899f4706c781ff113 + '\'>'+addy_texte4b881c509941e1899f4706
 c781ff113+'<\/a>';
		</script><span id="cloak25212ceaff9fc2c99cd73e67cad103
 90">This email address is being protected from spambots. You need JavaScrip
 t enabled to view it.</span><script type='text/javascript'>
				document.ge
 tElementById('cloak25212ceaff9fc2c99cd73e67cad10390').innerHTML = '';
				v
 ar prefix = '&#109;a' + 'i&#108;' + '&#116;o';
				var path = 'hr' + 'ef' +
  '=';
				var addy25212ceaff9fc2c99cd73e67cad10390 = 's&#101;c-s&#111;&#117
 ;th' + '&#64;';
				addy25212ceaff9fc2c99cd73e67cad10390 = addy25212ceaff9f
 c2c99cd73e67cad10390 + 'sc&#97;cr' + '&#46;' + '&#111;rg';
				var addy_tex
 t25212ceaff9fc2c99cd73e67cad10390 = 's&#101;c-s&#111;&#117;th' + '&#64;' + 
 'sc&#97;cr' + '&#46;' + '&#111;rg';document.getElementById('cloak25212ceaff
 9fc2c99cd73e67cad10390').innerHTML += '<a ' + path + '\'' + prefix + ':' + 
 addy25212ceaff9fc2c99cd73e67cad10390 + '\'>'+addy_text25212ceaff9fc2c99cd73
 e67cad10390+'<\/a>';
		</script>) know if you will be attending.</p> <a hre
 f="https://scacr.org/news-events/calendar/1135/general-practice?tmpl=compon
 ent">This event was imported from: https://scacr.org/news-events/calendar/1
 135/general-practice?tmpl=component</a>CONTACT:Richard Neal (District Secretary)  This email address is being protected from spambots. You need JavaScript enabled to view it.
				document.getElementById('cloaka0a65db97c145ed7a99ed7d61d15186e').innerHTML = '';
				var prefix = '&#109;a' + 'i&#108;' + '&#116;o';
				var path = 'hr' + 'ef' + '=';
				var addya0a65db97c145ed7a99ed7d61d15186e = 's&#101;c-s&#111;&#117;th' + '&#64;';
				addya0a65db97c145ed7a99ed7d61d15186e = addya0a65db97c145ed7a99ed7d61d15186e + 'sc&#97;cr' + '&#46;' + '&#111;rg';
				var addy_texta0a65db97c145ed7a99ed7d61d15186e = 's&#101;c-s&#111;&#117;th' + '&#64;' + 'sc&#97;cr' + '&#46;' + '&#111;rg';document.getElementById('cloaka0a65db97c145ed7a99ed7d61d15186e').innerHTML += '<a ' + path + '\'' + prefix + ':' + addya0a65db97c145ed7a99ed7d61d15186e + '\'>'+addy_texta0a65db97c145ed7a99ed7d61d15186e+'';
		
DTSTAMP:20260423T200904
DTSTART;TZID=Europe/London:20231216T140000
DTEND;TZID=Europe/London:20231216T160000
SEQUENCE:0
TRANSP:OPAQUE
END:VEVENT
END:VCALENDAR