BEGIN:VCALENDAR
VERSION:2.0
PRODID:-//jEvents 2.0 for Joomla//EN
CALSCALE:GREGORIAN
METHOD:PUBLISH
BEGIN:VTIMEZONE
TZID:Europe/London
BEGIN:STANDARD
DTSTART:20221030T010000
RDATE:20230326T020000
TZOFFSETFROM:+0100
TZOFFSETTO:+0000
TZNAME:Europe/London GMT
END:STANDARD
BEGIN:STANDARD
DTSTART:20231029T010000
RDATE:20240331T020000
TZOFFSETFROM:+0100
TZOFFSETTO:+0000
TZNAME:Europe/London GMT
END:STANDARD
BEGIN:STANDARD
DTSTART:20241027T010000
RDATE:20250330T020000
TZOFFSETFROM:+0100
TZOFFSETTO:+0000
TZNAME:Europe/London GMT
END:STANDARD
BEGIN:STANDARD
DTSTART:20251026T010000
RDATE:20260329T020000
TZOFFSETFROM:+0100
TZOFFSETTO:+0000
TZNAME:Europe/London GMT
END:STANDARD
BEGIN:STANDARD
DTSTART:20261025T010000
RDATE:20270328T020000
TZOFFSETFROM:+0100
TZOFFSETTO:+0000
TZNAME:Europe/London GMT
END:STANDARD
BEGIN:STANDARD
DTSTART:20271031T010000
RDATE:20280326T020000
TZOFFSETFROM:+0100
TZOFFSETTO:+0000
TZNAME:Europe/London GMT
END:STANDARD
BEGIN:STANDARD
DTSTART:20281029T010000
RDATE:20290325T020000
TZOFFSETFROM:+0100
TZOFFSETTO:+0000
TZNAME:Europe/London GMT
END:STANDARD
BEGIN:STANDARD
DTSTART:20291028T010000
RDATE:20300331T020000
TZOFFSETFROM:+0100
TZOFFSETTO:+0000
TZNAME:Europe/London GMT
END:STANDARD
BEGIN:STANDARD
DTSTART:20301027T010000
RDATE:20310330T020000
TZOFFSETFROM:+0100
TZOFFSETTO:+0000
TZNAME:Europe/London GMT
END:STANDARD
BEGIN:DAYLIGHT
DTSTART:20220616T140000
RDATE:20221030T010000
TZOFFSETFROM:+0000
TZOFFSETTO:+0100
TZNAME:Europe/London BST
END:DAYLIGHT
BEGIN:DAYLIGHT
DTSTART:20230326T020000
RDATE:20231029T010000
TZOFFSETFROM:+0000
TZOFFSETTO:+0100
TZNAME:Europe/London BST
END:DAYLIGHT
BEGIN:DAYLIGHT
DTSTART:20240331T020000
RDATE:20241027T010000
TZOFFSETFROM:+0000
TZOFFSETTO:+0100
TZNAME:Europe/London BST
END:DAYLIGHT
BEGIN:DAYLIGHT
DTSTART:20250330T020000
RDATE:20251026T010000
TZOFFSETFROM:+0000
TZOFFSETTO:+0100
TZNAME:Europe/London BST
END:DAYLIGHT
BEGIN:DAYLIGHT
DTSTART:20260329T020000
RDATE:20261025T010000
TZOFFSETFROM:+0000
TZOFFSETTO:+0100
TZNAME:Europe/London BST
END:DAYLIGHT
BEGIN:DAYLIGHT
DTSTART:20270328T020000
RDATE:20271031T010000
TZOFFSETFROM:+0000
TZOFFSETTO:+0100
TZNAME:Europe/London BST
END:DAYLIGHT
BEGIN:DAYLIGHT
DTSTART:20280326T020000
RDATE:20281029T010000
TZOFFSETFROM:+0000
TZOFFSETTO:+0100
TZNAME:Europe/London BST
END:DAYLIGHT
BEGIN:DAYLIGHT
DTSTART:20290325T020000
RDATE:20291028T010000
TZOFFSETFROM:+0000
TZOFFSETTO:+0100
TZNAME:Europe/London BST
END:DAYLIGHT
BEGIN:DAYLIGHT
DTSTART:20300331T020000
RDATE:20301027T010000
TZOFFSETFROM:+0000
TZOFFSETTO:+0100
TZNAME:Europe/London BST
END:DAYLIGHT
END:VTIMEZONE
BEGIN:VEVENT
UID:e35a60a602b1820bc2543093f6d4d1aa
CATEGORIES:South
CREATED:20230530T102511
SUMMARY:General six bell practice
LOCATION:Rodmell
URL;VALUE=URI:https://scacr.org/news-events/calendar/1138/general-six-bell-practice?tmpl=
 component
DESCRIPTION:Rodmell is an easy going ground floor ring of six bells. Parking is availab
 le in the nearby village car park.\nThis will be a general practice, howeve
 r, It is likely that the ringing will concentrate on rounds, call changes, 
 Plain Hunt, Plain Bob and Grandsire. \nSorry for the late arrangements conc
 erning this practice.  There have been several changes of plan.\nPlease let
  Richard Neal Southern District Secretary (mailto:This email address is bei
 ng protected from spambots. You need JavaScript enabled to view it.
				doc
 ument.getElementById('cloakd5afb9427c5dc7ef2c4359d24feb12ee').innerHTML = '
 ';
				var prefix = '&#109;a' + 'i&#108;' + '&#116;o';
				var path = 'hr' 
 + 'ef' + '=';
				var addyd5afb9427c5dc7ef2c4359d24feb12ee = 's&#101;c-s&#1
 11;&#117;th' + '&#64;';
				addyd5afb9427c5dc7ef2c4359d24feb12ee = addyd5af
 b9427c5dc7ef2c4359d24feb12ee + 'sc&#97;cr' + '&#46;' + '&#111;rg';
				var 
 addy_textd5afb9427c5dc7ef2c4359d24feb12ee = 's&#101;c-s&#111;&#117;th' + '&
 #64;' + 'sc&#97;cr' + '&#46;' + '&#111;rg';document.getElementById('cloakd5
 afb9427c5dc7ef2c4359d24feb12ee').innerHTML += '<a ' + path + '\'' + prefix 
 + ':' + addyd5afb9427c5dc7ef2c4359d24feb12ee + '\'>'+addy_textd5afb9427c5dc
 7ef2c4359d24feb12ee+'';
		) know if you will be attending.\n This event was
  imported from: https://scacr.org/news-events/calendar/1138/general-six-bel
 l-practice?tmpl=component (https://scacr.org/news-events/calendar/1138/gene
 ral-six-bell-practice?tmpl=component)
X-ALT-DESC;FMTTYPE=text/html:<p>Rodmell is an easy going ground floor ring of six bells. Parking is avai
 lable in the nearby village car park.</p><p>This will be a general practice
 , however, It is likely that the ringing will concentrate on rounds, call c
 hanges, Plain Hunt, Plain Bob and Grandsire.&nbsp;</p><p>Sorry for the late
  arrangements concerning this practice.&nbsp; There have been several chang
 es of plan.</p><p>Please let Richard Neal Southern District Secretary (mail
 to:<span id="cloakd5afb9427c5dc7ef2c4359d24feb12ee">This email address is b
 eing protected from spambots. You need JavaScript enabled to view it.</span
 ><script type='text/javascript'>
				document.getElementById('cloakd5afb942
 7c5dc7ef2c4359d24feb12ee').innerHTML = '';
				var prefix = '&#109;a' + 'i&
 #108;' + '&#116;o';
				var path = 'hr' + 'ef' + '=';
				var addyd5afb9427
 c5dc7ef2c4359d24feb12ee = 's&#101;c-s&#111;&#117;th' + '&#64;';
				addyd5a
 fb9427c5dc7ef2c4359d24feb12ee = addyd5afb9427c5dc7ef2c4359d24feb12ee + 'sc&
 #97;cr' + '&#46;' + '&#111;rg';
				var addy_textd5afb9427c5dc7ef2c4359d24f
 eb12ee = 's&#101;c-s&#111;&#117;th' + '&#64;' + 'sc&#97;cr' + '&#46;' + '&#
 111;rg';document.getElementById('cloakd5afb9427c5dc7ef2c4359d24feb12ee').in
 nerHTML += '<a ' + path + '\'' + prefix + ':' + addyd5afb9427c5dc7ef2c4359d
 24feb12ee + '\'>'+addy_textd5afb9427c5dc7ef2c4359d24feb12ee+'<\/a>';
		</sc
 ript>) know if you will be attending.</p> <a href="https://scacr.org/news-e
 vents/calendar/1138/general-six-bell-practice?tmpl=component">This event wa
 s imported from: https://scacr.org/news-events/calendar/1138/general-six-be
 ll-practice?tmpl=component</a>CONTACT:Richard Neal (District Secretary)  This email address is being protected from spambots. You need JavaScript enabled to view it.
				document.getElementById('cloakada10df7519a1a62deddc2e2bd40d590').innerHTML = '';
				var prefix = '&#109;a' + 'i&#108;' + '&#116;o';
				var path = 'hr' + 'ef' + '=';
				var addyada10df7519a1a62deddc2e2bd40d590 = 's&#101;c-s&#111;&#117;th' + '&#64;';
				addyada10df7519a1a62deddc2e2bd40d590 = addyada10df7519a1a62deddc2e2bd40d590 + 'sc&#97;cr' + '&#46;' + '&#111;rg';
				var addy_textada10df7519a1a62deddc2e2bd40d590 = 's&#101;c-s&#111;&#117;th' + '&#64;' + 'sc&#97;cr' + '&#46;' + '&#111;rg';document.getElementById('cloakada10df7519a1a62deddc2e2bd40d590').innerHTML += '<a ' + path + '\'' + prefix + ':' + addyada10df7519a1a62deddc2e2bd40d590 + '\'>'+addy_textada10df7519a1a62deddc2e2bd40d590+'';
		
DTSTAMP:20260424T173359
DTSTART;TZID=Europe/London:20230617T140000
DTEND;TZID=Europe/London:20230617T160000
SEQUENCE:0
TRANSP:OPAQUE
END:VEVENT
END:VCALENDAR