BEGIN:VCALENDAR
VERSION:2.0
PRODID:-//jEvents 2.0 for Joomla//EN
CALSCALE:GREGORIAN
METHOD:PUBLISH
BEGIN:VTIMEZONE
TZID:Europe/London
BEGIN:STANDARD
DTSTART:20221030T010000
RDATE:20230326T020000
TZOFFSETFROM:+0100
TZOFFSETTO:+0000
TZNAME:Europe/London GMT
END:STANDARD
BEGIN:STANDARD
DTSTART:20231029T010000
RDATE:20240331T020000
TZOFFSETFROM:+0100
TZOFFSETTO:+0000
TZNAME:Europe/London GMT
END:STANDARD
BEGIN:STANDARD
DTSTART:20241027T010000
RDATE:20250330T020000
TZOFFSETFROM:+0100
TZOFFSETTO:+0000
TZNAME:Europe/London GMT
END:STANDARD
BEGIN:STANDARD
DTSTART:20251026T010000
RDATE:20260329T020000
TZOFFSETFROM:+0100
TZOFFSETTO:+0000
TZNAME:Europe/London GMT
END:STANDARD
BEGIN:STANDARD
DTSTART:20261025T010000
RDATE:20270328T020000
TZOFFSETFROM:+0100
TZOFFSETTO:+0000
TZNAME:Europe/London GMT
END:STANDARD
BEGIN:STANDARD
DTSTART:20271031T010000
RDATE:20280326T020000
TZOFFSETFROM:+0100
TZOFFSETTO:+0000
TZNAME:Europe/London GMT
END:STANDARD
BEGIN:STANDARD
DTSTART:20281029T010000
RDATE:20290325T020000
TZOFFSETFROM:+0100
TZOFFSETTO:+0000
TZNAME:Europe/London GMT
END:STANDARD
BEGIN:STANDARD
DTSTART:20291028T010000
RDATE:20300331T020000
TZOFFSETFROM:+0100
TZOFFSETTO:+0000
TZNAME:Europe/London GMT
END:STANDARD
BEGIN:STANDARD
DTSTART:20301027T010000
RDATE:20310330T020000
TZOFFSETFROM:+0100
TZOFFSETTO:+0000
TZNAME:Europe/London GMT
END:STANDARD
BEGIN:DAYLIGHT
DTSTART:20220818T140000
RDATE:20221030T010000
TZOFFSETFROM:+0000
TZOFFSETTO:+0100
TZNAME:Europe/London BST
END:DAYLIGHT
BEGIN:DAYLIGHT
DTSTART:20230326T020000
RDATE:20231029T010000
TZOFFSETFROM:+0000
TZOFFSETTO:+0100
TZNAME:Europe/London BST
END:DAYLIGHT
BEGIN:DAYLIGHT
DTSTART:20240331T020000
RDATE:20241027T010000
TZOFFSETFROM:+0000
TZOFFSETTO:+0100
TZNAME:Europe/London BST
END:DAYLIGHT
BEGIN:DAYLIGHT
DTSTART:20250330T020000
RDATE:20251026T010000
TZOFFSETFROM:+0000
TZOFFSETTO:+0100
TZNAME:Europe/London BST
END:DAYLIGHT
BEGIN:DAYLIGHT
DTSTART:20260329T020000
RDATE:20261025T010000
TZOFFSETFROM:+0000
TZOFFSETTO:+0100
TZNAME:Europe/London BST
END:DAYLIGHT
BEGIN:DAYLIGHT
DTSTART:20270328T020000
RDATE:20271031T010000
TZOFFSETFROM:+0000
TZOFFSETTO:+0100
TZNAME:Europe/London BST
END:DAYLIGHT
BEGIN:DAYLIGHT
DTSTART:20280326T020000
RDATE:20281029T010000
TZOFFSETFROM:+0000
TZOFFSETTO:+0100
TZNAME:Europe/London BST
END:DAYLIGHT
BEGIN:DAYLIGHT
DTSTART:20290325T020000
RDATE:20291028T010000
TZOFFSETFROM:+0000
TZOFFSETTO:+0100
TZNAME:Europe/London BST
END:DAYLIGHT
BEGIN:DAYLIGHT
DTSTART:20300331T020000
RDATE:20301027T010000
TZOFFSETFROM:+0000
TZOFFSETTO:+0100
TZNAME:Europe/London BST
END:DAYLIGHT
END:VTIMEZONE
BEGIN:VEVENT
UID:dea491f5cab177c62067966738d2b5f3
CATEGORIES:South
CREATED:20230530T105002
SUMMARY:General Practice
LOCATION:Twineham
URL;VALUE=URI:https://scacr.org/news-events/calendar/1140/general-practice?tmpl=component
DESCRIPTION:Twineham is an easy going ring of five bells. Parking is available near the
  church.\nThis will be a general practice with emphasis on ringing rounds, 
 call changes, Plain Hunt, Plain Bob and Grandsire. Refreshments will be ava
 ilable during the afternoon. Twineham now has a loo, a composting one.\nPle
 ase let Richard Neal Southern District Secretary (mailto:This email address
  is being protected from spambots. You need JavaScript enabled to view it.

 				document.getElementById('cloaka35870fd8765cb541f0ebf2b11d69fbb').innerH
 TML = '';
				var prefix = '&#109;a' + 'i&#108;' + '&#116;o';
				var path 
 = 'hr' + 'ef' + '=';
				var addya35870fd8765cb541f0ebf2b11d69fbb = 's&#101
 ;c-s&#111;&#117;th' + '&#64;';
				addya35870fd8765cb541f0ebf2b11d69fbb = a
 ddya35870fd8765cb541f0ebf2b11d69fbb + 'sc&#97;cr' + '&#46;' + '&#111;rg';
	
 			var addy_texta35870fd8765cb541f0ebf2b11d69fbb = 's&#101;c-s&#111;&#117;t
 h' + '&#64;' + 'sc&#97;cr' + '&#46;' + '&#111;rg';document.getElementById('
 cloaka35870fd8765cb541f0ebf2b11d69fbb').innerHTML += '<a ' + path + '\'' + 
 prefix + ':' + addya35870fd8765cb541f0ebf2b11d69fbb + '\'>'+addy_texta35870
 fd8765cb541f0ebf2b11d69fbb+'';
		) know if you will be attending.\n This ev
 ent was imported from: https://scacr.org/news-events/calendar/1140/general-
 practice?tmpl=component (https://scacr.org/news-events/calendar/1140/genera
 l-practice?tmpl=component)
X-ALT-DESC;FMTTYPE=text/html:<p>Twineham is an easy going ring of five bells. Parking is available near 
 the church.</p><p>This will be a general practice with emphasis on ringing 
 rounds, call changes, Plain Hunt, Plain Bob and Grandsire. Refreshments wil
 l be available during the afternoon. Twineham now has a&nbsp;loo, a compost
 ing one.</p><p>Please let Richard Neal Southern District Secretary (mailto:
 <span id="cloaka35870fd8765cb541f0ebf2b11d69fbb">This email address is bein
 g protected from spambots. You need JavaScript enabled to view it.</span><s
 cript type='text/javascript'>
				document.getElementById('cloaka35870fd876
 5cb541f0ebf2b11d69fbb').innerHTML = '';
				var prefix = '&#109;a' + 'i&#10
 8;' + '&#116;o';
				var path = 'hr' + 'ef' + '=';
				var addya35870fd8765
 cb541f0ebf2b11d69fbb = 's&#101;c-s&#111;&#117;th' + '&#64;';
				addya35870
 fd8765cb541f0ebf2b11d69fbb = addya35870fd8765cb541f0ebf2b11d69fbb + 'sc&#97
 ;cr' + '&#46;' + '&#111;rg';
				var addy_texta35870fd8765cb541f0ebf2b11d69
 fbb = 's&#101;c-s&#111;&#117;th' + '&#64;' + 'sc&#97;cr' + '&#46;' + '&#111
 ;rg';document.getElementById('cloaka35870fd8765cb541f0ebf2b11d69fbb').inner
 HTML += '<a ' + path + '\'' + prefix + ':' + addya35870fd8765cb541f0ebf2b11
 d69fbb + '\'>'+addy_texta35870fd8765cb541f0ebf2b11d69fbb+'<\/a>';
		</scrip
 t>) know if you will be attending.</p> <a href="https://scacr.org/news-even
 ts/calendar/1140/general-practice?tmpl=component">This event was imported f
 rom: https://scacr.org/news-events/calendar/1140/general-practice?tmpl=comp
 onent</a>CONTACT:Richard Neal (District Secretary)  This email address is being protected from spambots. You need JavaScript enabled to view it.
				document.getElementById('cloak017ba521200bfc5bf15972fda073dfb6').innerHTML = '';
				var prefix = '&#109;a' + 'i&#108;' + '&#116;o';
				var path = 'hr' + 'ef' + '=';
				var addy017ba521200bfc5bf15972fda073dfb6 = 's&#101;c-s&#111;&#117;th' + '&#64;';
				addy017ba521200bfc5bf15972fda073dfb6 = addy017ba521200bfc5bf15972fda073dfb6 + 'sc&#97;cr' + '&#46;' + '&#111;rg';
				var addy_text017ba521200bfc5bf15972fda073dfb6 = 's&#101;c-s&#111;&#117;th' + '&#64;' + 'sc&#97;cr' + '&#46;' + '&#111;rg';document.getElementById('cloak017ba521200bfc5bf15972fda073dfb6').innerHTML += '<a ' + path + '\'' + prefix + ':' + addy017ba521200bfc5bf15972fda073dfb6 + '\'>'+addy_text017ba521200bfc5bf15972fda073dfb6+'';
		
DTSTAMP:20260421T004130
DTSTART;TZID=Europe/London:20230819T140000
DTEND;TZID=Europe/London:20230819T160000
SEQUENCE:0
TRANSP:OPAQUE
END:VEVENT
END:VCALENDAR