BEGIN:VCALENDAR
VERSION:2.0
PRODID:-//jEvents 2.0 for Joomla//EN
CALSCALE:GREGORIAN
METHOD:PUBLISH
BEGIN:VTIMEZONE
TZID:Europe/London
BEGIN:STANDARD
DTSTART:20221030T010000
RDATE:20230326T020000
TZOFFSETFROM:+0100
TZOFFSETTO:+0000
TZNAME:Europe/London GMT
END:STANDARD
BEGIN:STANDARD
DTSTART:20231029T010000
RDATE:20240331T020000
TZOFFSETFROM:+0100
TZOFFSETTO:+0000
TZNAME:Europe/London GMT
END:STANDARD
BEGIN:STANDARD
DTSTART:20241027T010000
RDATE:20250330T020000
TZOFFSETFROM:+0100
TZOFFSETTO:+0000
TZNAME:Europe/London GMT
END:STANDARD
BEGIN:STANDARD
DTSTART:20251026T010000
RDATE:20260329T020000
TZOFFSETFROM:+0100
TZOFFSETTO:+0000
TZNAME:Europe/London GMT
END:STANDARD
BEGIN:STANDARD
DTSTART:20261025T010000
RDATE:20270328T020000
TZOFFSETFROM:+0100
TZOFFSETTO:+0000
TZNAME:Europe/London GMT
END:STANDARD
BEGIN:STANDARD
DTSTART:20271031T010000
RDATE:20280326T020000
TZOFFSETFROM:+0100
TZOFFSETTO:+0000
TZNAME:Europe/London GMT
END:STANDARD
BEGIN:STANDARD
DTSTART:20281029T010000
RDATE:20290325T020000
TZOFFSETFROM:+0100
TZOFFSETTO:+0000
TZNAME:Europe/London GMT
END:STANDARD
BEGIN:STANDARD
DTSTART:20291028T010000
RDATE:20300331T020000
TZOFFSETFROM:+0100
TZOFFSETTO:+0000
TZNAME:Europe/London GMT
END:STANDARD
BEGIN:STANDARD
DTSTART:20301027T010000
RDATE:20310330T020000
TZOFFSETFROM:+0100
TZOFFSETTO:+0000
TZNAME:Europe/London GMT
END:STANDARD
BEGIN:DAYLIGHT
DTSTART:20220707T100000
RDATE:20221030T010000
TZOFFSETFROM:+0000
TZOFFSETTO:+0100
TZNAME:Europe/London BST
END:DAYLIGHT
BEGIN:DAYLIGHT
DTSTART:20230326T020000
RDATE:20231029T010000
TZOFFSETFROM:+0000
TZOFFSETTO:+0100
TZNAME:Europe/London BST
END:DAYLIGHT
BEGIN:DAYLIGHT
DTSTART:20240331T020000
RDATE:20241027T010000
TZOFFSETFROM:+0000
TZOFFSETTO:+0100
TZNAME:Europe/London BST
END:DAYLIGHT
BEGIN:DAYLIGHT
DTSTART:20250330T020000
RDATE:20251026T010000
TZOFFSETFROM:+0000
TZOFFSETTO:+0100
TZNAME:Europe/London BST
END:DAYLIGHT
BEGIN:DAYLIGHT
DTSTART:20260329T020000
RDATE:20261025T010000
TZOFFSETFROM:+0000
TZOFFSETTO:+0100
TZNAME:Europe/London BST
END:DAYLIGHT
BEGIN:DAYLIGHT
DTSTART:20270328T020000
RDATE:20271031T010000
TZOFFSETFROM:+0000
TZOFFSETTO:+0100
TZNAME:Europe/London BST
END:DAYLIGHT
BEGIN:DAYLIGHT
DTSTART:20280326T020000
RDATE:20281029T010000
TZOFFSETFROM:+0000
TZOFFSETTO:+0100
TZNAME:Europe/London BST
END:DAYLIGHT
BEGIN:DAYLIGHT
DTSTART:20290325T020000
RDATE:20291028T010000
TZOFFSETFROM:+0000
TZOFFSETTO:+0100
TZNAME:Europe/London BST
END:DAYLIGHT
BEGIN:DAYLIGHT
DTSTART:20300331T020000
RDATE:20301027T010000
TZOFFSETFROM:+0000
TZOFFSETTO:+0100
TZNAME:Europe/London BST
END:DAYLIGHT
END:VTIMEZONE
BEGIN:VEVENT
UID:783212e6cb12f7b7fc18b8f78576781e
CATEGORIES:West
CREATED:20230607T184628
SUMMARY:RING WALK RING!
LOCATION:St Peter's Church Upper Beeding/Sts Andrew &amp; Cuthman Church\, Steyning.
URL;VALUE=URI:https://scacr.org/news-events/calendar/1143/ring-walk-ring?tmpl=component
DESCRIPTION:This is a more energetic monthly event which involves a Ring, Walk and anot
 her Ring.  Starting at St Peter's Church Upper Beeding - the adjacent hall 
 will be open to use its facilities.  There will then be a walk which takes 
 about 2 hours at a leisurely pace ending up in Steyning,  followed by lunch
   which can be a picnic, or there are a selection of pubs/cafes in Steyning
  with ringing from 2.30 - 3.30 at Sts Andrew &amp; Cuthman Church.  Please 
 see attached poster for full details!  Everyone is welcome and can take par
 t for as little or as much as they would like and join in when they like!  
 For those who may need to get back to Upper Beeding after Steyning - the wa
 lk is about 30 minutes or this is the no 2 bus whihc leavves Steyning at 3.
 37!!    This looks to be a super day so look forward to seeing you there!! 
  Contact This email address is being protected from spambots. You need Java
 Script enabled to view it.
				document.getElementById('cloak3f18b84f78b6ff
 5e8cec51ffaed01649').innerHTML = '';
				var prefix = '&#109;a' + 'i&#108;'
  + '&#116;o';
				var path = 'hr' + 'ef' + '=';
				var addy3f18b84f78b6ff5
 e8cec51ffaed01649 = 's&#101;c-w&#101;st' + '&#64;';
				addy3f18b84f78b6ff5
 e8cec51ffaed01649 = addy3f18b84f78b6ff5e8cec51ffaed01649 + 'sc&#97;cr' + '&
 #46;' + '&#111;rg';
				var addy_text3f18b84f78b6ff5e8cec51ffaed01649 = 's&
 #101;c-w&#101;st' + '&#64;' + 'sc&#97;cr' + '&#46;' + '&#111;rg';document.g
 etElementById('cloak3f18b84f78b6ff5e8cec51ffaed01649').innerHTML += '<a ' +
  path + '\'' + prefix + ':' + addy3f18b84f78b6ff5e8cec51ffaed01649 + '\'>'+
 addy_text3f18b84f78b6ff5e8cec51ffaed01649+'';
		 or call Janice on 07890804
 339 should you have any queries!\nPOSTER DOWNLOAD (images/jevents/walk_and_
 ring_poster_july_2023.pdf)\n This event was imported from: https://scacr.or
 g/news-events/calendar/1143/ring-walk-ring?tmpl=component (https://scacr.or
 g/news-events/calendar/1143/ring-walk-ring?tmpl=component)
X-ALT-DESC;FMTTYPE=text/html:<p>This is a more energetic monthly event which involves a Ring, Walk and a
 nother Ring.&nbsp; Starting at St Peter's Church Upper Beeding - the adjace
 nt hall will be open to use its facilities.&nbsp; There will then be a walk
  which takes about 2 hours at a leisurely pace ending up in Steyning,&nbsp;
  followed by lunch&nbsp; which can be a picnic, or there are a selection of
  pubs/cafes in Steyning with ringing from 2.30 - 3.30 at Sts Andrew &amp; C
 uthman Church.&nbsp; Please see attached poster for full details!&nbsp; Eve
 ryone is welcome and can take part for as little or as much as they would l
 ike and join in when they like!&nbsp; For those who may need to get back to
  Upper Beeding after Steyning - the walk is about 30 minutes or this is the
  no 2 bus whihc leavves Steyning at 3.37!!&nbsp; &nbsp; This looks to be a 
 super day so look forward to seeing you there!!&nbsp; Contact <span id="clo
 ak3f18b84f78b6ff5e8cec51ffaed01649">This email address is being protected f
 rom spambots. You need JavaScript enabled to view it.</span><script type='t
 ext/javascript'>
				document.getElementById('cloak3f18b84f78b6ff5e8cec51ff
 aed01649').innerHTML = '';
				var prefix = '&#109;a' + 'i&#108;' + '&#116;
 o';
				var path = 'hr' + 'ef' + '=';
				var addy3f18b84f78b6ff5e8cec51ffa
 ed01649 = 's&#101;c-w&#101;st' + '&#64;';
				addy3f18b84f78b6ff5e8cec51ffa
 ed01649 = addy3f18b84f78b6ff5e8cec51ffaed01649 + 'sc&#97;cr' + '&#46;' + '&
 #111;rg';
				var addy_text3f18b84f78b6ff5e8cec51ffaed01649 = 's&#101;c-w&#
 101;st' + '&#64;' + 'sc&#97;cr' + '&#46;' + '&#111;rg';document.getElementB
 yId('cloak3f18b84f78b6ff5e8cec51ffaed01649').innerHTML += '<a ' + path + '\
 '' + prefix + ':' + addy3f18b84f78b6ff5e8cec51ffaed01649 + '\'>'+addy_text3
 f18b84f78b6ff5e8cec51ffaed01649+'<\/a>';
		</script>&nbsp;or call Janice on
  07890804339 should you have any queries!</p><p><a href="https://scacr.org/
 images/jevents/walk_and_ring_poster_july_2023.pdf">POSTER DOWNLOAD</a></p> 
 <a href="https://scacr.org/news-events/calendar/1143/ring-walk-ring?tmpl=co
 mponent">This event was imported from: https://scacr.org/news-events/calend
 ar/1143/ring-walk-ring?tmpl=component</a>CONTACT:This email address is being protected from spambots. You need JavaScript enabled to view it.
				document.getElementById('cloakc4b045e3290ffbc748f4d2ea2face4df').innerHTML = '';
				var prefix = '&#109;a' + 'i&#108;' + '&#116;o';
				var path = 'hr' + 'ef' + '=';
				var addyc4b045e3290ffbc748f4d2ea2face4df = 's&#101;c-w&#101;st' + '&#64;';
				addyc4b045e3290ffbc748f4d2ea2face4df = addyc4b045e3290ffbc748f4d2ea2face4df + 'sc&#97;cr' + '&#46;' + '&#111;rg';
				var addy_textc4b045e3290ffbc748f4d2ea2face4df = 's&#101;c-w&#101;st' + '&#64;' + 'sc&#97;cr' + '&#46;' + '&#111;rg';document.getElementById('cloakc4b045e3290ffbc748f4d2ea2face4df').innerHTML += '<a ' + path + '\'' + prefix + ':' + addyc4b045e3290ffbc748f4d2ea2face4df + '\'>'+addy_textc4b045e3290ffbc748f4d2ea2face4df+'';
		
X-EXTRAINFO:There area a small number of parking places at Upper Beeding by the Church 
 or there are some street parking not too far away.\nThe walk is mostly leve
 l with some stony paths.  Please wear appropriate footwear!
DTSTAMP:20260421T004131
DTSTART;TZID=Europe/London:20230708T100000
DTEND;TZID=Europe/London:20230708T153000
SEQUENCE:0
TRANSP:OPAQUE
END:VEVENT
END:VCALENDAR