BEGIN:VCALENDAR
VERSION:2.0
PRODID:-//jEvents 2.0 for Joomla//EN
CALSCALE:GREGORIAN
METHOD:PUBLISH
BEGIN:VTIMEZONE
TZID:Europe/London
BEGIN:STANDARD
DTSTART:20221030T010000
RDATE:20230326T020000
TZOFFSETFROM:+0100
TZOFFSETTO:+0000
TZNAME:Europe/London GMT
END:STANDARD
BEGIN:STANDARD
DTSTART:20231029T010000
RDATE:20240331T020000
TZOFFSETFROM:+0100
TZOFFSETTO:+0000
TZNAME:Europe/London GMT
END:STANDARD
BEGIN:STANDARD
DTSTART:20241027T010000
RDATE:20250330T020000
TZOFFSETFROM:+0100
TZOFFSETTO:+0000
TZNAME:Europe/London GMT
END:STANDARD
BEGIN:STANDARD
DTSTART:20251026T010000
RDATE:20260329T020000
TZOFFSETFROM:+0100
TZOFFSETTO:+0000
TZNAME:Europe/London GMT
END:STANDARD
BEGIN:STANDARD
DTSTART:20261025T010000
RDATE:20270328T020000
TZOFFSETFROM:+0100
TZOFFSETTO:+0000
TZNAME:Europe/London GMT
END:STANDARD
BEGIN:STANDARD
DTSTART:20271031T010000
RDATE:20280326T020000
TZOFFSETFROM:+0100
TZOFFSETTO:+0000
TZNAME:Europe/London GMT
END:STANDARD
BEGIN:STANDARD
DTSTART:20281029T010000
RDATE:20290325T020000
TZOFFSETFROM:+0100
TZOFFSETTO:+0000
TZNAME:Europe/London GMT
END:STANDARD
BEGIN:STANDARD
DTSTART:20291028T010000
RDATE:20300331T020000
TZOFFSETFROM:+0100
TZOFFSETTO:+0000
TZNAME:Europe/London GMT
END:STANDARD
BEGIN:STANDARD
DTSTART:20301027T010000
RDATE:20310330T020000
TZOFFSETFROM:+0100
TZOFFSETTO:+0000
TZNAME:Europe/London GMT
END:STANDARD
BEGIN:DAYLIGHT
DTSTART:20220630T093000
RDATE:20221030T010000
TZOFFSETFROM:+0000
TZOFFSETTO:+0100
TZNAME:Europe/London BST
END:DAYLIGHT
BEGIN:DAYLIGHT
DTSTART:20230326T020000
RDATE:20231029T010000
TZOFFSETFROM:+0000
TZOFFSETTO:+0100
TZNAME:Europe/London BST
END:DAYLIGHT
BEGIN:DAYLIGHT
DTSTART:20240331T020000
RDATE:20241027T010000
TZOFFSETFROM:+0000
TZOFFSETTO:+0100
TZNAME:Europe/London BST
END:DAYLIGHT
BEGIN:DAYLIGHT
DTSTART:20250330T020000
RDATE:20251026T010000
TZOFFSETFROM:+0000
TZOFFSETTO:+0100
TZNAME:Europe/London BST
END:DAYLIGHT
BEGIN:DAYLIGHT
DTSTART:20260329T020000
RDATE:20261025T010000
TZOFFSETFROM:+0000
TZOFFSETTO:+0100
TZNAME:Europe/London BST
END:DAYLIGHT
BEGIN:DAYLIGHT
DTSTART:20270328T020000
RDATE:20271031T010000
TZOFFSETFROM:+0000
TZOFFSETTO:+0100
TZNAME:Europe/London BST
END:DAYLIGHT
BEGIN:DAYLIGHT
DTSTART:20280326T020000
RDATE:20281029T010000
TZOFFSETFROM:+0000
TZOFFSETTO:+0100
TZNAME:Europe/London BST
END:DAYLIGHT
BEGIN:DAYLIGHT
DTSTART:20290325T020000
RDATE:20291028T010000
TZOFFSETFROM:+0000
TZOFFSETTO:+0100
TZNAME:Europe/London BST
END:DAYLIGHT
BEGIN:DAYLIGHT
DTSTART:20300331T020000
RDATE:20301027T010000
TZOFFSETFROM:+0000
TZOFFSETTO:+0100
TZNAME:Europe/London BST
END:DAYLIGHT
END:VTIMEZONE
BEGIN:VEVENT
UID:4ff24da286cd5f442d242a68e8ff7ed8
CATEGORIES:Other Event
CREATED:20230610T114446
SUMMARY:Beginners & Improvers Practice
LOCATION:St Mary's Washington
URL;VALUE=URI:https://scacr.org/news-events/calendar/1146/beginners-improvers-practice?tm
 pl=component
DESCRIPTION:A great opportunity to ring on this ground floor tower with a supportive ba
 nd.  This is a regular monthly event.  Refreshments are also provided. \nIt
  is imperative that you contact Christine Butterfeld on 01903 872623 so tha
 t she can monitor numbers.  E mail This email address is being protected fr
 om spambots. You need JavaScript enabled to view it.
				document.getElemen
 tById('cloak31c835e61af25fb83f0b62f29a4b7845').innerHTML = '';
				var pref
 ix = '&#109;a' + 'i&#108;' + '&#116;o';
				var path = 'hr' + 'ef' + '=';
	
 			var addy31c835e61af25fb83f0b62f29a4b7845 = 's&#101;c-w&#101;st' + '&#64;
 ';
				addy31c835e61af25fb83f0b62f29a4b7845 = addy31c835e61af25fb83f0b62f29
 a4b7845 + 'sc&#97;cr' + '&#46;' + '&#111;rg';
				var addy_text31c835e61af2
 5fb83f0b62f29a4b7845 = 's&#101;c-w&#101;st' + '&#64;' + 'sc&#97;cr' + '&#46
 ;' + '&#111;rg';document.getElementById('cloak31c835e61af25fb83f0b62f29a4b7
 845').innerHTML += '<a ' + path + '\'' + prefix + ':' + addy31c835e61af25fb
 83f0b62f29a4b7845 + '\'>'+addy_text31c835e61af25fb83f0b62f29a4b7845+'';
		 
 if you require refreshments.\nLook forward to seeing you there!\n This even
 t was imported from: https://scacr.org/news-events/calendar/1146/beginners-
 improvers-practice?tmpl=component (https://scacr.org/news-events/calendar/1
 146/beginners-improvers-practice?tmpl=component)
X-ALT-DESC;FMTTYPE=text/html:<p>A great opportunity to ring on this ground floor tower with a supportive
  band.&nbsp; This is a regular monthly event.&nbsp; Refreshments are also p
 rovided.&nbsp;</p><p>It is imperative that you contact Christine Butterfeld
  on 01903 872623 so that she can monitor numbers.&nbsp; E mail <span id="cl
 oak31c835e61af25fb83f0b62f29a4b7845">This email address is being protected 
 from spambots. You need JavaScript enabled to view it.</span><script type='
 text/javascript'>
				document.getElementById('cloak31c835e61af25fb83f0b62f
 29a4b7845').innerHTML = '';
				var prefix = '&#109;a' + 'i&#108;' + '&#116
 ;o';
				var path = 'hr' + 'ef' + '=';
				var addy31c835e61af25fb83f0b62f2
 9a4b7845 = 's&#101;c-w&#101;st' + '&#64;';
				addy31c835e61af25fb83f0b62f2
 9a4b7845 = addy31c835e61af25fb83f0b62f29a4b7845 + 'sc&#97;cr' + '&#46;' + '
 &#111;rg';
				var addy_text31c835e61af25fb83f0b62f29a4b7845 = 's&#101;c-w&
 #101;st' + '&#64;' + 'sc&#97;cr' + '&#46;' + '&#111;rg';document.getElement
 ById('cloak31c835e61af25fb83f0b62f29a4b7845').innerHTML += '<a ' + path + '
 \'' + prefix + ':' + addy31c835e61af25fb83f0b62f29a4b7845 + '\'>'+addy_text
 31c835e61af25fb83f0b62f29a4b7845+'<\/a>';
		</script>&nbsp;if you require r
 efreshments.</p><p>Look forward to seeing you there!</p> <a href="https://s
 cacr.org/news-events/calendar/1146/beginners-improvers-practice?tmpl=compon
 ent">This event was imported from: https://scacr.org/news-events/calendar/1
 146/beginners-improvers-practice?tmpl=component</a>CONTACT:Christine Butterfield 01903 872623
DTSTAMP:20260424T072511
DTSTART;TZID=Europe/London:20230701T093000
DTEND;TZID=Europe/London:20230701T120000
SEQUENCE:0
TRANSP:OPAQUE
END:VEVENT
END:VCALENDAR