BEGIN:VCALENDAR
VERSION:2.0
PRODID:-//jEvents 2.0 for Joomla//EN
CALSCALE:GREGORIAN
METHOD:PUBLISH
BEGIN:VTIMEZONE
TZID:Europe/London
BEGIN:STANDARD
DTSTART:20221030T010000
RDATE:20230326T020000
TZOFFSETFROM:+0100
TZOFFSETTO:+0000
TZNAME:Europe/London GMT
END:STANDARD
BEGIN:STANDARD
DTSTART:20231029T010000
RDATE:20240331T020000
TZOFFSETFROM:+0100
TZOFFSETTO:+0000
TZNAME:Europe/London GMT
END:STANDARD
BEGIN:STANDARD
DTSTART:20241027T010000
RDATE:20250330T020000
TZOFFSETFROM:+0100
TZOFFSETTO:+0000
TZNAME:Europe/London GMT
END:STANDARD
BEGIN:STANDARD
DTSTART:20251026T010000
RDATE:20260329T020000
TZOFFSETFROM:+0100
TZOFFSETTO:+0000
TZNAME:Europe/London GMT
END:STANDARD
BEGIN:STANDARD
DTSTART:20261025T010000
RDATE:20270328T020000
TZOFFSETFROM:+0100
TZOFFSETTO:+0000
TZNAME:Europe/London GMT
END:STANDARD
BEGIN:STANDARD
DTSTART:20271031T010000
RDATE:20280326T020000
TZOFFSETFROM:+0100
TZOFFSETTO:+0000
TZNAME:Europe/London GMT
END:STANDARD
BEGIN:STANDARD
DTSTART:20281029T010000
RDATE:20290325T020000
TZOFFSETFROM:+0100
TZOFFSETTO:+0000
TZNAME:Europe/London GMT
END:STANDARD
BEGIN:STANDARD
DTSTART:20291028T010000
RDATE:20300331T020000
TZOFFSETFROM:+0100
TZOFFSETTO:+0000
TZNAME:Europe/London GMT
END:STANDARD
BEGIN:STANDARD
DTSTART:20301027T010000
RDATE:20310330T020000
TZOFFSETFROM:+0100
TZOFFSETTO:+0000
TZNAME:Europe/London GMT
END:STANDARD
BEGIN:DAYLIGHT
DTSTART:20220728T000000
RDATE:20221030T010000
TZOFFSETFROM:+0000
TZOFFSETTO:+0100
TZNAME:Europe/London BST
END:DAYLIGHT
BEGIN:DAYLIGHT
DTSTART:20230326T020000
RDATE:20231029T010000
TZOFFSETFROM:+0000
TZOFFSETTO:+0100
TZNAME:Europe/London BST
END:DAYLIGHT
BEGIN:DAYLIGHT
DTSTART:20240331T020000
RDATE:20241027T010000
TZOFFSETFROM:+0000
TZOFFSETTO:+0100
TZNAME:Europe/London BST
END:DAYLIGHT
BEGIN:DAYLIGHT
DTSTART:20250330T020000
RDATE:20251026T010000
TZOFFSETFROM:+0000
TZOFFSETTO:+0100
TZNAME:Europe/London BST
END:DAYLIGHT
BEGIN:DAYLIGHT
DTSTART:20260329T020000
RDATE:20261025T010000
TZOFFSETFROM:+0000
TZOFFSETTO:+0100
TZNAME:Europe/London BST
END:DAYLIGHT
BEGIN:DAYLIGHT
DTSTART:20270328T020000
RDATE:20271031T010000
TZOFFSETFROM:+0000
TZOFFSETTO:+0100
TZNAME:Europe/London BST
END:DAYLIGHT
BEGIN:DAYLIGHT
DTSTART:20280326T020000
RDATE:20281029T010000
TZOFFSETFROM:+0000
TZOFFSETTO:+0100
TZNAME:Europe/London BST
END:DAYLIGHT
BEGIN:DAYLIGHT
DTSTART:20290325T020000
RDATE:20291028T010000
TZOFFSETFROM:+0000
TZOFFSETTO:+0100
TZNAME:Europe/London BST
END:DAYLIGHT
BEGIN:DAYLIGHT
DTSTART:20300331T020000
RDATE:20301027T010000
TZOFFSETFROM:+0000
TZOFFSETTO:+0100
TZNAME:Europe/London BST
END:DAYLIGHT
END:VTIMEZONE
BEGIN:VEVENT
UID:2a99ff16a83ef6a891744e09b63ac79c
CATEGORIES:West, Association Event
CREATED:20230610T115245
SUMMARY:CANCELLED - CROYDON TRAMLINE OUTING!
LOCATION:Croydon.
URL;VALUE=URI:https://scacr.org/news-events/calendar/1148/cancelled-croydon-tramline-outi
 ng?tmpl=component
DESCRIPTION:We are very sorry to announce that this event has now been cancelled due to
  the train strikes which is very disappointing for all of us.  However, the
  event will be re scheduled so keep an eye on the website!!\n \nDefinitely 
 a date for your diary!  The opportunity to ring at Towers around Croydon us
 ing public transport!  Everyone welcome.  The final arrangements are confir
 med and all the details are in the attached poster.  This looks to be a gre
 at day out and chance for some super ringing!  This is now an association e
 vent with everyone welcome!  It is important to let David Kirkcaldy know if
  you are coming along on   (mailto:david.kirky@gmail.com)This email address
  is being protected from spambots. You need JavaScript enabled to view it.

 				document.getElementById('cloak2cf47e6789867f115466b7eca9dfc92c').innerH
 TML = '';
				var prefix = '&#109;a' + 'i&#108;' + '&#116;o';
				var path 
 = 'hr' + 'ef' + '=';
				var addy2cf47e6789867f115466b7eca9dfc92c = 'd&#97;
 v&#105;d.k&#105;rky' + '&#64;';
				addy2cf47e6789867f115466b7eca9dfc92c = 
 addy2cf47e6789867f115466b7eca9dfc92c + 'gm&#97;&#105;l' + '&#46;' + 'c&#111
 ;m';
				var addy_text2cf47e6789867f115466b7eca9dfc92c = 'd&#97;v&#105;d.k&
 #105;rky' + '&#64;' + 'gm&#97;&#105;l' + '&#46;' + 'c&#111;m';document.getE
 lementById('cloak2cf47e6789867f115466b7eca9dfc92c').innerHTML += '<a ' + pa
 th + '\'' + prefix + ':' + addy2cf47e6789867f115466b7eca9dfc92c + '\'>'+add
 y_text2cf47e6789867f115466b7eca9dfc92c+'';
		   Look forward to seeing you 
 there!\nPOSTER DOWNLOAD (images/jevents/croydon_outing_west.pdf)\nPLEASE NO
 TE: TRAIN STRIKES ARE SCHEDULED FOR THIS DAY AND  THE TRAM LINES IN CROYDON
   ARE NOT AFFECTED.   IT IS ENVISAGED THAT MOST PEOPLE WOULD BE CATCHING A 
 MAINLINE TRAIN TO EAST AND THEN SOUTH CROYDON.  THE TIMETABLE FOR THE MAINL
 INE TRAINS THAT WILL BE RUNNING, WILL BE PUBLISHED BY THIS FRIDAY MORNING. 
  PLEASE PLEASE HERE FOR UPDATES ON THIS EVENT.  A FINAL DECISION WILL BE MA
 DE BY THE END OF DAY ON THURSDAY 27TH JULY AS TO WHETHER THE EVENT WILL STI
 LL GO AHEAD.  .  KEEP YOUR FINGERS CROSSED THAT SUITABLE TRAINS WILL BE RUN
 NING OR THAT A DEAL WILL BE MADE AND THE STRIKES ARE CALLED OFF.  YOU NEVER
  KNOW!!   \n    This event was imported from: https://scacr.org/news-events
 /calendar/1148/cancelled-croydon-tramline-outing?tmpl=component (https://sc
 acr.org/news-events/calendar/1148/cancelled-croydon-tramline-outing?tmpl=co
 mponent)
X-ALT-DESC;FMTTYPE=text/html:<p>We are very sorry to announce that this event has now been cancelled due
  to the train strikes which is very disappointing for all of us.&nbsp; Howe
 ver, the event will be re scheduled so keep an eye on the website!!</p><p>&
 nbsp;</p><p>Definitely a date for your diary!&nbsp; The opportunity to ring
  at Towers around Croydon using public transport!&nbsp; Everyone welcome.&n
 bsp; The final arrangements are confirmed and all the details are in the at
 tached poster.&nbsp; This looks to be a great day out and chance for some s
 uper ringing!&nbsp; This is now an association event with everyone welcome!
 &nbsp; It is important to let David Kirkcaldy know if you are coming along 
 on&nbsp; <a href="mailto:david.kirky@gmail.com"></a><span id="cloak2cf47e67
 89867f115466b7eca9dfc92c">This email address is being protected from spambo
 ts. You need JavaScript enabled to view it.</span><script type='text/javasc
 ript'>
				document.getElementById('cloak2cf47e6789867f115466b7eca9dfc92c')
 .innerHTML = '';
				var prefix = '&#109;a' + 'i&#108;' + '&#116;o';
				va
 r path = 'hr' + 'ef' + '=';
				var addy2cf47e6789867f115466b7eca9dfc92c = 
 'd&#97;v&#105;d.k&#105;rky' + '&#64;';
				addy2cf47e6789867f115466b7eca9df
 c92c = addy2cf47e6789867f115466b7eca9dfc92c + 'gm&#97;&#105;l' + '&#46;' + 
 'c&#111;m';
				var addy_text2cf47e6789867f115466b7eca9dfc92c = 'd&#97;v&#1
 05;d.k&#105;rky' + '&#64;' + 'gm&#97;&#105;l' + '&#46;' + 'c&#111;m';docume
 nt.getElementById('cloak2cf47e6789867f115466b7eca9dfc92c').innerHTML += '<a
  ' + path + '\'' + prefix + ':' + addy2cf47e6789867f115466b7eca9dfc92c + '\
 '>'+addy_text2cf47e6789867f115466b7eca9dfc92c+'<\/a>';
		</script>&nbsp; &n
 bsp;Look forward to seeing you there!</p><p><a href="https://scacr.org/imag
 es/jevents/croydon_outing_west.pdf">POSTER DOWNLOAD</a></p><div>PLEASE NOTE
 :</div><div>&nbsp;</div><div>TRAIN STRIKES ARE SCHEDULED FOR THIS DAY AND&n
 bsp; THE TRAM LINES IN CROYDON&nbsp; ARE NOT AFFECTED.&nbsp; &nbsp;IT IS EN
 VISAGED&nbsp;THAT MOST PEOPLE WOULD BE CATCHING A MAINLINE TRAIN TO EAST AN
 D THEN SOUTH CROYDON.&nbsp; THE TIMETABLE FOR THE MAINLINE TRAINS THAT WILL
  BE RUNNING, WILL BE PUBLISHED BY THIS FRIDAY MORNING.&nbsp; PLEASE PLEASE 
 HERE FOR UPDATES ON THIS EVENT.&nbsp; A FINAL DECISION WILL BE MADE BY THE 
 END OF DAY ON THURSDAY 27TH JULY AS TO WHETHER THE EVENT WILL STILL GO AHEA
 D.&nbsp; .&nbsp; KEEP YOUR FINGERS CROSSED THAT SUITABLE TRAINS WILL BE RUN
 NING OR THAT A DEAL WILL BE MADE AND THE STRIKES ARE CALLED OFF.&nbsp; YOU 
 NEVER&nbsp;KNOW!!<div>&nbsp;</div><div>&nbsp;</div><div>&nbsp;<br /><div>&n
 bsp;</div><div>&nbsp;<div>&nbsp;</div></div></div></div> <a href="https://s
 cacr.org/news-events/calendar/1148/cancelled-croydon-tramline-outing?tmpl=c
 omponent">This event was imported from: https://scacr.org/news-events/calen
 dar/1148/cancelled-croydon-tramline-outing?tmpl=component</a>CONTACT:This email address is being protected from spambots. You need JavaScript enabled to view it.
				document.getElementById('cloakb15c5998e97cfc5347c0415921693b5e').innerHTML = '';
				var prefix = '&#109;a' + 'i&#108;' + '&#116;o';
				var path = 'hr' + 'ef' + '=';
				var addyb15c5998e97cfc5347c0415921693b5e = 's&#101;c-w&#101;st' + '&#64;';
				addyb15c5998e97cfc5347c0415921693b5e = addyb15c5998e97cfc5347c0415921693b5e + 'sc&#97;cr' + '&#46;' + '&#111;rg';
				var addy_textb15c5998e97cfc5347c0415921693b5e = 's&#101;c-w&#101;st' + '&#64;' + 'sc&#97;cr' + '&#46;' + '&#111;rg';document.getElementById('cloakb15c5998e97cfc5347c0415921693b5e').innerHTML += '<a ' + path + '\'' + prefix + ':' + addyb15c5998e97cfc5347c0415921693b5e + '\'>'+addy_textb15c5998e97cfc5347c0415921693b5e+'';
		
DTSTAMP:20260421T004133
DTSTART;TZID=Europe/London;VALUE=DATE:20230729
DTEND;TZID=Europe/London;VALUE=DATE:20230730
SEQUENCE:0
TRANSP:OPAQUE
END:VEVENT
END:VCALENDAR