BEGIN:VCALENDAR
VERSION:2.0
PRODID:-//jEvents 2.0 for Joomla//EN
CALSCALE:GREGORIAN
METHOD:PUBLISH
BEGIN:VTIMEZONE
TZID:Europe/London
BEGIN:STANDARD
DTSTART:20221030T010000
RDATE:20230326T020000
TZOFFSETFROM:+0100
TZOFFSETTO:+0000
TZNAME:Europe/London GMT
END:STANDARD
BEGIN:STANDARD
DTSTART:20231029T010000
RDATE:20240331T020000
TZOFFSETFROM:+0100
TZOFFSETTO:+0000
TZNAME:Europe/London GMT
END:STANDARD
BEGIN:STANDARD
DTSTART:20241027T010000
RDATE:20250330T020000
TZOFFSETFROM:+0100
TZOFFSETTO:+0000
TZNAME:Europe/London GMT
END:STANDARD
BEGIN:STANDARD
DTSTART:20251026T010000
RDATE:20260329T020000
TZOFFSETFROM:+0100
TZOFFSETTO:+0000
TZNAME:Europe/London GMT
END:STANDARD
BEGIN:STANDARD
DTSTART:20261025T010000
RDATE:20270328T020000
TZOFFSETFROM:+0100
TZOFFSETTO:+0000
TZNAME:Europe/London GMT
END:STANDARD
BEGIN:STANDARD
DTSTART:20271031T010000
RDATE:20280326T020000
TZOFFSETFROM:+0100
TZOFFSETTO:+0000
TZNAME:Europe/London GMT
END:STANDARD
BEGIN:STANDARD
DTSTART:20281029T010000
RDATE:20290325T020000
TZOFFSETFROM:+0100
TZOFFSETTO:+0000
TZNAME:Europe/London GMT
END:STANDARD
BEGIN:STANDARD
DTSTART:20291028T010000
RDATE:20300331T020000
TZOFFSETFROM:+0100
TZOFFSETTO:+0000
TZNAME:Europe/London GMT
END:STANDARD
BEGIN:STANDARD
DTSTART:20301027T010000
RDATE:20310330T020000
TZOFFSETFROM:+0100
TZOFFSETTO:+0000
TZNAME:Europe/London GMT
END:STANDARD
BEGIN:DAYLIGHT
DTSTART:20221010T193000
RDATE:20221030T010000
TZOFFSETFROM:+0000
TZOFFSETTO:+0100
TZNAME:Europe/London BST
END:DAYLIGHT
BEGIN:DAYLIGHT
DTSTART:20230326T020000
RDATE:20231029T010000
TZOFFSETFROM:+0000
TZOFFSETTO:+0100
TZNAME:Europe/London BST
END:DAYLIGHT
BEGIN:DAYLIGHT
DTSTART:20240331T020000
RDATE:20241027T010000
TZOFFSETFROM:+0000
TZOFFSETTO:+0100
TZNAME:Europe/London BST
END:DAYLIGHT
BEGIN:DAYLIGHT
DTSTART:20250330T020000
RDATE:20251026T010000
TZOFFSETFROM:+0000
TZOFFSETTO:+0100
TZNAME:Europe/London BST
END:DAYLIGHT
BEGIN:DAYLIGHT
DTSTART:20260329T020000
RDATE:20261025T010000
TZOFFSETFROM:+0000
TZOFFSETTO:+0100
TZNAME:Europe/London BST
END:DAYLIGHT
BEGIN:DAYLIGHT
DTSTART:20270328T020000
RDATE:20271031T010000
TZOFFSETFROM:+0000
TZOFFSETTO:+0100
TZNAME:Europe/London BST
END:DAYLIGHT
BEGIN:DAYLIGHT
DTSTART:20280326T020000
RDATE:20281029T010000
TZOFFSETFROM:+0000
TZOFFSETTO:+0100
TZNAME:Europe/London BST
END:DAYLIGHT
BEGIN:DAYLIGHT
DTSTART:20290325T020000
RDATE:20291028T010000
TZOFFSETFROM:+0000
TZOFFSETTO:+0100
TZNAME:Europe/London BST
END:DAYLIGHT
BEGIN:DAYLIGHT
DTSTART:20300331T020000
RDATE:20301027T010000
TZOFFSETFROM:+0000
TZOFFSETTO:+0100
TZNAME:Europe/London BST
END:DAYLIGHT
END:VTIMEZONE
BEGIN:VEVENT
UID:dfb15b33a0d269e08fd1dbc76fd91bc0
CATEGORIES:East
CREATED:20230810T091014
SUMMARY:Doubles Practice
LOCATION:Westham
URL;VALUE=URI:https://scacr.org/news-events/calendar/1171/doubles-practice?tmpl=component
DESCRIPTION:<p><strong>Eastern District Doubles Practice at Westham near Eastbourne.</s
 trong></p><p style="color: #ff981a;"><strong>2nd Wednesday of the month</st
 rong></p><p>Join us for the monthly mid-week practice on this 10cwt ring of
  6 for those learning Plain Hunt and learning to treble on Plain Bob/Grands
 ire, through to short touches of doubles methods to suit the repertoire of 
 those attending*.<br /><br />Experienced helpers to fill in and "stand-behi
 nd" always welcome.</p><p>Refreshments served.&nbsp;☕️</p><p>(please don't 
 enter the ringing room before 7:30pm as there is a beginners' handling sess
 ion before)<br /><br /><em>*The August meeting included Plain Hunt, Plain B
 ob and Grandsire, previous months have included St Simon's and Stedman too<
 /em></p> <a href="https://scacr.org/news-events/calendar/1171/doubles-pract
 ice?tmpl=component">This event was imported from: https://scacr.org/news-ev
 ents/calendar/1171/doubles-practice?tmpl=component</a>CONTACT:This email address is being protected from spambots. You need JavaScript enabled to view it.
				document.getElementById('cloak1252bd5d13fffb9e2aa1218499be6ad3').innerHTML = '';
				var prefix = '&#109;a' + 'i&#108;' + '&#116;o';
				var path = 'hr' + 'ef' + '=';
				var addy1252bd5d13fffb9e2aa1218499be6ad3 = 's&#101;c-&#101;&#97;st' + '&#64;';
				addy1252bd5d13fffb9e2aa1218499be6ad3 = addy1252bd5d13fffb9e2aa1218499be6ad3 + 'sc&#97;cr' + '&#46;' + '&#111;rg';
				var addy_text1252bd5d13fffb9e2aa1218499be6ad3 = 's&#101;c-&#101;&#97;st' + '&#64;' + 'sc&#97;cr' + '&#46;' + '&#111;rg';document.getElementById('cloak1252bd5d13fffb9e2aa1218499be6ad3').innerHTML += '<a ' + path + '\'' + prefix + ':' + addy1252bd5d13fffb9e2aa1218499be6ad3 + '\'>'+addy_text1252bd5d13fffb9e2aa1218499be6ad3+'';
		
DTSTAMP:20260424T160542
DTSTART;TZID=Europe/London:20231011T193000
DTEND;TZID=Europe/London:20231011T210000
SEQUENCE:0
TRANSP:OPAQUE
END:VEVENT
END:VCALENDAR