BEGIN:VCALENDAR
VERSION:2.0
PRODID:-//jEvents 2.0 for Joomla//EN
CALSCALE:GREGORIAN
METHOD:PUBLISH
BEGIN:VTIMEZONE
TZID:Europe/London
BEGIN:STANDARD
DTSTART:20221110T143000
RDATE:20230326T020000
TZOFFSETFROM:+0100
TZOFFSETTO:+0000
TZNAME:Europe/London GMT
END:STANDARD
BEGIN:STANDARD
DTSTART:20231029T010000
RDATE:20240331T020000
TZOFFSETFROM:+0100
TZOFFSETTO:+0000
TZNAME:Europe/London GMT
END:STANDARD
BEGIN:STANDARD
DTSTART:20241027T010000
RDATE:20250330T020000
TZOFFSETFROM:+0100
TZOFFSETTO:+0000
TZNAME:Europe/London GMT
END:STANDARD
BEGIN:STANDARD
DTSTART:20251026T010000
RDATE:20260329T020000
TZOFFSETFROM:+0100
TZOFFSETTO:+0000
TZNAME:Europe/London GMT
END:STANDARD
BEGIN:STANDARD
DTSTART:20261025T010000
RDATE:20270328T020000
TZOFFSETFROM:+0100
TZOFFSETTO:+0000
TZNAME:Europe/London GMT
END:STANDARD
BEGIN:STANDARD
DTSTART:20271031T010000
RDATE:20280326T020000
TZOFFSETFROM:+0100
TZOFFSETTO:+0000
TZNAME:Europe/London GMT
END:STANDARD
BEGIN:STANDARD
DTSTART:20281029T010000
RDATE:20290325T020000
TZOFFSETFROM:+0100
TZOFFSETTO:+0000
TZNAME:Europe/London GMT
END:STANDARD
BEGIN:STANDARD
DTSTART:20291028T010000
RDATE:20300331T020000
TZOFFSETFROM:+0100
TZOFFSETTO:+0000
TZNAME:Europe/London GMT
END:STANDARD
BEGIN:STANDARD
DTSTART:20301027T010000
RDATE:20310330T020000
TZOFFSETFROM:+0100
TZOFFSETTO:+0000
TZNAME:Europe/London GMT
END:STANDARD
BEGIN:DAYLIGHT
DTSTART:20230326T020000
RDATE:20231029T010000
TZOFFSETFROM:+0000
TZOFFSETTO:+0100
TZNAME:Europe/London BST
END:DAYLIGHT
BEGIN:DAYLIGHT
DTSTART:20240331T020000
RDATE:20241027T010000
TZOFFSETFROM:+0000
TZOFFSETTO:+0100
TZNAME:Europe/London BST
END:DAYLIGHT
BEGIN:DAYLIGHT
DTSTART:20250330T020000
RDATE:20251026T010000
TZOFFSETFROM:+0000
TZOFFSETTO:+0100
TZNAME:Europe/London BST
END:DAYLIGHT
BEGIN:DAYLIGHT
DTSTART:20260329T020000
RDATE:20261025T010000
TZOFFSETFROM:+0000
TZOFFSETTO:+0100
TZNAME:Europe/London BST
END:DAYLIGHT
BEGIN:DAYLIGHT
DTSTART:20270328T020000
RDATE:20271031T010000
TZOFFSETFROM:+0000
TZOFFSETTO:+0100
TZNAME:Europe/London BST
END:DAYLIGHT
BEGIN:DAYLIGHT
DTSTART:20280326T020000
RDATE:20281029T010000
TZOFFSETFROM:+0000
TZOFFSETTO:+0100
TZNAME:Europe/London BST
END:DAYLIGHT
BEGIN:DAYLIGHT
DTSTART:20290325T020000
RDATE:20291028T010000
TZOFFSETFROM:+0000
TZOFFSETTO:+0100
TZNAME:Europe/London BST
END:DAYLIGHT
BEGIN:DAYLIGHT
DTSTART:20300331T020000
RDATE:20301027T010000
TZOFFSETFROM:+0000
TZOFFSETTO:+0100
TZNAME:Europe/London BST
END:DAYLIGHT
END:VTIMEZONE
BEGIN:VEVENT
UID:1a6691f15b07a5d696bb4d183adfee10
CATEGORIES:West
CREATED:20231009T174809
SUMMARY:Monthly Event - Half Muffled Ringing!
LOCATION:St Richard's Church\, Aldwick.
URL;VALUE=URI:https://scacr.org/news-events/calendar/1192/monthly-event-half-muffled-ring
 ing?tmpl=component
DESCRIPTION:The opportunity for some half - muffled ringing at this 8 bell tower.  (the
  muffles will be on all 8!).  Tea and biscuits, will be provided!   If you 
 are able to bring along a cake or little cakes to share,  please let  This 
 email address is being protected from spambots. You need JavaScript enabled
  to view it.
				document.getElementById('cloakadec0c1a7144ae19f012b604e2b9
 ef61').innerHTML = '';
				var prefix = '&#109;a' + 'i&#108;' + '&#116;o';

 				var path = 'hr' + 'ef' + '=';
				var addyadec0c1a7144ae19f012b604e2b9e
 f61 = 's&#101;c-w&#101;st' + '&#64;';
				addyadec0c1a7144ae19f012b604e2b9e
 f61 = addyadec0c1a7144ae19f012b604e2b9ef61 + 'sc&#97;cr' + '&#46;' + '&#111
 ;rg';
				var addy_textadec0c1a7144ae19f012b604e2b9ef61 = 's&#101;c-w&#101;
 st' + '&#64;' + 'sc&#97;cr' + '&#46;' + '&#111;rg';document.getElementById(
 'cloakadec0c1a7144ae19f012b604e2b9ef61').innerHTML += '<a ' + path + '\'' +
  prefix + ':' + addyadec0c1a7144ae19f012b604e2b9ef61 + '\'>'+addy_textadec0
 c1a7144ae19f012b604e2b9ef61+'';
		 know by  wednesday 8th November or call 
 Janice on 07890804339.  The plan is to also have a raffle in aid of BRF and
  so bring some change and any donations of prizes would be welcome!\n This 
 event was imported from: https://scacr.org/news-events/calendar/1192/monthl
 y-event-half-muffled-ringing?tmpl=component (https://scacr.org/news-events/
 calendar/1192/monthly-event-half-muffled-ringing?tmpl=component)
X-ALT-DESC;FMTTYPE=text/html:<p>The opportunity for some half - muffled ringing at this 8 bell tower.&nb
 sp; (the muffles will be on all 8!).&nbsp; Tea and biscuits, will be provid
 ed!&nbsp; &nbsp;If you are able to bring along a cake or little cakes to sh
 are,&nbsp; please let&nbsp;&nbsp;<span id="cloakadec0c1a7144ae19f012b604e2b
 9ef61">This email address is being protected from spambots. You need JavaSc
 ript enabled to view it.</span><script type='text/javascript'>
				document
 .getElementById('cloakadec0c1a7144ae19f012b604e2b9ef61').innerHTML = '';
		
 		var prefix = '&#109;a' + 'i&#108;' + '&#116;o';
				var path = 'hr' + 'ef
 ' + '=';
				var addyadec0c1a7144ae19f012b604e2b9ef61 = 's&#101;c-w&#101;st
 ' + '&#64;';
				addyadec0c1a7144ae19f012b604e2b9ef61 = addyadec0c1a7144ae1
 9f012b604e2b9ef61 + 'sc&#97;cr' + '&#46;' + '&#111;rg';
				var addy_textad
 ec0c1a7144ae19f012b604e2b9ef61 = 's&#101;c-w&#101;st' + '&#64;' + 'sc&#97;c
 r' + '&#46;' + '&#111;rg';document.getElementById('cloakadec0c1a7144ae19f01
 2b604e2b9ef61').innerHTML += '<a ' + path + '\'' + prefix + ':' + addyadec0
 c1a7144ae19f012b604e2b9ef61 + '\'>'+addy_textadec0c1a7144ae19f012b604e2b9ef
 61+'<\/a>';
		</script>&nbsp;know by&nbsp; wednesday 8th November or call J
 anice on 07890804339.&nbsp; The plan is to also have a raffle in aid of BRF
  and so bring some change and any donations of prizes would be welcome!</p>
  <a href="https://scacr.org/news-events/calendar/1192/monthly-event-half-mu
 ffled-ringing?tmpl=component">This event was imported from: https://scacr.o
 rg/news-events/calendar/1192/monthly-event-half-muffled-ringing?tmpl=compon
 ent</a>CONTACT:This email address is being protected from spambots. You need JavaScript enabled to view it.
				document.getElementById('cloakcaeea2be4e505edc8ed425c8bb25c0d1').innerHTML = '';
				var prefix = '&#109;a' + 'i&#108;' + '&#116;o';
				var path = 'hr' + 'ef' + '=';
				var addycaeea2be4e505edc8ed425c8bb25c0d1 = 's&#101;c-w&#101;st' + '&#64;';
				addycaeea2be4e505edc8ed425c8bb25c0d1 = addycaeea2be4e505edc8ed425c8bb25c0d1 + 'sc&#97;cr' + '&#46;' + '&#111;rg';
				var addy_textcaeea2be4e505edc8ed425c8bb25c0d1 = 's&#101;c-w&#101;st' + '&#64;' + 'sc&#97;cr' + '&#46;' + '&#111;rg';document.getElementById('cloakcaeea2be4e505edc8ed425c8bb25c0d1').innerHTML += '<a ' + path + '\'' + prefix + ':' + addycaeea2be4e505edc8ed425c8bb25c0d1 + '\'>'+addy_textcaeea2be4e505edc8ed425c8bb25c0d1+'';
		
DTSTAMP:20260424T173407
DTSTART;TZID=Europe/London:20231111T143000
DTEND;TZID=Europe/London:20231111T160000
SEQUENCE:0
TRANSP:OPAQUE
END:VEVENT
END:VCALENDAR