BEGIN:VCALENDAR
VERSION:2.0
PRODID:-//jEvents 2.0 for Joomla//EN
CALSCALE:GREGORIAN
METHOD:PUBLISH
BEGIN:VTIMEZONE
TZID:Europe/London
BEGIN:STANDARD
DTSTART:20221208T143000
RDATE:20230326T020000
TZOFFSETFROM:+0100
TZOFFSETTO:+0000
TZNAME:Europe/London GMT
END:STANDARD
BEGIN:STANDARD
DTSTART:20231029T010000
RDATE:20240331T020000
TZOFFSETFROM:+0100
TZOFFSETTO:+0000
TZNAME:Europe/London GMT
END:STANDARD
BEGIN:STANDARD
DTSTART:20241027T010000
RDATE:20250330T020000
TZOFFSETFROM:+0100
TZOFFSETTO:+0000
TZNAME:Europe/London GMT
END:STANDARD
BEGIN:STANDARD
DTSTART:20251026T010000
RDATE:20260329T020000
TZOFFSETFROM:+0100
TZOFFSETTO:+0000
TZNAME:Europe/London GMT
END:STANDARD
BEGIN:STANDARD
DTSTART:20261025T010000
RDATE:20270328T020000
TZOFFSETFROM:+0100
TZOFFSETTO:+0000
TZNAME:Europe/London GMT
END:STANDARD
BEGIN:STANDARD
DTSTART:20271031T010000
RDATE:20280326T020000
TZOFFSETFROM:+0100
TZOFFSETTO:+0000
TZNAME:Europe/London GMT
END:STANDARD
BEGIN:STANDARD
DTSTART:20281029T010000
RDATE:20290325T020000
TZOFFSETFROM:+0100
TZOFFSETTO:+0000
TZNAME:Europe/London GMT
END:STANDARD
BEGIN:STANDARD
DTSTART:20291028T010000
RDATE:20300331T020000
TZOFFSETFROM:+0100
TZOFFSETTO:+0000
TZNAME:Europe/London GMT
END:STANDARD
BEGIN:STANDARD
DTSTART:20301027T010000
RDATE:20310330T020000
TZOFFSETFROM:+0100
TZOFFSETTO:+0000
TZNAME:Europe/London GMT
END:STANDARD
BEGIN:DAYLIGHT
DTSTART:20230326T020000
RDATE:20231029T010000
TZOFFSETFROM:+0000
TZOFFSETTO:+0100
TZNAME:Europe/London BST
END:DAYLIGHT
BEGIN:DAYLIGHT
DTSTART:20240331T020000
RDATE:20241027T010000
TZOFFSETFROM:+0000
TZOFFSETTO:+0100
TZNAME:Europe/London BST
END:DAYLIGHT
BEGIN:DAYLIGHT
DTSTART:20250330T020000
RDATE:20251026T010000
TZOFFSETFROM:+0000
TZOFFSETTO:+0100
TZNAME:Europe/London BST
END:DAYLIGHT
BEGIN:DAYLIGHT
DTSTART:20260329T020000
RDATE:20261025T010000
TZOFFSETFROM:+0000
TZOFFSETTO:+0100
TZNAME:Europe/London BST
END:DAYLIGHT
BEGIN:DAYLIGHT
DTSTART:20270328T020000
RDATE:20271031T010000
TZOFFSETFROM:+0000
TZOFFSETTO:+0100
TZNAME:Europe/London BST
END:DAYLIGHT
BEGIN:DAYLIGHT
DTSTART:20280326T020000
RDATE:20281029T010000
TZOFFSETFROM:+0000
TZOFFSETTO:+0100
TZNAME:Europe/London BST
END:DAYLIGHT
BEGIN:DAYLIGHT
DTSTART:20290325T020000
RDATE:20291028T010000
TZOFFSETFROM:+0000
TZOFFSETTO:+0100
TZNAME:Europe/London BST
END:DAYLIGHT
BEGIN:DAYLIGHT
DTSTART:20300331T020000
RDATE:20301027T010000
TZOFFSETFROM:+0000
TZOFFSETTO:+0100
TZNAME:Europe/London BST
END:DAYLIGHT
END:VTIMEZONE
BEGIN:VEVENT
UID:3e534b567e16da7ce58c2b18055b574c
CATEGORIES:West
CREATED:20231009T175846
SUMMARY:Ringing, Carol Service and Tea!
LOCATION: St Mary's Church\, Pulborough.
URL;VALUE=URI:https://scacr.org/news-events/calendar/1193/ringing-carol-service-and-tea?t
 mpl=component
DESCRIPTION:<p>Ringing on 8 bells followed by a carol service and then tea!!&nbsp; Perf
 ect for getting into the Christmas spirit!!&nbsp; Please ensure you contact
  <span id="cloakccca02046139ccb3937923ce47ead106">This email address is bei
 ng protected from spambots. You need JavaScript enabled to view it.</span><
 script type='text/javascript'>
				document.getElementById('cloakccca020461
 39ccb3937923ce47ead106').innerHTML = '';
				var prefix = '&#109;a' + 'i&#1
 08;' + '&#116;o';
				var path = 'hr' + 'ef' + '=';
				var addyccca0204613
 9ccb3937923ce47ead106 = 's&#101;c-w&#101;st' + '&#64;';
				addyccca0204613
 9ccb3937923ce47ead106 = addyccca02046139ccb3937923ce47ead106 + 'sc&#97;cr' 
 + '&#46;' + '&#111;rg';
				var addy_textccca02046139ccb3937923ce47ead106 =
  's&#101;c-w&#101;st' + '&#64;' + 'sc&#97;cr' + '&#46;' + '&#111;rg';docume
 nt.getElementById('cloakccca02046139ccb3937923ce47ead106').innerHTML += '<a
  ' + path + '\'' + prefix + ':' + addyccca02046139ccb3937923ce47ead106 + '\
 '>'+addy_textccca02046139ccb3937923ce47ead106+'<\/a>';
		</script>&nbsp; if
  requiring tea by the 6th December.&nbsp; There will be a raffle in aid of 
 BRF so please bring some change and any donations of prizes would be most w
 elcome.!!&nbsp; Look forward to seeing you there!</p> <a href="https://scac
 r.org/news-events/calendar/1193/ringing-carol-service-and-tea?tmpl=componen
 t">This event was imported from: https://scacr.org/news-events/calendar/119
 3/ringing-carol-service-and-tea?tmpl=component</a>CONTACT:This email address is being protected from spambots. You need JavaScript enabled to view it.
				document.getElementById('cloakc5522a448fdd1469c8e30718cb6e05f0').innerHTML = '';
				var prefix = '&#109;a' + 'i&#108;' + '&#116;o';
				var path = 'hr' + 'ef' + '=';
				var addyc5522a448fdd1469c8e30718cb6e05f0 = 's&#101;c-w&#101;st' + '&#64;';
				addyc5522a448fdd1469c8e30718cb6e05f0 = addyc5522a448fdd1469c8e30718cb6e05f0 + 'sc&#97;cr' + '&#46;' + '&#111;rg';
				var addy_textc5522a448fdd1469c8e30718cb6e05f0 = 's&#101;c-w&#101;st' + '&#64;' + 'sc&#97;cr' + '&#46;' + '&#111;rg';document.getElementById('cloakc5522a448fdd1469c8e30718cb6e05f0').innerHTML += '<a ' + path + '\'' + prefix + ':' + addyc5522a448fdd1469c8e30718cb6e05f0 + '\'>'+addy_textc5522a448fdd1469c8e30718cb6e05f0+'';
		
DTSTAMP:20260424T075619
DTSTART;TZID=Europe/London:20231209T143000
SEQUENCE:0
TRANSP:OPAQUE
END:VEVENT
END:VCALENDAR