BEGIN:VCALENDAR
VERSION:2.0
PRODID:-//jEvents 2.0 for Joomla//EN
CALSCALE:GREGORIAN
METHOD:PUBLISH
BEGIN:VTIMEZONE
TZID:Europe/London
BEGIN:STANDARD
DTSTART:20221110T100000
RDATE:20230326T020000
TZOFFSETFROM:+0100
TZOFFSETTO:+0000
TZNAME:Europe/London GMT
END:STANDARD
BEGIN:STANDARD
DTSTART:20231029T010000
RDATE:20240331T020000
TZOFFSETFROM:+0100
TZOFFSETTO:+0000
TZNAME:Europe/London GMT
END:STANDARD
BEGIN:STANDARD
DTSTART:20241027T010000
RDATE:20250330T020000
TZOFFSETFROM:+0100
TZOFFSETTO:+0000
TZNAME:Europe/London GMT
END:STANDARD
BEGIN:STANDARD
DTSTART:20251026T010000
RDATE:20260329T020000
TZOFFSETFROM:+0100
TZOFFSETTO:+0000
TZNAME:Europe/London GMT
END:STANDARD
BEGIN:STANDARD
DTSTART:20261025T010000
RDATE:20270328T020000
TZOFFSETFROM:+0100
TZOFFSETTO:+0000
TZNAME:Europe/London GMT
END:STANDARD
BEGIN:STANDARD
DTSTART:20271031T010000
RDATE:20280326T020000
TZOFFSETFROM:+0100
TZOFFSETTO:+0000
TZNAME:Europe/London GMT
END:STANDARD
BEGIN:STANDARD
DTSTART:20281029T010000
RDATE:20290325T020000
TZOFFSETFROM:+0100
TZOFFSETTO:+0000
TZNAME:Europe/London GMT
END:STANDARD
BEGIN:STANDARD
DTSTART:20291028T010000
RDATE:20300331T020000
TZOFFSETFROM:+0100
TZOFFSETTO:+0000
TZNAME:Europe/London GMT
END:STANDARD
BEGIN:STANDARD
DTSTART:20301027T010000
RDATE:20310330T020000
TZOFFSETFROM:+0100
TZOFFSETTO:+0000
TZNAME:Europe/London GMT
END:STANDARD
BEGIN:DAYLIGHT
DTSTART:20230326T020000
RDATE:20231029T010000
TZOFFSETFROM:+0000
TZOFFSETTO:+0100
TZNAME:Europe/London BST
END:DAYLIGHT
BEGIN:DAYLIGHT
DTSTART:20240331T020000
RDATE:20241027T010000
TZOFFSETFROM:+0000
TZOFFSETTO:+0100
TZNAME:Europe/London BST
END:DAYLIGHT
BEGIN:DAYLIGHT
DTSTART:20250330T020000
RDATE:20251026T010000
TZOFFSETFROM:+0000
TZOFFSETTO:+0100
TZNAME:Europe/London BST
END:DAYLIGHT
BEGIN:DAYLIGHT
DTSTART:20260329T020000
RDATE:20261025T010000
TZOFFSETFROM:+0000
TZOFFSETTO:+0100
TZNAME:Europe/London BST
END:DAYLIGHT
BEGIN:DAYLIGHT
DTSTART:20270328T020000
RDATE:20271031T010000
TZOFFSETFROM:+0000
TZOFFSETTO:+0100
TZNAME:Europe/London BST
END:DAYLIGHT
BEGIN:DAYLIGHT
DTSTART:20280326T020000
RDATE:20281029T010000
TZOFFSETFROM:+0000
TZOFFSETTO:+0100
TZNAME:Europe/London BST
END:DAYLIGHT
BEGIN:DAYLIGHT
DTSTART:20290325T020000
RDATE:20291028T010000
TZOFFSETFROM:+0000
TZOFFSETTO:+0100
TZNAME:Europe/London BST
END:DAYLIGHT
BEGIN:DAYLIGHT
DTSTART:20300331T020000
RDATE:20301027T010000
TZOFFSETFROM:+0000
TZOFFSETTO:+0100
TZNAME:Europe/London BST
END:DAYLIGHT
END:VTIMEZONE
BEGIN:VEVENT
UID:75541153111ff00803cbce556f1acd35
CATEGORIES:South
CREATED:20231111T155929
SUMMARY:Postponed Bell Maintenance Session
LOCATION:St Peters Brighton
URL;VALUE=URI:https://scacr.org/news-events/calendar/1198/postponed-bell-maintenance-sess
 ion?tmpl=component
DESCRIPTION:It is hoped that the the postponed bell maintenance course can now be run. 
 Details to follow. \nYou should be aware that this session will require ove
 ralls, steel toe cap boots and a bump cap.\nPlease contact Rob Lane, BRF Se
 cretary and CC Rep, email;  (mailto:rob@rjlane.co.uk)This email address is 
 being protected from spambots. You need JavaScript enabled to view it.
				
 document.getElementById('cloak854b5e8650c0152e6c5180d9b022d660').innerHTML 
 = '';
				var prefix = '&#109;a' + 'i&#108;' + '&#116;o';
				var path = 'h
 r' + 'ef' + '=';
				var addy854b5e8650c0152e6c5180d9b022d660 = 'r&#111;b' 
 + '&#64;';
				addy854b5e8650c0152e6c5180d9b022d660 = addy854b5e8650c0152e6
 c5180d9b022d660 + 'rjl&#97;n&#101;' + '&#46;' + 'c&#111;' + '&#46;' + '&#11
 7;k';
				var addy_text854b5e8650c0152e6c5180d9b022d660 = 'r&#111;b' + '&#6
 4;' + 'rjl&#97;n&#101;' + '&#46;' + 'c&#111;' + '&#46;' + '&#117;k';documen
 t.getElementById('cloak854b5e8650c0152e6c5180d9b022d660').innerHTML += '<a 
 ' + path + '\'' + prefix + ':' + addy854b5e8650c0152e6c5180d9b022d660 + '\'
 >'+addy_text854b5e8650c0152e6c5180d9b022d660+'';
		, if you are wishing to 
 attend or you need further information.\n This event was imported from: htt
 ps://scacr.org/news-events/calendar/1198/postponed-bell-maintenance-session
 ?tmpl=component (https://scacr.org/news-events/calendar/1198/postponed-bell
 -maintenance-session?tmpl=component)
X-ALT-DESC;FMTTYPE=text/html:<p><em>It is hoped that the the postponed bell maintenance course can now b
 e run. Details to follow.</em><em>&nbsp;</em></p><p><em>You should be aware
  that this session will require overalls, steel toe cap boots and a bump ca
 p.</em></p><p><em>Please contact Rob Lane, BRF Secretary and CC Rep, email;
  <a href="mailto:rob@rjlane.co.uk"></a><span id="cloak854b5e8650c0152e6c518
 0d9b022d660">This email address is being protected from spambots. You need 
 JavaScript enabled to view it.</span><script type='text/javascript'>
				do
 cument.getElementById('cloak854b5e8650c0152e6c5180d9b022d660').innerHTML = 
 '';
				var prefix = '&#109;a' + 'i&#108;' + '&#116;o';
				var path = 'hr'
  + 'ef' + '=';
				var addy854b5e8650c0152e6c5180d9b022d660 = 'r&#111;b' + 
 '&#64;';
				addy854b5e8650c0152e6c5180d9b022d660 = addy854b5e8650c0152e6c5
 180d9b022d660 + 'rjl&#97;n&#101;' + '&#46;' + 'c&#111;' + '&#46;' + '&#117;
 k';
				var addy_text854b5e8650c0152e6c5180d9b022d660 = 'r&#111;b' + '&#64;
 ' + 'rjl&#97;n&#101;' + '&#46;' + 'c&#111;' + '&#46;' + '&#117;k';document.
 getElementById('cloak854b5e8650c0152e6c5180d9b022d660').innerHTML += '<a ' 
 + path + '\'' + prefix + ':' + addy854b5e8650c0152e6c5180d9b022d660 + '\'>'
 +addy_text854b5e8650c0152e6c5180d9b022d660+'<\/a>';
		</script>, if you are
  wishing to attend or you need further information.</em></p> <a href="https
 ://scacr.org/news-events/calendar/1198/postponed-bell-maintenance-session?t
 mpl=component">This event was imported from: https://scacr.org/news-events/
 calendar/1198/postponed-bell-maintenance-session?tmpl=component</a>CONTACT:Rob Lane, This email address is being protected from spambots. You need JavaScript enabled to view it.
				document.getElementById('cloak4cb98520ee164b6b5ed214c2b1b23660').innerHTML = '';
				var prefix = '&#109;a' + 'i&#108;' + '&#116;o';
				var path = 'hr' + 'ef' + '=';
				var addy4cb98520ee164b6b5ed214c2b1b23660 = 'r&#111;b' + '&#64;';
				addy4cb98520ee164b6b5ed214c2b1b23660 = addy4cb98520ee164b6b5ed214c2b1b23660 + 'rjl&#97;n&#101;' + '&#46;' + 'c&#111;' + '&#46;' + '&#117;k';
				var addy_text4cb98520ee164b6b5ed214c2b1b23660 = 'r&#111;b' + '&#64;' + 'rjl&#97;n&#101;' + '&#46;' + 'c&#111;' + '&#46;' + '&#117;k';document.getElementById('cloak4cb98520ee164b6b5ed214c2b1b23660').innerHTML += '<a ' + path + '\'' + prefix + ':' + addy4cb98520ee164b6b5ed214c2b1b23660 + '\'>'+addy_text4cb98520ee164b6b5ed214c2b1b23660+'';
		, BRF Secretary and CC Rep
DTSTAMP:20260424T173356
DTSTART;TZID=Europe/London:20231111T100000
SEQUENCE:0
TRANSP:OPAQUE
END:VEVENT
END:VCALENDAR