BEGIN:VCALENDAR
VERSION:2.0
PRODID:-//jEvents 2.0 for Joomla//EN
CALSCALE:GREGORIAN
METHOD:PUBLISH
BEGIN:VTIMEZONE
TZID:Europe/London
BEGIN:STANDARD
DTSTART:20221124T140000
RDATE:20230326T020000
TZOFFSETFROM:+0100
TZOFFSETTO:+0000
TZNAME:Europe/London GMT
END:STANDARD
BEGIN:STANDARD
DTSTART:20231029T010000
RDATE:20240331T020000
TZOFFSETFROM:+0100
TZOFFSETTO:+0000
TZNAME:Europe/London GMT
END:STANDARD
BEGIN:STANDARD
DTSTART:20241027T010000
RDATE:20250330T020000
TZOFFSETFROM:+0100
TZOFFSETTO:+0000
TZNAME:Europe/London GMT
END:STANDARD
BEGIN:STANDARD
DTSTART:20251026T010000
RDATE:20260329T020000
TZOFFSETFROM:+0100
TZOFFSETTO:+0000
TZNAME:Europe/London GMT
END:STANDARD
BEGIN:STANDARD
DTSTART:20261025T010000
RDATE:20270328T020000
TZOFFSETFROM:+0100
TZOFFSETTO:+0000
TZNAME:Europe/London GMT
END:STANDARD
BEGIN:STANDARD
DTSTART:20271031T010000
RDATE:20280326T020000
TZOFFSETFROM:+0100
TZOFFSETTO:+0000
TZNAME:Europe/London GMT
END:STANDARD
BEGIN:STANDARD
DTSTART:20281029T010000
RDATE:20290325T020000
TZOFFSETFROM:+0100
TZOFFSETTO:+0000
TZNAME:Europe/London GMT
END:STANDARD
BEGIN:STANDARD
DTSTART:20291028T010000
RDATE:20300331T020000
TZOFFSETFROM:+0100
TZOFFSETTO:+0000
TZNAME:Europe/London GMT
END:STANDARD
BEGIN:STANDARD
DTSTART:20301027T010000
RDATE:20310330T020000
TZOFFSETFROM:+0100
TZOFFSETTO:+0000
TZNAME:Europe/London GMT
END:STANDARD
BEGIN:DAYLIGHT
DTSTART:20230326T020000
RDATE:20231029T010000
TZOFFSETFROM:+0000
TZOFFSETTO:+0100
TZNAME:Europe/London BST
END:DAYLIGHT
BEGIN:DAYLIGHT
DTSTART:20240331T020000
RDATE:20241027T010000
TZOFFSETFROM:+0000
TZOFFSETTO:+0100
TZNAME:Europe/London BST
END:DAYLIGHT
BEGIN:DAYLIGHT
DTSTART:20250330T020000
RDATE:20251026T010000
TZOFFSETFROM:+0000
TZOFFSETTO:+0100
TZNAME:Europe/London BST
END:DAYLIGHT
BEGIN:DAYLIGHT
DTSTART:20260329T020000
RDATE:20261025T010000
TZOFFSETFROM:+0000
TZOFFSETTO:+0100
TZNAME:Europe/London BST
END:DAYLIGHT
BEGIN:DAYLIGHT
DTSTART:20270328T020000
RDATE:20271031T010000
TZOFFSETFROM:+0000
TZOFFSETTO:+0100
TZNAME:Europe/London BST
END:DAYLIGHT
BEGIN:DAYLIGHT
DTSTART:20280326T020000
RDATE:20281029T010000
TZOFFSETFROM:+0000
TZOFFSETTO:+0100
TZNAME:Europe/London BST
END:DAYLIGHT
BEGIN:DAYLIGHT
DTSTART:20290325T020000
RDATE:20291028T010000
TZOFFSETFROM:+0000
TZOFFSETTO:+0100
TZNAME:Europe/London BST
END:DAYLIGHT
BEGIN:DAYLIGHT
DTSTART:20300331T020000
RDATE:20301027T010000
TZOFFSETFROM:+0000
TZOFFSETTO:+0100
TZNAME:Europe/London BST
END:DAYLIGHT
END:VTIMEZONE
BEGIN:VEVENT
UID:bfb556b8d0b28d5c2d9ca3d37f330751
CATEGORIES:Association Event
CREATED:20231122T103607
SUMMARY:Calling  all ART module Attendees!
LOCATION:St Mary's Church\, Billingshurst.
URL;VALUE=URI:https://scacr.org/news-events/calendar/1201/calling-all-art-module-attendee
 s?tmpl=component
DESCRIPTION:This event is open to  ringers who have attended any ART module and regardl
 ess of when it was!  This is an opportunity  for feedback, hints, tips and 
  ideas at a lovely 8 bell tower.  This will be a supportive environment to 
 discuss any challenges that you may be experiencing in an ideal setting for
  exchanging ideas!!\nParking is a pay and display at the local library.\nTh
 ere will be tea and cake provided.  Please let let Janice Crawford know if 
 you are able to come on 07890804339 or e mail This email address is being p
 rotected from spambots. You need JavaScript enabled to view it.
				documen
 t.getElementById('cloaka67caa2a86313c574bdbbcd2d7bb367b').innerHTML = '';
	
 			var prefix = '&#109;a' + 'i&#108;' + '&#116;o';
				var path = 'hr' + 'e
 f' + '=';
				var addya67caa2a86313c574bdbbcd2d7bb367b = 's&#101;c-w&#101;s
 t' + '&#64;';
				addya67caa2a86313c574bdbbcd2d7bb367b = addya67caa2a86313c
 574bdbbcd2d7bb367b + 'sc&#97;cr' + '&#46;' + '&#111;rg';
				var addy_texta
 67caa2a86313c574bdbbcd2d7bb367b = 's&#101;c-w&#101;st' + '&#64;' + 'sc&#97;
 cr' + '&#46;' + '&#111;rg';document.getElementById('cloaka67caa2a86313c574b
 dbbcd2d7bb367b').innerHTML += '<a ' + path + '\'' + prefix + ':' + addya67c
 aa2a86313c574bdbbcd2d7bb367b + '\'>'+addy_texta67caa2a86313c574bdbbcd2d7bb3
 67b+'';
		\nLook forward to seeing you there!\n \n This event was imported 
 from: https://scacr.org/news-events/calendar/1201/calling-all-art-module-at
 tendees?tmpl=component (https://scacr.org/news-events/calendar/1201/calling
 -all-art-module-attendees?tmpl=component)
X-ALT-DESC;FMTTYPE=text/html:<p>This event is open to&nbsp; ringers who have attended any ART module and
  regardless of when it was!&nbsp; This is an opportunity&nbsp; for feedback
 , hints, tips and&nbsp; ideas at a lovely 8 bell tower.&nbsp; This will be 
 a supportive environment to discuss any challenges that you may be experien
 cing in an ideal setting for exchanging ideas!!</p><p>Parking is a pay and 
 display at the local library.</p><p>There will be tea and cake provided.&nb
 sp; Please let let Janice Crawford know if you are able to come on 07890804
 339 or e mail <span id="cloaka67caa2a86313c574bdbbcd2d7bb367b">This email a
 ddress is being protected from spambots. You need JavaScript enabled to vie
 w it.</span><script type='text/javascript'>
				document.getElementById('cl
 oaka67caa2a86313c574bdbbcd2d7bb367b').innerHTML = '';
				var prefix = '&#1
 09;a' + 'i&#108;' + '&#116;o';
				var path = 'hr' + 'ef' + '=';
				var ad
 dya67caa2a86313c574bdbbcd2d7bb367b = 's&#101;c-w&#101;st' + '&#64;';
				ad
 dya67caa2a86313c574bdbbcd2d7bb367b = addya67caa2a86313c574bdbbcd2d7bb367b +
  'sc&#97;cr' + '&#46;' + '&#111;rg';
				var addy_texta67caa2a86313c574bdbb
 cd2d7bb367b = 's&#101;c-w&#101;st' + '&#64;' + 'sc&#97;cr' + '&#46;' + '&#1
 11;rg';document.getElementById('cloaka67caa2a86313c574bdbbcd2d7bb367b').inn
 erHTML += '<a ' + path + '\'' + prefix + ':' + addya67caa2a86313c574bdbbcd2
 d7bb367b + '\'>'+addy_texta67caa2a86313c574bdbbcd2d7bb367b+'<\/a>';
		</scr
 ipt></p><p>Look forward to seeing you there!</p><p>&nbsp;</p> <a href="http
 s://scacr.org/news-events/calendar/1201/calling-all-art-module-attendees?tm
 pl=component">This event was imported from: https://scacr.org/news-events/c
 alendar/1201/calling-all-art-module-attendees?tmpl=component</a>CONTACT:This email address is being protected from spambots. You need JavaScript enabled to view it.
				document.getElementById('cloakb56ff1ce777668fbc1e66dfa884e9e9e').innerHTML = '';
				var prefix = '&#109;a' + 'i&#108;' + '&#116;o';
				var path = 'hr' + 'ef' + '=';
				var addyb56ff1ce777668fbc1e66dfa884e9e9e = 's&#101;c-w&#101;st' + '&#64;';
				addyb56ff1ce777668fbc1e66dfa884e9e9e = addyb56ff1ce777668fbc1e66dfa884e9e9e + 'sc&#97;cr' + '&#46;' + '&#111;rg';
				var addy_textb56ff1ce777668fbc1e66dfa884e9e9e = 's&#101;c-w&#101;st' + '&#64;' + 'sc&#97;cr' + '&#46;' + '&#111;rg';document.getElementById('cloakb56ff1ce777668fbc1e66dfa884e9e9e').innerHTML += '<a ' + path + '\'' + prefix + ':' + addyb56ff1ce777668fbc1e66dfa884e9e9e + '\'>'+addy_textb56ff1ce777668fbc1e66dfa884e9e9e+'';
		
DTSTAMP:20260424T072512
DTSTART;TZID=Europe/London:20231125T140000
DTEND;TZID=Europe/London:20231125T163000
SEQUENCE:0
TRANSP:OPAQUE
END:VEVENT
END:VCALENDAR