BEGIN:VCALENDAR
VERSION:2.0
PRODID:-//jEvents 2.0 for Joomla//EN
CALSCALE:GREGORIAN
METHOD:PUBLISH
BEGIN:VTIMEZONE
TZID:Europe/London
BEGIN:STANDARD
DTSTART:20230105T093000
RDATE:20230326T020000
TZOFFSETFROM:+0100
TZOFFSETTO:+0000
TZNAME:Europe/London GMT
END:STANDARD
BEGIN:STANDARD
DTSTART:20231029T010000
RDATE:20240331T020000
TZOFFSETFROM:+0100
TZOFFSETTO:+0000
TZNAME:Europe/London GMT
END:STANDARD
BEGIN:STANDARD
DTSTART:20241027T010000
RDATE:20250330T020000
TZOFFSETFROM:+0100
TZOFFSETTO:+0000
TZNAME:Europe/London GMT
END:STANDARD
BEGIN:STANDARD
DTSTART:20251026T010000
RDATE:20260329T020000
TZOFFSETFROM:+0100
TZOFFSETTO:+0000
TZNAME:Europe/London GMT
END:STANDARD
BEGIN:STANDARD
DTSTART:20261025T010000
RDATE:20270328T020000
TZOFFSETFROM:+0100
TZOFFSETTO:+0000
TZNAME:Europe/London GMT
END:STANDARD
BEGIN:STANDARD
DTSTART:20271031T010000
RDATE:20280326T020000
TZOFFSETFROM:+0100
TZOFFSETTO:+0000
TZNAME:Europe/London GMT
END:STANDARD
BEGIN:STANDARD
DTSTART:20281029T010000
RDATE:20290325T020000
TZOFFSETFROM:+0100
TZOFFSETTO:+0000
TZNAME:Europe/London GMT
END:STANDARD
BEGIN:STANDARD
DTSTART:20291028T010000
RDATE:20300331T020000
TZOFFSETFROM:+0100
TZOFFSETTO:+0000
TZNAME:Europe/London GMT
END:STANDARD
BEGIN:STANDARD
DTSTART:20301027T010000
RDATE:20310330T020000
TZOFFSETFROM:+0100
TZOFFSETTO:+0000
TZNAME:Europe/London GMT
END:STANDARD
BEGIN:DAYLIGHT
DTSTART:20230326T020000
RDATE:20231029T010000
TZOFFSETFROM:+0000
TZOFFSETTO:+0100
TZNAME:Europe/London BST
END:DAYLIGHT
BEGIN:DAYLIGHT
DTSTART:20240331T020000
RDATE:20241027T010000
TZOFFSETFROM:+0000
TZOFFSETTO:+0100
TZNAME:Europe/London BST
END:DAYLIGHT
BEGIN:DAYLIGHT
DTSTART:20250330T020000
RDATE:20251026T010000
TZOFFSETFROM:+0000
TZOFFSETTO:+0100
TZNAME:Europe/London BST
END:DAYLIGHT
BEGIN:DAYLIGHT
DTSTART:20260329T020000
RDATE:20261025T010000
TZOFFSETFROM:+0000
TZOFFSETTO:+0100
TZNAME:Europe/London BST
END:DAYLIGHT
BEGIN:DAYLIGHT
DTSTART:20270328T020000
RDATE:20271031T010000
TZOFFSETFROM:+0000
TZOFFSETTO:+0100
TZNAME:Europe/London BST
END:DAYLIGHT
BEGIN:DAYLIGHT
DTSTART:20280326T020000
RDATE:20281029T010000
TZOFFSETFROM:+0000
TZOFFSETTO:+0100
TZNAME:Europe/London BST
END:DAYLIGHT
BEGIN:DAYLIGHT
DTSTART:20290325T020000
RDATE:20291028T010000
TZOFFSETFROM:+0000
TZOFFSETTO:+0100
TZNAME:Europe/London BST
END:DAYLIGHT
BEGIN:DAYLIGHT
DTSTART:20300331T020000
RDATE:20301027T010000
TZOFFSETFROM:+0000
TZOFFSETTO:+0100
TZNAME:Europe/London BST
END:DAYLIGHT
END:VTIMEZONE
BEGIN:VEVENT
UID:dbfb9aeb7a9479a3cb7f5d8e43ece201
CATEGORIES:West
CREATED:20231207T160721
SUMMARY: Beyond Plain Hunt!
LOCATION:St Mary's Washington
URL;VALUE=URI:https://scacr.org/news-events/calendar/1211/beyond-plain-hunt?tmpl=componen
 t
DESCRIPTION:A great opportunity to ring on this ground floor tower with a supportive ba
 nd.  This is a regular monthly event for those who can ring rounds, call  c
 hanges and Plain Hunt are ready to progress to Doubles.   Refreshments are 
 also provided. \nIt is imperative that you contact Christine Butterfeld on 
 01903 872623 so that she can monitor numbers.  E mail This email address is
  being protected from spambots. You need JavaScript enabled to view it.
			
 	document.getElementById('cloak6379c2f0c7d3debf40f9c1c58214a35c').innerHTML
  = '';
				var prefix = '&#109;a' + 'i&#108;' + '&#116;o';
				var path = '
 hr' + 'ef' + '=';
				var addy6379c2f0c7d3debf40f9c1c58214a35c = 's&#101;c-
 w&#101;st' + '&#64;';
				addy6379c2f0c7d3debf40f9c1c58214a35c = addy6379c2
 f0c7d3debf40f9c1c58214a35c + 'sc&#97;cr' + '&#46;' + '&#111;rg';
				var ad
 dy_text6379c2f0c7d3debf40f9c1c58214a35c = 's&#101;c-w&#101;st' + '&#64;' + 
 'sc&#97;cr' + '&#46;' + '&#111;rg';document.getElementById('cloak6379c2f0c7
 d3debf40f9c1c58214a35c').innerHTML += '<a ' + path + '\'' + prefix + ':' + 
 addy6379c2f0c7d3debf40f9c1c58214a35c + '\'>'+addy_text6379c2f0c7d3debf40f9c
 1c58214a35c+'';
		 if you require refreshments.\nLook forward to seeing you
  there\n This event was imported from: https://scacr.org/news-events/calend
 ar/1211/beyond-plain-hunt?tmpl=component (https://scacr.org/news-events/cal
 endar/1211/beyond-plain-hunt?tmpl=component)
X-ALT-DESC;FMTTYPE=text/html:<p>A great opportunity to ring on this ground floor tower with a supportive
  band.&nbsp; This is a regular monthly event for those who can ring rounds,
  call&nbsp; changes and Plain Hunt are ready to progress to Doubles.&nbsp; 
 &nbsp;Refreshments are also provided.&nbsp;</p><p>It is imperative that you
  contact Christine Butterfeld on 01903 872623 so that she can monitor numbe
 rs.&nbsp; E mail <span id="cloak6379c2f0c7d3debf40f9c1c58214a35c">This emai
 l address is being protected from spambots. You need JavaScript enabled to 
 view it.</span><script type='text/javascript'>
				document.getElementById(
 'cloak6379c2f0c7d3debf40f9c1c58214a35c').innerHTML = '';
				var prefix = '
 &#109;a' + 'i&#108;' + '&#116;o';
				var path = 'hr' + 'ef' + '=';
				var
  addy6379c2f0c7d3debf40f9c1c58214a35c = 's&#101;c-w&#101;st' + '&#64;';
			
 	addy6379c2f0c7d3debf40f9c1c58214a35c = addy6379c2f0c7d3debf40f9c1c58214a35
 c + 'sc&#97;cr' + '&#46;' + '&#111;rg';
				var addy_text6379c2f0c7d3debf40
 f9c1c58214a35c = 's&#101;c-w&#101;st' + '&#64;' + 'sc&#97;cr' + '&#46;' + '
 &#111;rg';document.getElementById('cloak6379c2f0c7d3debf40f9c1c58214a35c').
 innerHTML += '<a ' + path + '\'' + prefix + ':' + addy6379c2f0c7d3debf40f9c
 1c58214a35c + '\'>'+addy_text6379c2f0c7d3debf40f9c1c58214a35c+'<\/a>';
		</
 script>&nbsp;if you require refreshments.</p><p>Look forward to seeing you 
 there</p> <a href="https://scacr.org/news-events/calendar/1211/beyond-plain
 -hunt?tmpl=component">This event was imported from: https://scacr.org/news-
 events/calendar/1211/beyond-plain-hunt?tmpl=component</a>CONTACT:Christine Butterfield 01903 872623
DTSTAMP:20260422T203528
DTSTART;TZID=Europe/London:20240106T093000
DTEND;TZID=Europe/London:20240106T120000
SEQUENCE:0
TRANSP:OPAQUE
END:VEVENT
END:VCALENDAR