BEGIN:VCALENDAR
VERSION:2.0
PRODID:-//jEvents 2.0 for Joomla//EN
CALSCALE:GREGORIAN
METHOD:PUBLISH
BEGIN:VTIMEZONE
TZID:Europe/London
BEGIN:STANDARD
DTSTART:20230114T193000
RDATE:20230326T020000
TZOFFSETFROM:+0100
TZOFFSETTO:+0000
TZNAME:Europe/London GMT
END:STANDARD
BEGIN:STANDARD
DTSTART:20231029T010000
RDATE:20240331T020000
TZOFFSETFROM:+0100
TZOFFSETTO:+0000
TZNAME:Europe/London GMT
END:STANDARD
BEGIN:STANDARD
DTSTART:20241027T010000
RDATE:20250330T020000
TZOFFSETFROM:+0100
TZOFFSETTO:+0000
TZNAME:Europe/London GMT
END:STANDARD
BEGIN:STANDARD
DTSTART:20251026T010000
RDATE:20260329T020000
TZOFFSETFROM:+0100
TZOFFSETTO:+0000
TZNAME:Europe/London GMT
END:STANDARD
BEGIN:STANDARD
DTSTART:20261025T010000
RDATE:20270328T020000
TZOFFSETFROM:+0100
TZOFFSETTO:+0000
TZNAME:Europe/London GMT
END:STANDARD
BEGIN:STANDARD
DTSTART:20271031T010000
RDATE:20280326T020000
TZOFFSETFROM:+0100
TZOFFSETTO:+0000
TZNAME:Europe/London GMT
END:STANDARD
BEGIN:STANDARD
DTSTART:20281029T010000
RDATE:20290325T020000
TZOFFSETFROM:+0100
TZOFFSETTO:+0000
TZNAME:Europe/London GMT
END:STANDARD
BEGIN:STANDARD
DTSTART:20291028T010000
RDATE:20300331T020000
TZOFFSETFROM:+0100
TZOFFSETTO:+0000
TZNAME:Europe/London GMT
END:STANDARD
BEGIN:STANDARD
DTSTART:20301027T010000
RDATE:20310330T020000
TZOFFSETFROM:+0100
TZOFFSETTO:+0000
TZNAME:Europe/London GMT
END:STANDARD
BEGIN:DAYLIGHT
DTSTART:20230326T020000
RDATE:20231029T010000
TZOFFSETFROM:+0000
TZOFFSETTO:+0100
TZNAME:Europe/London BST
END:DAYLIGHT
BEGIN:DAYLIGHT
DTSTART:20240331T020000
RDATE:20241027T010000
TZOFFSETFROM:+0000
TZOFFSETTO:+0100
TZNAME:Europe/London BST
END:DAYLIGHT
BEGIN:DAYLIGHT
DTSTART:20250330T020000
RDATE:20251026T010000
TZOFFSETFROM:+0000
TZOFFSETTO:+0100
TZNAME:Europe/London BST
END:DAYLIGHT
BEGIN:DAYLIGHT
DTSTART:20260329T020000
RDATE:20261025T010000
TZOFFSETFROM:+0000
TZOFFSETTO:+0100
TZNAME:Europe/London BST
END:DAYLIGHT
BEGIN:DAYLIGHT
DTSTART:20270328T020000
RDATE:20271031T010000
TZOFFSETFROM:+0000
TZOFFSETTO:+0100
TZNAME:Europe/London BST
END:DAYLIGHT
BEGIN:DAYLIGHT
DTSTART:20280326T020000
RDATE:20281029T010000
TZOFFSETFROM:+0000
TZOFFSETTO:+0100
TZNAME:Europe/London BST
END:DAYLIGHT
BEGIN:DAYLIGHT
DTSTART:20290325T020000
RDATE:20291028T010000
TZOFFSETFROM:+0000
TZOFFSETTO:+0100
TZNAME:Europe/London BST
END:DAYLIGHT
BEGIN:DAYLIGHT
DTSTART:20300331T020000
RDATE:20301027T010000
TZOFFSETFROM:+0000
TZOFFSETTO:+0100
TZNAME:Europe/London BST
END:DAYLIGHT
END:VTIMEZONE
BEGIN:VEVENT
UID:a536f042ee46e4e75914131d3c975601
CATEGORIES:North
CREATED:20240107T210920
SUMMARY:Northern Surprise Practice
LOCATION:Balcombe
URL;VALUE=URI:https://scacr.org/news-events/calendar/1225/northern-surprise-practice?tmpl
 =component
DESCRIPTION:These sessions focus on the Core 7 methods inspired by Simon Linford's book
  found here https://www.ringingworld.co.uk/purchase/shop/the-core-seven-and
 -beyond.html (https://www.ringingworld.co.uk/purchase/shop/the-core-seven-a
 nd-beyond.html)\nThe idea is to try and improve the success rate and striki
 ng accuracy in Core 7 methods and it would be very much appreciated if wher
 e possible attendees do a little extra homework in advance, to help ensure 
 we peform our best on the night. There will also be an enhanced effort to e
 nsure more optimal band placement.\nI hope there will continue to be an opp
 ortunity for the more experienced ringers to ring a touch of spliced at the
  end of the practice subject to attendance.\nPlease get in touch (This emai
 l address is being protected from spambots. You need JavaScript enabled to 
 view it.
				document.getElementById('cloakf673888de7485a25c6fc519b3bb57fa9
 ').innerHTML = '';
				var prefix = '&#109;a' + 'i&#108;' + '&#116;o';
				
 var path = 'hr' + 'ef' + '=';
				var addyf673888de7485a25c6fc519b3bb57fa9 
 = 'n&#101;ssr&#105;ng&#105;ng' + '&#64;';
				addyf673888de7485a25c6fc519b3
 bb57fa9 = addyf673888de7485a25c6fc519b3bb57fa9 + '&#105;cl&#111;&#117;d' + 
 '&#46;' + 'c&#111;m';
				var addy_textf673888de7485a25c6fc519b3bb57fa9 = '
 n&#101;ssr&#105;ng&#105;ng' + '&#64;' + '&#105;cl&#111;&#117;d' + '&#46;' +
  'c&#111;m';document.getElementById('cloakf673888de7485a25c6fc519b3bb57fa9'
 ).innerHTML += '<a ' + path + '\'' + prefix + ':' + addyf673888de7485a25c6f
 c519b3bb57fa9 + '\'>'+addy_textf673888de7485a25c6fc519b3bb57fa9+'';
		) if 
 there is anything in particular you would like to ring.\nRingers from other
  divisions are welcome to attend although ideally please email in advance. 
 This event was imported from: https://scacr.org/news-events/calendar/1225/n
 orthern-surprise-practice?tmpl=component (https://scacr.org/news-events/cal
 endar/1225/northern-surprise-practice?tmpl=component)
X-ALT-DESC;FMTTYPE=text/html:<p>These sessions focus on the Core 7 methods inspired by Simon Linford's b
 ook found here&nbsp;<a href="https://www.ringingworld.co.uk/purchase/shop/t
 he-core-seven-and-beyond.html">https://www.ringingworld.co.uk/purchase/shop
 /the-core-seven-and-beyond.html</a></p><p>The idea is to try and improve th
 e success rate and striking accuracy in Core 7 methods and it would be very
  much appreciated if where possible attendees do a little extra homework in
  advance, to help ensure we peform our best on the night. There will also b
 e an enhanced effort to ensure more optimal band placement.</p><p>I hope th
 ere will continue to be an opportunity for the more experienced ringers to 
 ring a touch of spliced at the end of the practice subject to attendance.</
 p><p>Please get in touch (<span id="cloakf673888de7485a25c6fc519b3bb57fa9">
 This email address is being protected from spambots. You need JavaScript en
 abled to view it.</span><script type='text/javascript'>
				document.getEle
 mentById('cloakf673888de7485a25c6fc519b3bb57fa9').innerHTML = '';
				var p
 refix = '&#109;a' + 'i&#108;' + '&#116;o';
				var path = 'hr' + 'ef' + '='
 ;
				var addyf673888de7485a25c6fc519b3bb57fa9 = 'n&#101;ssr&#105;ng&#105;n
 g' + '&#64;';
				addyf673888de7485a25c6fc519b3bb57fa9 = addyf673888de7485a
 25c6fc519b3bb57fa9 + '&#105;cl&#111;&#117;d' + '&#46;' + 'c&#111;m';
				va
 r addy_textf673888de7485a25c6fc519b3bb57fa9 = 'n&#101;ssr&#105;ng&#105;ng' 
 + '&#64;' + '&#105;cl&#111;&#117;d' + '&#46;' + 'c&#111;m';document.getElem
 entById('cloakf673888de7485a25c6fc519b3bb57fa9').innerHTML += '<a ' + path 
 + '\'' + prefix + ':' + addyf673888de7485a25c6fc519b3bb57fa9 + '\'>'+addy_t
 extf673888de7485a25c6fc519b3bb57fa9+'<\/a>';
		</script>) if there is anyth
 ing in particular you would like to ring.</p><div><div><div class="apple-ri
 ch-link" role="link" data-url="https://www.ringingworld.co.uk/purchase/shop
 /the-core-seven-and-beyond.html">Ringers from other divisions are welcome t
 o attend although ideally please email in advance.</div></div></div> <a hre
 f="https://scacr.org/news-events/calendar/1225/northern-surprise-practice?t
 mpl=component">This event was imported from: https://scacr.org/news-events/
 calendar/1225/northern-surprise-practice?tmpl=component</a>CONTACT:This email address is being protected from spambots. You need JavaScript enabled to view it.
				document.getElementById('cloak5503d53db515592fcd14a0f3c58e003d').innerHTML = '';
				var prefix = '&#109;a' + 'i&#108;' + '&#116;o';
				var path = 'hr' + 'ef' + '=';
				var addy5503d53db515592fcd14a0f3c58e003d = 'n&#101;ssr&#105;ng&#105;ng' + '&#64;';
				addy5503d53db515592fcd14a0f3c58e003d = addy5503d53db515592fcd14a0f3c58e003d + '&#105;cl&#111;&#117;d' + '&#46;' + 'c&#111;m';
				var addy_text5503d53db515592fcd14a0f3c58e003d = 'n&#101;ssr&#105;ng&#105;ng' + '&#64;' + '&#105;cl&#111;&#117;d' + '&#46;' + 'c&#111;m';document.getElementById('cloak5503d53db515592fcd14a0f3c58e003d').innerHTML += '<a ' + path + '\'' + prefix + ':' + addy5503d53db515592fcd14a0f3c58e003d + '\'>'+addy_text5503d53db515592fcd14a0f3c58e003d+'';
		
DTSTAMP:20260422T203528
DTSTART;TZID=Europe/London:20240115T193000
DTEND;TZID=Europe/London:20240115T210000
SEQUENCE:0
TRANSP:OPAQUE
END:VEVENT
END:VCALENDAR