BEGIN:VCALENDAR
VERSION:2.0
PRODID:-//jEvents 2.0 for Joomla//EN
CALSCALE:GREGORIAN
METHOD:PUBLISH
BEGIN:VTIMEZONE
TZID:Europe/London
BEGIN:STANDARD
DTSTART:20230323T103000
RDATE:20230326T020000
TZOFFSETFROM:+0100
TZOFFSETTO:+0000
TZNAME:Europe/London GMT
END:STANDARD
BEGIN:STANDARD
DTSTART:20231029T010000
RDATE:20240331T020000
TZOFFSETFROM:+0100
TZOFFSETTO:+0000
TZNAME:Europe/London GMT
END:STANDARD
BEGIN:STANDARD
DTSTART:20241027T010000
RDATE:20250330T020000
TZOFFSETFROM:+0100
TZOFFSETTO:+0000
TZNAME:Europe/London GMT
END:STANDARD
BEGIN:STANDARD
DTSTART:20251026T010000
RDATE:20260329T020000
TZOFFSETFROM:+0100
TZOFFSETTO:+0000
TZNAME:Europe/London GMT
END:STANDARD
BEGIN:STANDARD
DTSTART:20261025T010000
RDATE:20270328T020000
TZOFFSETFROM:+0100
TZOFFSETTO:+0000
TZNAME:Europe/London GMT
END:STANDARD
BEGIN:STANDARD
DTSTART:20271031T010000
RDATE:20280326T020000
TZOFFSETFROM:+0100
TZOFFSETTO:+0000
TZNAME:Europe/London GMT
END:STANDARD
BEGIN:STANDARD
DTSTART:20281029T010000
RDATE:20290325T020000
TZOFFSETFROM:+0100
TZOFFSETTO:+0000
TZNAME:Europe/London GMT
END:STANDARD
BEGIN:STANDARD
DTSTART:20291028T010000
RDATE:20300331T020000
TZOFFSETFROM:+0100
TZOFFSETTO:+0000
TZNAME:Europe/London GMT
END:STANDARD
BEGIN:STANDARD
DTSTART:20301027T010000
RDATE:20310330T020000
TZOFFSETFROM:+0100
TZOFFSETTO:+0000
TZNAME:Europe/London GMT
END:STANDARD
BEGIN:DAYLIGHT
DTSTART:20230326T020000
RDATE:20231029T010000
TZOFFSETFROM:+0000
TZOFFSETTO:+0100
TZNAME:Europe/London BST
END:DAYLIGHT
BEGIN:DAYLIGHT
DTSTART:20240331T020000
RDATE:20241027T010000
TZOFFSETFROM:+0000
TZOFFSETTO:+0100
TZNAME:Europe/London BST
END:DAYLIGHT
BEGIN:DAYLIGHT
DTSTART:20250330T020000
RDATE:20251026T010000
TZOFFSETFROM:+0000
TZOFFSETTO:+0100
TZNAME:Europe/London BST
END:DAYLIGHT
BEGIN:DAYLIGHT
DTSTART:20260329T020000
RDATE:20261025T010000
TZOFFSETFROM:+0000
TZOFFSETTO:+0100
TZNAME:Europe/London BST
END:DAYLIGHT
BEGIN:DAYLIGHT
DTSTART:20270328T020000
RDATE:20271031T010000
TZOFFSETFROM:+0000
TZOFFSETTO:+0100
TZNAME:Europe/London BST
END:DAYLIGHT
BEGIN:DAYLIGHT
DTSTART:20280326T020000
RDATE:20281029T010000
TZOFFSETFROM:+0000
TZOFFSETTO:+0100
TZNAME:Europe/London BST
END:DAYLIGHT
BEGIN:DAYLIGHT
DTSTART:20290325T020000
RDATE:20291028T010000
TZOFFSETFROM:+0000
TZOFFSETTO:+0100
TZNAME:Europe/London BST
END:DAYLIGHT
BEGIN:DAYLIGHT
DTSTART:20300331T020000
RDATE:20301027T010000
TZOFFSETFROM:+0000
TZOFFSETTO:+0100
TZNAME:Europe/London BST
END:DAYLIGHT
END:VTIMEZONE
BEGIN:VEVENT
UID:9feb5a9b37ac14dbc88166d4262b0d83
CATEGORIES:East
CREATED:20240115T212905
SUMMARY:General Practice (6 Bells)
LOCATION:Ashburnham
URL;VALUE=URI:https://scacr.org/news-events/calendar/1229/general-practice-6-bells?tmpl=c
 omponent
DESCRIPTION:<p><strong>Eastern District Monthly Practice</strong></p><p><strong>Join us
  in the beautiful grounds of Ashburnham Place, where the church of St Peter
  is located, for our March general practice.</strong></p><p>This (currently
 ) rarely heard ring of six bells, with a tenor weighing in at just under 10
 cwt is adjacent to Ashburnham Place, with its gardens, book shop and the Or
 angery Tea Room, in the 18th century Orangery, designed by Capability Brown
 .</p><p>Ringing from 10:30 with lunch for those interested in the Orangery 
 afterwards.</p><p>Access is via the main road entrance and parking is avail
 able next to the church, which is almost at the bottom of the hill.</p><p><
 a href="https://www.ashburnham.org.uk/orangery-tea-room/">Click here for in
 formation about the Orangery Tea Room</a>&nbsp;</p> <a href="https://scacr.
 org/news-events/calendar/1229/general-practice-6-bells?tmpl=component">This
  event was imported from: https://scacr.org/news-events/calendar/1229/gener
 al-practice-6-bells?tmpl=component</a>CONTACT:This email address is being protected from spambots. You need JavaScript enabled to view it.
				document.getElementById('cloak7adf01fddfe332e9ac1a0be5f487ef73').innerHTML = '';
				var prefix = '&#109;a' + 'i&#108;' + '&#116;o';
				var path = 'hr' + 'ef' + '=';
				var addy7adf01fddfe332e9ac1a0be5f487ef73 = 's&#101;c-&#101;&#97;st' + '&#64;';
				addy7adf01fddfe332e9ac1a0be5f487ef73 = addy7adf01fddfe332e9ac1a0be5f487ef73 + 'sc&#97;cr' + '&#46;' + '&#111;rg';
				var addy_text7adf01fddfe332e9ac1a0be5f487ef73 = 's&#101;c-&#101;&#97;st' + '&#64;' + 'sc&#97;cr' + '&#46;' + '&#111;rg';document.getElementById('cloak7adf01fddfe332e9ac1a0be5f487ef73').innerHTML += '<a ' + path + '\'' + prefix + ':' + addy7adf01fddfe332e9ac1a0be5f487ef73 + '\'>'+addy_text7adf01fddfe332e9ac1a0be5f487ef73+'';
		
DTSTAMP:20260424T160545
DTSTART;TZID=Europe/London:20240323T103000
DTEND;TZID=Europe/London:20240323T120000
SEQUENCE:0
TRANSP:OPAQUE
END:VEVENT
END:VCALENDAR