BEGIN:VCALENDAR
VERSION:2.0
PRODID:-//jEvents 2.0 for Joomla//EN
CALSCALE:GREGORIAN
METHOD:PUBLISH
BEGIN:VTIMEZONE
TZID:Europe/London
BEGIN:STANDARD
DTSTART:20231029T010000
RDATE:20240331T020000
TZOFFSETFROM:+0100
TZOFFSETTO:+0000
TZNAME:Europe/London GMT
END:STANDARD
BEGIN:STANDARD
DTSTART:20241027T010000
RDATE:20250330T020000
TZOFFSETFROM:+0100
TZOFFSETTO:+0000
TZNAME:Europe/London GMT
END:STANDARD
BEGIN:STANDARD
DTSTART:20251026T010000
RDATE:20260329T020000
TZOFFSETFROM:+0100
TZOFFSETTO:+0000
TZNAME:Europe/London GMT
END:STANDARD
BEGIN:STANDARD
DTSTART:20261025T010000
RDATE:20270328T020000
TZOFFSETFROM:+0100
TZOFFSETTO:+0000
TZNAME:Europe/London GMT
END:STANDARD
BEGIN:STANDARD
DTSTART:20271031T010000
RDATE:20280326T020000
TZOFFSETFROM:+0100
TZOFFSETTO:+0000
TZNAME:Europe/London GMT
END:STANDARD
BEGIN:STANDARD
DTSTART:20281029T010000
RDATE:20290325T020000
TZOFFSETFROM:+0100
TZOFFSETTO:+0000
TZNAME:Europe/London GMT
END:STANDARD
BEGIN:STANDARD
DTSTART:20291028T010000
RDATE:20300331T020000
TZOFFSETFROM:+0100
TZOFFSETTO:+0000
TZNAME:Europe/London GMT
END:STANDARD
BEGIN:STANDARD
DTSTART:20301027T010000
RDATE:20310330T020000
TZOFFSETFROM:+0100
TZOFFSETTO:+0000
TZNAME:Europe/London GMT
END:STANDARD
BEGIN:DAYLIGHT
DTSTART:20230419T193000
RDATE:20231029T010000
TZOFFSETFROM:+0000
TZOFFSETTO:+0100
TZNAME:Europe/London BST
END:DAYLIGHT
BEGIN:DAYLIGHT
DTSTART:20240331T020000
RDATE:20241027T010000
TZOFFSETFROM:+0000
TZOFFSETTO:+0100
TZNAME:Europe/London BST
END:DAYLIGHT
BEGIN:DAYLIGHT
DTSTART:20250330T020000
RDATE:20251026T010000
TZOFFSETFROM:+0000
TZOFFSETTO:+0100
TZNAME:Europe/London BST
END:DAYLIGHT
BEGIN:DAYLIGHT
DTSTART:20260329T020000
RDATE:20261025T010000
TZOFFSETFROM:+0000
TZOFFSETTO:+0100
TZNAME:Europe/London BST
END:DAYLIGHT
BEGIN:DAYLIGHT
DTSTART:20270328T020000
RDATE:20271031T010000
TZOFFSETFROM:+0000
TZOFFSETTO:+0100
TZNAME:Europe/London BST
END:DAYLIGHT
BEGIN:DAYLIGHT
DTSTART:20280326T020000
RDATE:20281029T010000
TZOFFSETFROM:+0000
TZOFFSETTO:+0100
TZNAME:Europe/London BST
END:DAYLIGHT
BEGIN:DAYLIGHT
DTSTART:20290325T020000
RDATE:20291028T010000
TZOFFSETFROM:+0000
TZOFFSETTO:+0100
TZNAME:Europe/London BST
END:DAYLIGHT
BEGIN:DAYLIGHT
DTSTART:20300331T020000
RDATE:20301027T010000
TZOFFSETFROM:+0000
TZOFFSETTO:+0100
TZNAME:Europe/London BST
END:DAYLIGHT
END:VTIMEZONE
BEGIN:VEVENT
UID:a162c4a3ac7bfa93afe51ea21597e7c1
CATEGORIES:West
CREATED:20240217T180454
SUMMARY:General 8 Bell Practice
LOCATION:St Nicholas Church\, Arundel. 
URL;VALUE=URI:https://scacr.org/news-events/calendar/1247/general-8-bell-practice?tmpl=co
 mponent
DESCRIPTION:This is a general 8 bell practice for all levels!   Please be aware of park
 ing restrictions in the area!  \n This event was imported from: https://sca
 cr.org/news-events/calendar/1247/general-8-bell-practice?tmpl=component (ht
 tps://scacr.org/news-events/calendar/1247/general-8-bell-practice?tmpl=comp
 onent)
X-ALT-DESC;FMTTYPE=text/html:<p>This is a general 8 bell practice for all levels!&nbsp; &nbsp;Please be 
 aware of parking restrictions in the area!&nbsp;&nbsp;</p> <a href="https:/
 /scacr.org/news-events/calendar/1247/general-8-bell-practice?tmpl=component
 ">This event was imported from: https://scacr.org/news-events/calendar/1247
 /general-8-bell-practice?tmpl=component</a>CONTACT:This email address is being protected from spambots. You need JavaScript enabled to view it.
				document.getElementById('cloak732f6572af15aa0b9af0a155ad408f51').innerHTML = '';
				var prefix = '&#109;a' + 'i&#108;' + '&#116;o';
				var path = 'hr' + 'ef' + '=';
				var addy732f6572af15aa0b9af0a155ad408f51 = 's&#101;c-w&#101;st' + '&#64;';
				addy732f6572af15aa0b9af0a155ad408f51 = addy732f6572af15aa0b9af0a155ad408f51 + 'sc&#97;cr' + '&#46;' + '&#111;rg';
				var addy_text732f6572af15aa0b9af0a155ad408f51 = 's&#101;c-w&#101;st' + '&#64;' + 'sc&#97;cr' + '&#46;' + '&#111;rg';document.getElementById('cloak732f6572af15aa0b9af0a155ad408f51').innerHTML += '<a ' + path + '\'' + prefix + ':' + addy732f6572af15aa0b9af0a155ad408f51 + '\'>'+addy_text732f6572af15aa0b9af0a155ad408f51+'';
		
DTSTAMP:20260420T052742
DTSTART;TZID=Europe/London:20240419T193000
DTEND;TZID=Europe/London:20240419T210000
SEQUENCE:0
TRANSP:OPAQUE
END:VEVENT
END:VCALENDAR