BEGIN:VCALENDAR
VERSION:2.0
PRODID:-//jEvents 2.0 for Joomla//EN
CALSCALE:GREGORIAN
METHOD:PUBLISH
BEGIN:VTIMEZONE
TZID:Europe/London
BEGIN:STANDARD
DTSTART:20230323T101500
RDATE:20230326T020000
TZOFFSETFROM:+0100
TZOFFSETTO:+0000
TZNAME:Europe/London GMT
END:STANDARD
BEGIN:STANDARD
DTSTART:20231029T010000
RDATE:20240331T020000
TZOFFSETFROM:+0100
TZOFFSETTO:+0000
TZNAME:Europe/London GMT
END:STANDARD
BEGIN:STANDARD
DTSTART:20241027T010000
RDATE:20250330T020000
TZOFFSETFROM:+0100
TZOFFSETTO:+0000
TZNAME:Europe/London GMT
END:STANDARD
BEGIN:STANDARD
DTSTART:20251026T010000
RDATE:20260329T020000
TZOFFSETFROM:+0100
TZOFFSETTO:+0000
TZNAME:Europe/London GMT
END:STANDARD
BEGIN:STANDARD
DTSTART:20261025T010000
RDATE:20270328T020000
TZOFFSETFROM:+0100
TZOFFSETTO:+0000
TZNAME:Europe/London GMT
END:STANDARD
BEGIN:STANDARD
DTSTART:20271031T010000
RDATE:20280326T020000
TZOFFSETFROM:+0100
TZOFFSETTO:+0000
TZNAME:Europe/London GMT
END:STANDARD
BEGIN:STANDARD
DTSTART:20281029T010000
RDATE:20290325T020000
TZOFFSETFROM:+0100
TZOFFSETTO:+0000
TZNAME:Europe/London GMT
END:STANDARD
BEGIN:STANDARD
DTSTART:20291028T010000
RDATE:20300331T020000
TZOFFSETFROM:+0100
TZOFFSETTO:+0000
TZNAME:Europe/London GMT
END:STANDARD
BEGIN:STANDARD
DTSTART:20301027T010000
RDATE:20310330T020000
TZOFFSETFROM:+0100
TZOFFSETTO:+0000
TZNAME:Europe/London GMT
END:STANDARD
BEGIN:DAYLIGHT
DTSTART:20230326T020000
RDATE:20231029T010000
TZOFFSETFROM:+0000
TZOFFSETTO:+0100
TZNAME:Europe/London BST
END:DAYLIGHT
BEGIN:DAYLIGHT
DTSTART:20240331T020000
RDATE:20241027T010000
TZOFFSETFROM:+0000
TZOFFSETTO:+0100
TZNAME:Europe/London BST
END:DAYLIGHT
BEGIN:DAYLIGHT
DTSTART:20250330T020000
RDATE:20251026T010000
TZOFFSETFROM:+0000
TZOFFSETTO:+0100
TZNAME:Europe/London BST
END:DAYLIGHT
BEGIN:DAYLIGHT
DTSTART:20260329T020000
RDATE:20261025T010000
TZOFFSETFROM:+0000
TZOFFSETTO:+0100
TZNAME:Europe/London BST
END:DAYLIGHT
BEGIN:DAYLIGHT
DTSTART:20270328T020000
RDATE:20271031T010000
TZOFFSETFROM:+0000
TZOFFSETTO:+0100
TZNAME:Europe/London BST
END:DAYLIGHT
BEGIN:DAYLIGHT
DTSTART:20280326T020000
RDATE:20281029T010000
TZOFFSETFROM:+0000
TZOFFSETTO:+0100
TZNAME:Europe/London BST
END:DAYLIGHT
BEGIN:DAYLIGHT
DTSTART:20290325T020000
RDATE:20291028T010000
TZOFFSETFROM:+0000
TZOFFSETTO:+0100
TZNAME:Europe/London BST
END:DAYLIGHT
BEGIN:DAYLIGHT
DTSTART:20300331T020000
RDATE:20301027T010000
TZOFFSETFROM:+0000
TZOFFSETTO:+0100
TZNAME:Europe/London BST
END:DAYLIGHT
END:VTIMEZONE
BEGIN:VEVENT
UID:a5d550f9daa1ad2ef654d62789797f63
CATEGORIES:West
CREATED:20240217T180654
SUMMARY:Surprise Minor Practice
LOCATION:St Mary's Church\, Walberton
URL;VALUE=URI:https://scacr.org/news-events/calendar/1248/surprise-minor-practice?tmpl=co
 mponent
DESCRIPTION:This is a regular monthly event giving ringers the opportunity to ring  met
 hods such as Plain courses and touches of Cambridge and Norwich and Plain c
 ourses of Beverley, London, Carlisle and Pure Treble Bob Hunt!!   Refreshme
 nts are provided.  Please contact This email address is being protected fro
 m spambots. You need JavaScript enabled to view it.
				document.getElement
 ById('cloake899f5dea9242daaef6fe9ab23b70b82').innerHTML = '';
				var prefi
 x = '&#109;a' + 'i&#108;' + '&#116;o';
				var path = 'hr' + 'ef' + '=';
		
 		var addye899f5dea9242daaef6fe9ab23b70b82 = 's&#101;c-w&#101;st' + '&#64;'
 ;
				addye899f5dea9242daaef6fe9ab23b70b82 = addye899f5dea9242daaef6fe9ab23
 b70b82 + 'sc&#97;cr' + '&#46;' + '&#111;rg';
				var addy_texte899f5dea9242
 daaef6fe9ab23b70b82 = 's&#101;c-w&#101;st' + '&#64;' + 'sc&#97;cr' + '&#46;
 ' + '&#111;rg';document.getElementById('cloake899f5dea9242daaef6fe9ab23b70b
 82').innerHTML += '<a ' + path + '\'' + prefix + ':' + addye899f5dea9242daa
 ef6fe9ab23b70b82 + '\'>'+addy_texte899f5dea9242daaef6fe9ab23b70b82+'';
		 i
 f you would like refreshments.\nThe 'method of the month'  for March  is CH
 ESTER SURPRISE MINOR!!!    (https://rsw.me.uk/blueline/methods/view/Chester
 _Surprise_Minor) (https://rsw.me.uk/blueline/)https://rsw.me.uk/blueline/ (
 https://rsw.me.uk/blueline/)methods/view/Chester_Surprise_Minor\n This even
 t was imported from: https://scacr.org/news-events/calendar/1248/surprise-m
 inor-practice?tmpl=component (https://scacr.org/news-events/calendar/1248/s
 urprise-minor-practice?tmpl=component)
X-ALT-DESC;FMTTYPE=text/html:<p>This is a regular monthly event giving ringers the opportunity to ring&n
 bsp; methods such as Plain courses and touches of Cambridge and Norwich and
  Plain courses of Beverley, London, Carlisle and Pure Treble Bob Hunt!!&nbs
 p; &nbsp;Refreshments are provided.&nbsp; Please contact <span id="cloake89
 9f5dea9242daaef6fe9ab23b70b82">This email address is being protected from s
 pambots. You need JavaScript enabled to view it.</span><script type='text/j
 avascript'>
				document.getElementById('cloake899f5dea9242daaef6fe9ab23b70
 b82').innerHTML = '';
				var prefix = '&#109;a' + 'i&#108;' + '&#116;o';
	
 			var path = 'hr' + 'ef' + '=';
				var addye899f5dea9242daaef6fe9ab23b70b
 82 = 's&#101;c-w&#101;st' + '&#64;';
				addye899f5dea9242daaef6fe9ab23b70b
 82 = addye899f5dea9242daaef6fe9ab23b70b82 + 'sc&#97;cr' + '&#46;' + '&#111;
 rg';
				var addy_texte899f5dea9242daaef6fe9ab23b70b82 = 's&#101;c-w&#101;s
 t' + '&#64;' + 'sc&#97;cr' + '&#46;' + '&#111;rg';document.getElementById('
 cloake899f5dea9242daaef6fe9ab23b70b82').innerHTML += '<a ' + path + '\'' + 
 prefix + ':' + addye899f5dea9242daaef6fe9ab23b70b82 + '\'>'+addy_texte899f5
 dea9242daaef6fe9ab23b70b82+'<\/a>';
		</script>&nbsp;if you would like refr
 eshments.</p><p>The 'method of the month'&nbsp; for March&nbsp; is CHESTER 
 SURPRISE MINOR!!!&nbsp; &nbsp;<a href="https://rsw.me.uk/blueline/methods/v
 iew/Chester_Surprise_Minor" target="_blank" rel="noopener" data-saferedirec
 turl="https://www.google.com/url?q=https://rsw.me.uk/blueline/methods/view/
 Chester_Surprise_Minor&amp;source=gmail&amp;ust=1710767767401000&amp;usg=AO
 vVaw087SNWXdRDcKhoMnIj9e5o"></a><a href="https://rsw.me.uk/blueline/"></a><
 a href="https://rsw.me.uk/blueline/">https://rsw.me.uk/blueline/</a>methods
 /view/Chester_Surprise_Minor</p> <a href="https://scacr.org/news-events/cal
 endar/1248/surprise-minor-practice?tmpl=component">This event was imported 
 from: https://scacr.org/news-events/calendar/1248/surprise-minor-practice?t
 mpl=component</a>CONTACT:This email address is being protected from spambots. You need JavaScript enabled to view it.
				document.getElementById('cloakf70b80195636f212881e6a9c41d6fe55').innerHTML = '';
				var prefix = '&#109;a' + 'i&#108;' + '&#116;o';
				var path = 'hr' + 'ef' + '=';
				var addyf70b80195636f212881e6a9c41d6fe55 = 's&#101;c-w&#101;st' + '&#64;';
				addyf70b80195636f212881e6a9c41d6fe55 = addyf70b80195636f212881e6a9c41d6fe55 + 'sc&#97;cr' + '&#46;' + '&#111;rg';
				var addy_textf70b80195636f212881e6a9c41d6fe55 = 's&#101;c-w&#101;st' + '&#64;' + 'sc&#97;cr' + '&#46;' + '&#111;rg';document.getElementById('cloakf70b80195636f212881e6a9c41d6fe55').innerHTML += '<a ' + path + '\'' + prefix + ':' + addyf70b80195636f212881e6a9c41d6fe55 + '\'>'+addy_textf70b80195636f212881e6a9c41d6fe55+'';
		
DTSTAMP:20260424T173406
DTSTART;TZID=Europe/London:20240323T101500
DTEND;TZID=Europe/London:20240323T120000
SEQUENCE:0
TRANSP:OPAQUE
END:VEVENT
END:VCALENDAR