BEGIN:VCALENDAR
VERSION:2.0
PRODID:-//jEvents 2.0 for Joomla//EN
CALSCALE:GREGORIAN
METHOD:PUBLISH
BEGIN:VTIMEZONE
TZID:Europe/London
BEGIN:STANDARD
DTSTART:20231029T010000
RDATE:20240331T020000
TZOFFSETFROM:+0100
TZOFFSETTO:+0000
TZNAME:Europe/London GMT
END:STANDARD
BEGIN:STANDARD
DTSTART:20241027T010000
RDATE:20250330T020000
TZOFFSETFROM:+0100
TZOFFSETTO:+0000
TZNAME:Europe/London GMT
END:STANDARD
BEGIN:STANDARD
DTSTART:20251026T010000
RDATE:20260329T020000
TZOFFSETFROM:+0100
TZOFFSETTO:+0000
TZNAME:Europe/London GMT
END:STANDARD
BEGIN:STANDARD
DTSTART:20261025T010000
RDATE:20270328T020000
TZOFFSETFROM:+0100
TZOFFSETTO:+0000
TZNAME:Europe/London GMT
END:STANDARD
BEGIN:STANDARD
DTSTART:20271031T010000
RDATE:20280326T020000
TZOFFSETFROM:+0100
TZOFFSETTO:+0000
TZNAME:Europe/London GMT
END:STANDARD
BEGIN:STANDARD
DTSTART:20281029T010000
RDATE:20290325T020000
TZOFFSETFROM:+0100
TZOFFSETTO:+0000
TZNAME:Europe/London GMT
END:STANDARD
BEGIN:STANDARD
DTSTART:20291028T010000
RDATE:20300331T020000
TZOFFSETFROM:+0100
TZOFFSETTO:+0000
TZNAME:Europe/London GMT
END:STANDARD
BEGIN:STANDARD
DTSTART:20301027T010000
RDATE:20310330T020000
TZOFFSETFROM:+0100
TZOFFSETTO:+0000
TZNAME:Europe/London GMT
END:STANDARD
BEGIN:DAYLIGHT
DTSTART:20230413T103000
RDATE:20231029T010000
TZOFFSETFROM:+0000
TZOFFSETTO:+0100
TZNAME:Europe/London BST
END:DAYLIGHT
BEGIN:DAYLIGHT
DTSTART:20240331T020000
RDATE:20241027T010000
TZOFFSETFROM:+0000
TZOFFSETTO:+0100
TZNAME:Europe/London BST
END:DAYLIGHT
BEGIN:DAYLIGHT
DTSTART:20250330T020000
RDATE:20251026T010000
TZOFFSETFROM:+0000
TZOFFSETTO:+0100
TZNAME:Europe/London BST
END:DAYLIGHT
BEGIN:DAYLIGHT
DTSTART:20260329T020000
RDATE:20261025T010000
TZOFFSETFROM:+0000
TZOFFSETTO:+0100
TZNAME:Europe/London BST
END:DAYLIGHT
BEGIN:DAYLIGHT
DTSTART:20270328T020000
RDATE:20271031T010000
TZOFFSETFROM:+0000
TZOFFSETTO:+0100
TZNAME:Europe/London BST
END:DAYLIGHT
BEGIN:DAYLIGHT
DTSTART:20280326T020000
RDATE:20281029T010000
TZOFFSETFROM:+0000
TZOFFSETTO:+0100
TZNAME:Europe/London BST
END:DAYLIGHT
BEGIN:DAYLIGHT
DTSTART:20290325T020000
RDATE:20291028T010000
TZOFFSETFROM:+0000
TZOFFSETTO:+0100
TZNAME:Europe/London BST
END:DAYLIGHT
BEGIN:DAYLIGHT
DTSTART:20300331T020000
RDATE:20301027T010000
TZOFFSETFROM:+0000
TZOFFSETTO:+0100
TZNAME:Europe/London BST
END:DAYLIGHT
END:VTIMEZONE
BEGIN:VEVENT
UID:6db07779e425bf7eebaff8fe87d1b101
CATEGORIES:West
CREATED:20240217T181620
SUMMARY:Call Change Experience!!
LOCATION:St John' the Baptist\,  Findon!
URL;VALUE=URI:https://scacr.org/news-events/calendar/1250/call-change-experience?tmpl=com
 ponent
DESCRIPTION:<p>This is an opportunity for anyone, especially those who are newer to rin
 ging, to ring some call changes with a supportive band and with ringers who
  they have not rung with before!!&nbsp; Bands will be put together on the d
 ay and may even become a little competitive!&nbsp; This is purely for fun a
 nd expereince!!&nbsp; Tea and Cake will be provided.</p><p>This is a ground
  floor ring of 6 lovely bells.&nbsp; Access to the church is off the A24 up
  a fairly long gated drive (gate will be open!!)&nbsp; If coming from the N
 orth - the church is on the right hand side via a slip road and then across
  the carriageway to the gated drive.</p><p>The plan is also to have a raffl
 e in aid of BRF and any donations of prizes would be very welcome.</p> <a h
 ref="https://scacr.org/news-events/calendar/1250/call-change-experience?tmp
 l=component">This event was imported from: https://scacr.org/news-events/ca
 lendar/1250/call-change-experience?tmpl=component</a>CONTACT:This email address is being protected from spambots. You need JavaScript enabled to view it.
				document.getElementById('cloak97cd7f28cbcc5cf850808cc680ad8795').innerHTML = '';
				var prefix = '&#109;a' + 'i&#108;' + '&#116;o';
				var path = 'hr' + 'ef' + '=';
				var addy97cd7f28cbcc5cf850808cc680ad8795 = 's&#101;c-w&#101;st' + '&#64;';
				addy97cd7f28cbcc5cf850808cc680ad8795 = addy97cd7f28cbcc5cf850808cc680ad8795 + 'sc&#97;cr' + '&#46;' + '&#111;rg';
				var addy_text97cd7f28cbcc5cf850808cc680ad8795 = 's&#101;c-w&#101;st' + '&#64;' + 'sc&#97;cr' + '&#46;' + '&#111;rg';document.getElementById('cloak97cd7f28cbcc5cf850808cc680ad8795').innerHTML += '<a ' + path + '\'' + prefix + ':' + addy97cd7f28cbcc5cf850808cc680ad8795 + '\'>'+addy_text97cd7f28cbcc5cf850808cc680ad8795+'';
		
X-EXTRAINFO:Names for tea to This email address is being protected from spambots. You n
 eed JavaScript enabled to view it.
				document.getElementById('cloak941c1d
 0492e12844bc438d77c9917089').innerHTML = '';
				var prefix = '&#109;a' + '
 i&#108;' + '&#116;o';
				var path = 'hr' + 'ef' + '=';
				var addy941c1d0
 492e12844bc438d77c9917089 = 's&#101;c-w&#101;st' + '&#64;';
				addy941c1d0
 492e12844bc438d77c9917089 = addy941c1d0492e12844bc438d77c9917089 + 'sc&#97;
 cr' + '&#46;' + '&#111;rg';
				var addy_text941c1d0492e12844bc438d77c99170
 89 = 's&#101;c-w&#101;st' + '&#64;' + 'sc&#97;cr' + '&#46;' + '&#111;rg';do
 cument.getElementById('cloak941c1d0492e12844bc438d77c9917089').innerHTML +=
  '<a ' + path + '\'' + prefix + ':' + addy941c1d0492e12844bc438d77c9917089 
 + '\'>'+addy_text941c1d0492e12844bc438d77c9917089+'';
		 or call Janice on 
 07890804339 by the end of day on Thursday 11th April.
DTSTAMP:20260420T052720
DTSTART;TZID=Europe/London:20240413T103000
DTEND;TZID=Europe/London:20240413T120000
SEQUENCE:0
TRANSP:OPAQUE
END:VEVENT
END:VCALENDAR