BEGIN:VCALENDAR
VERSION:2.0
PRODID:-//jEvents 2.0 for Joomla//EN
CALSCALE:GREGORIAN
METHOD:PUBLISH
BEGIN:VTIMEZONE
TZID:Europe/London
BEGIN:STANDARD
DTSTART:20231029T010000
RDATE:20240331T020000
TZOFFSETFROM:+0100
TZOFFSETTO:+0000
TZNAME:Europe/London GMT
END:STANDARD
BEGIN:STANDARD
DTSTART:20241027T010000
RDATE:20250330T020000
TZOFFSETFROM:+0100
TZOFFSETTO:+0000
TZNAME:Europe/London GMT
END:STANDARD
BEGIN:STANDARD
DTSTART:20251026T010000
RDATE:20260329T020000
TZOFFSETFROM:+0100
TZOFFSETTO:+0000
TZNAME:Europe/London GMT
END:STANDARD
BEGIN:STANDARD
DTSTART:20261025T010000
RDATE:20270328T020000
TZOFFSETFROM:+0100
TZOFFSETTO:+0000
TZNAME:Europe/London GMT
END:STANDARD
BEGIN:STANDARD
DTSTART:20271031T010000
RDATE:20280326T020000
TZOFFSETFROM:+0100
TZOFFSETTO:+0000
TZNAME:Europe/London GMT
END:STANDARD
BEGIN:STANDARD
DTSTART:20281029T010000
RDATE:20290325T020000
TZOFFSETFROM:+0100
TZOFFSETTO:+0000
TZNAME:Europe/London GMT
END:STANDARD
BEGIN:STANDARD
DTSTART:20291028T010000
RDATE:20300331T020000
TZOFFSETFROM:+0100
TZOFFSETTO:+0000
TZNAME:Europe/London GMT
END:STANDARD
BEGIN:STANDARD
DTSTART:20301027T010000
RDATE:20310330T020000
TZOFFSETFROM:+0100
TZOFFSETTO:+0000
TZNAME:Europe/London GMT
END:STANDARD
BEGIN:DAYLIGHT
DTSTART:20230406T130000
RDATE:20231029T010000
TZOFFSETFROM:+0000
TZOFFSETTO:+0100
TZNAME:Europe/London BST
END:DAYLIGHT
BEGIN:DAYLIGHT
DTSTART:20240331T020000
RDATE:20241027T010000
TZOFFSETFROM:+0000
TZOFFSETTO:+0100
TZNAME:Europe/London BST
END:DAYLIGHT
BEGIN:DAYLIGHT
DTSTART:20250330T020000
RDATE:20251026T010000
TZOFFSETFROM:+0000
TZOFFSETTO:+0100
TZNAME:Europe/London BST
END:DAYLIGHT
BEGIN:DAYLIGHT
DTSTART:20260329T020000
RDATE:20261025T010000
TZOFFSETFROM:+0000
TZOFFSETTO:+0100
TZNAME:Europe/London BST
END:DAYLIGHT
BEGIN:DAYLIGHT
DTSTART:20270328T020000
RDATE:20271031T010000
TZOFFSETFROM:+0000
TZOFFSETTO:+0100
TZNAME:Europe/London BST
END:DAYLIGHT
BEGIN:DAYLIGHT
DTSTART:20280326T020000
RDATE:20281029T010000
TZOFFSETFROM:+0000
TZOFFSETTO:+0100
TZNAME:Europe/London BST
END:DAYLIGHT
BEGIN:DAYLIGHT
DTSTART:20290325T020000
RDATE:20291028T010000
TZOFFSETFROM:+0000
TZOFFSETTO:+0100
TZNAME:Europe/London BST
END:DAYLIGHT
BEGIN:DAYLIGHT
DTSTART:20300331T020000
RDATE:20301027T010000
TZOFFSETFROM:+0000
TZOFFSETTO:+0100
TZNAME:Europe/London BST
END:DAYLIGHT
END:VTIMEZONE
BEGIN:VEVENT
UID:ce05f1abcd7dc2e5778c30f3c73230e5
CATEGORIES:North
CREATED:20240302T122559
SUMMARY:Ringer's Toolbox: Developing Core Skills for Plain Hunt and Beyond!
LOCATION:Cowfold\, St. Peter
URL;VALUE=URI:https://scacr.org/news-events/calendar/1251/ringer-s-toolbox-developing-cor
 e-skills-for-plain-hunt-and-beyond?tmpl=component
DESCRIPTION:Northern District Ringer's Toolbox - develop your core handling and ropesig
 ht with tools like kaleidoscope (ringing in places, and dodging with a part
 ner), to give you all the skills you need to ring plain hunt and beyond! \n
 This session is aimed at ringers moving onto plain hunt and ringing methods
  inside. You must be able to ring confidently unaided in rounds and call ch
 anges, and be able to change the position of your bell in the pattern (i.e.
  call changes) to register for this session - this allows everybody to gain
  full benefit from the practice. This session is open to all districts, but
  as we are capacity limited, in the case of very high numbers we may have t
 o prioritise those from the Northern District. We kindly request all learne
 rns must register with this short form (https://forms.gle/xPx21RNhicqF8ac7A
 ) beforehand.\nIf you have any questions about this or any other of our eve
 nts, please get in touch with This email address is being protected from sp
 ambots. You need JavaScript enabled to view it.
				document.getElementById
 ('cloakaac6cb9ca792b53316650cffaafd6b5c').innerHTML = '';
				var prefix = 
 '&#109;a' + 'i&#108;' + '&#116;o';
				var path = 'hr' + 'ef' + '=';
				va
 r addyaac6cb9ca792b53316650cffaafd6b5c = 's&#101;c-n&#111;rth' + '&#64;';
	
 			addyaac6cb9ca792b53316650cffaafd6b5c = addyaac6cb9ca792b53316650cffaafd6
 b5c + 'sc&#97;cr' + '&#46;' + '&#111;rg';
				var addy_textaac6cb9ca792b533
 16650cffaafd6b5c = 's&#101;c-n&#111;rth' + '&#64;' + 'sc&#97;cr' + '&#46;' 
 + '&#111;rg';document.getElementById('cloakaac6cb9ca792b53316650cffaafd6b5c
 ').innerHTML += '<a ' + path + '\'' + prefix + ':' + addyaac6cb9ca792b53316
 650cffaafd6b5c + '\'>'+addy_textaac6cb9ca792b53316650cffaafd6b5c+'';
		. We
  look forward to seeing you there!\n This event was imported from: https://
 scacr.org/news-events/calendar/1251/ringer-s-toolbox-developing-core-skills
 -for-plain-hunt-and-beyond?tmpl=component (https://scacr.org/news-events/ca
 lendar/1251/ringer-s-toolbox-developing-core-skills-for-plain-hunt-and-beyo
 nd?tmpl=component)
X-ALT-DESC;FMTTYPE=text/html:<p>Northern District Ringer's Toolbox - develop your core handling and rope
 sight with tools like kaleidoscope (ringing in places, and dodging with a p
 artner), to give you all the skills you need to ring plain hunt and beyond!
 &nbsp;</p><p>This session is aimed at ringers moving onto plain hunt and ri
 nging methods inside. You must be able to ring confidently unaided in round
 s and call changes, and be able to change the position of your bell in the 
 pattern (i.e. call changes) to register for this session - this allows ever
 ybody to gain full benefit from the practice. This session is open to all d
 istricts, but as we are capacity limited, in the case of very high numbers 
 we may have to prioritise those from the Northern District. We kindly reque
 st all learnerns must register with <a href="https://forms.gle/xPx21RNhicqF
 8ac7A">this short form</a> beforehand.</p><p>If you have any questions abou
 t this or any other of our events, please get in touch with <span id="cloak
 aac6cb9ca792b53316650cffaafd6b5c">This email address is being protected fro
 m spambots. You need JavaScript enabled to view it.</span><script type='tex
 t/javascript'>
				document.getElementById('cloakaac6cb9ca792b53316650cffaa
 fd6b5c').innerHTML = '';
				var prefix = '&#109;a' + 'i&#108;' + '&#116;o'
 ;
				var path = 'hr' + 'ef' + '=';
				var addyaac6cb9ca792b53316650cffaaf
 d6b5c = 's&#101;c-n&#111;rth' + '&#64;';
				addyaac6cb9ca792b53316650cffaa
 fd6b5c = addyaac6cb9ca792b53316650cffaafd6b5c + 'sc&#97;cr' + '&#46;' + '&#
 111;rg';
				var addy_textaac6cb9ca792b53316650cffaafd6b5c = 's&#101;c-n&#1
 11;rth' + '&#64;' + 'sc&#97;cr' + '&#46;' + '&#111;rg';document.getElementB
 yId('cloakaac6cb9ca792b53316650cffaafd6b5c').innerHTML += '<a ' + path + '\
 '' + prefix + ':' + addyaac6cb9ca792b53316650cffaafd6b5c + '\'>'+addy_texta
 ac6cb9ca792b53316650cffaafd6b5c+'<\/a>';
		</script>. We look forward to se
 eing you there!</p> <a href="https://scacr.org/news-events/calendar/1251/ri
 nger-s-toolbox-developing-core-skills-for-plain-hunt-and-beyond?tmpl=compon
 ent">This event was imported from: https://scacr.org/news-events/calendar/1
 251/ringer-s-toolbox-developing-core-skills-for-plain-hunt-and-beyond?tmpl=
 component</a>CONTACT:This email address is being protected from spambots. You need JavaScript enabled to view it.
				document.getElementById('cloakd7184beeeb5efbdf378c697a1d43b2b2').innerHTML = '';
				var prefix = '&#109;a' + 'i&#108;' + '&#116;o';
				var path = 'hr' + 'ef' + '=';
				var addyd7184beeeb5efbdf378c697a1d43b2b2 = 's&#101;c-n&#111;rth' + '&#64;';
				addyd7184beeeb5efbdf378c697a1d43b2b2 = addyd7184beeeb5efbdf378c697a1d43b2b2 + 'sc&#97;cr' + '&#46;' + '&#111;rg';
				var addy_textd7184beeeb5efbdf378c697a1d43b2b2 = 's&#101;c-n&#111;rth' + '&#64;' + 'sc&#97;cr' + '&#46;' + '&#111;rg';document.getElementById('cloakd7184beeeb5efbdf378c697a1d43b2b2').innerHTML += '<a ' + path + '\'' + prefix + ':' + addyd7184beeeb5efbdf378c697a1d43b2b2 + '\'>'+addy_textd7184beeeb5efbdf378c697a1d43b2b2+'';
		
DTSTAMP:20260420T052741
DTSTART;TZID=Europe/London:20240406T130000
DTEND;TZID=Europe/London:20240406T153000
SEQUENCE:0
TRANSP:OPAQUE
END:VEVENT
END:VCALENDAR