BEGIN:VCALENDAR
VERSION:2.0
PRODID:-//jEvents 2.0 for Joomla//EN
CALSCALE:GREGORIAN
METHOD:PUBLISH
BEGIN:VTIMEZONE
TZID:Europe/London
BEGIN:STANDARD
DTSTART:20231029T010000
RDATE:20240331T020000
TZOFFSETFROM:+0100
TZOFFSETTO:+0000
TZNAME:Europe/London GMT
END:STANDARD
BEGIN:STANDARD
DTSTART:20241027T010000
RDATE:20250330T020000
TZOFFSETFROM:+0100
TZOFFSETTO:+0000
TZNAME:Europe/London GMT
END:STANDARD
BEGIN:STANDARD
DTSTART:20251026T010000
RDATE:20260329T020000
TZOFFSETFROM:+0100
TZOFFSETTO:+0000
TZNAME:Europe/London GMT
END:STANDARD
BEGIN:STANDARD
DTSTART:20261025T010000
RDATE:20270328T020000
TZOFFSETFROM:+0100
TZOFFSETTO:+0000
TZNAME:Europe/London GMT
END:STANDARD
BEGIN:STANDARD
DTSTART:20271031T010000
RDATE:20280326T020000
TZOFFSETFROM:+0100
TZOFFSETTO:+0000
TZNAME:Europe/London GMT
END:STANDARD
BEGIN:STANDARD
DTSTART:20281029T010000
RDATE:20290325T020000
TZOFFSETFROM:+0100
TZOFFSETTO:+0000
TZNAME:Europe/London GMT
END:STANDARD
BEGIN:STANDARD
DTSTART:20291028T010000
RDATE:20300331T020000
TZOFFSETFROM:+0100
TZOFFSETTO:+0000
TZNAME:Europe/London GMT
END:STANDARD
BEGIN:STANDARD
DTSTART:20301027T010000
RDATE:20310330T020000
TZOFFSETFROM:+0100
TZOFFSETTO:+0000
TZNAME:Europe/London GMT
END:STANDARD
BEGIN:DAYLIGHT
DTSTART:20230408T193000
RDATE:20231029T010000
TZOFFSETFROM:+0000
TZOFFSETTO:+0100
TZNAME:Europe/London BST
END:DAYLIGHT
BEGIN:DAYLIGHT
DTSTART:20240331T020000
RDATE:20241027T010000
TZOFFSETFROM:+0000
TZOFFSETTO:+0100
TZNAME:Europe/London BST
END:DAYLIGHT
BEGIN:DAYLIGHT
DTSTART:20250330T020000
RDATE:20251026T010000
TZOFFSETFROM:+0000
TZOFFSETTO:+0100
TZNAME:Europe/London BST
END:DAYLIGHT
BEGIN:DAYLIGHT
DTSTART:20260329T020000
RDATE:20261025T010000
TZOFFSETFROM:+0000
TZOFFSETTO:+0100
TZNAME:Europe/London BST
END:DAYLIGHT
BEGIN:DAYLIGHT
DTSTART:20270328T020000
RDATE:20271031T010000
TZOFFSETFROM:+0000
TZOFFSETTO:+0100
TZNAME:Europe/London BST
END:DAYLIGHT
BEGIN:DAYLIGHT
DTSTART:20280326T020000
RDATE:20281029T010000
TZOFFSETFROM:+0000
TZOFFSETTO:+0100
TZNAME:Europe/London BST
END:DAYLIGHT
BEGIN:DAYLIGHT
DTSTART:20290325T020000
RDATE:20291028T010000
TZOFFSETFROM:+0000
TZOFFSETTO:+0100
TZNAME:Europe/London BST
END:DAYLIGHT
BEGIN:DAYLIGHT
DTSTART:20300331T020000
RDATE:20301027T010000
TZOFFSETFROM:+0000
TZOFFSETTO:+0100
TZNAME:Europe/London BST
END:DAYLIGHT
END:VTIMEZONE
BEGIN:VEVENT
UID:c9de1bc3e95d153c28e372fd5d9e1216
CATEGORIES:West
CREATED:20240406T140043
SUMMARY:Surprise Minor Simulator Practice
LOCATION:St Mary's Church\, Stoughton
URL;VALUE=URI:https://scacr.org/news-events/calendar/1261/surprise-minor-simulator-practi
 ce?tmpl=component
DESCRIPTION:This is a regular practice which is now open to all Western District member
 s and will be held every second Monday of the month!\nCurrent methods rung 
 are: Cambridge, London, Norwich, Carlisle and Beverley!  The idea is to con
 solidate them and start splicing them!!  Other methods maybe added as and w
 hen.\nDon't br put off if you are unable to ring all these methods or can't
  ring spliced - there are a range of abilities and it is a practice so an o
 pportunity to have a go!!\nPlease let Joanna Woodcock know if you intend to
  go along on This email address is being protected from spambots. You need 
 JavaScript enabled to view it.
				document.getElementById('cloaka7f69331e7
 044ddb25c942236be7a60b').innerHTML = '';
				var prefix = '&#109;a' + 'i&#1
 08;' + '&#116;o';
				var path = 'hr' + 'ef' + '=';
				var addya7f69331e70
 44ddb25c942236be7a60b = 'd&#101;&#97;nl&#97;n&#101;&#101;nd' + '&#64;';
			
 	addya7f69331e7044ddb25c942236be7a60b = addya7f69331e7044ddb25c942236be7a60
 b + 'gm&#97;&#105;l' + '&#46;' + 'c&#111;m';
				var addy_texta7f69331e7044
 ddb25c942236be7a60b = 'd&#101;&#97;nl&#97;n&#101;&#101;nd' + '&#64;' + 'gm&
 #97;&#105;l' + '&#46;' + 'c&#111;m';document.getElementById('cloaka7f69331e
 7044ddb25c942236be7a60b').innerHTML += '<a ' + path + '\'' + prefix + ':' +
  addya7f69331e7044ddb25c942236be7a60b + '\'>'+addy_texta7f69331e7044ddb25c9
 42236be7a60b+'';
		\nThere is ample on-street parking in the village and li
 mited, blue badge parking up at the track at the church.  The farmyard car 
 park to the left of the track is private and so please do not use!\nThere a
 re no toilets in the church - nearest facilities are in the Hare and Hounds
  pub approx 300 m away.\nIf there is plenty of rain - it may be handy to we
 ar wellies or at least have some in the car!!!\nContact the Tower Captain i
 f you have any other questions!  Tim Wright - This email address is being p
 rotected from spambots. You need JavaScript enabled to view it.
				documen
 t.getElementById('cloak3049ff64d711befcfefec7b92b88b688').innerHTML = '';
	
 			var prefix = '&#109;a' + 'i&#108;' + '&#116;o';
				var path = 'hr' + 'e
 f' + '=';
				var addy3049ff64d711befcfefec7b92b88b688 = 'tcf.wr&#105;ght' 
 + '&#64;';
				addy3049ff64d711befcfefec7b92b88b688 = addy3049ff64d711befcf
 efec7b92b88b688 + 'bt&#105;nt&#101;rn&#101;t' + '&#46;' + 'c&#111;m';
				v
 ar addy_text3049ff64d711befcfefec7b92b88b688 = 'tcf.wr&#105;ght' + '&#64;' 
 + 'bt&#105;nt&#101;rn&#101;t' + '&#46;' + 'c&#111;m';document.getElementByI
 d('cloak3049ff64d711befcfefec7b92b88b688').innerHTML += '<a ' + path + '\''
  + prefix + ':' + addy3049ff64d711befcfefec7b92b88b688 + '\'>'+addy_text304
 9ff64d711befcfefec7b92b88b688+'';
		\n This event was imported from: https:
 //scacr.org/news-events/calendar/1261/surprise-minor-simulator-practice?tmp
 l=component (https://scacr.org/news-events/calendar/1261/surprise-minor-sim
 ulator-practice?tmpl=component)
X-ALT-DESC;FMTTYPE=text/html:<p>This is a regular practice which is now open to all Western District mem
 bers and will be held every second Monday of the month!</p><p>Current metho
 ds rung are: Cambridge, London, Norwich, Carlisle and Beverley!&nbsp; The i
 dea is to consolidate them and start splicing them!!&nbsp; Other methods ma
 ybe added as and when.</p><p>Don't br put off if you are unable to ring all
  these methods or can't ring spliced - there are a range of abilities and i
 t is a practice so an opportunity to have a go!!</p><p>Please let Joanna Wo
 odcock know if you intend to go along on <span id="cloaka7f69331e7044ddb25c
 942236be7a60b">This email address is being protected from spambots. You nee
 d JavaScript enabled to view it.</span><script type='text/javascript'>
				
 document.getElementById('cloaka7f69331e7044ddb25c942236be7a60b').innerHTML 
 = '';
				var prefix = '&#109;a' + 'i&#108;' + '&#116;o';
				var path = 'h
 r' + 'ef' + '=';
				var addya7f69331e7044ddb25c942236be7a60b = 'd&#101;&#9
 7;nl&#97;n&#101;&#101;nd' + '&#64;';
				addya7f69331e7044ddb25c942236be7a6
 0b = addya7f69331e7044ddb25c942236be7a60b + 'gm&#97;&#105;l' + '&#46;' + 'c
 &#111;m';
				var addy_texta7f69331e7044ddb25c942236be7a60b = 'd&#101;&#97;
 nl&#97;n&#101;&#101;nd' + '&#64;' + 'gm&#97;&#105;l' + '&#46;' + 'c&#111;m'
 ;document.getElementById('cloaka7f69331e7044ddb25c942236be7a60b').innerHTML
  += '<a ' + path + '\'' + prefix + ':' + addya7f69331e7044ddb25c942236be7a6
 0b + '\'>'+addy_texta7f69331e7044ddb25c942236be7a60b+'<\/a>';
		</script></
 p><p>There is ample on-street parking in the village and limited, blue badg
 e parking up at the track at the church.&nbsp; The farmyard car park to the
  left of the track is private and so please do not use!</p><p>There are no 
 toilets in the church - nearest facilities are in the Hare and Hounds pub a
 pprox 300 m away.</p><p>If there is plenty of rain - it may be handy to wea
 r wellies or at least have some in the car!!!</p><p>Contact the Tower Capta
 in if you have any other questions!&nbsp; Tim Wright - <span id="cloak3049f
 f64d711befcfefec7b92b88b688">This email address is being protected from spa
 mbots. You need JavaScript enabled to view it.</span><script type='text/jav
 ascript'>
				document.getElementById('cloak3049ff64d711befcfefec7b92b88b68
 8').innerHTML = '';
				var prefix = '&#109;a' + 'i&#108;' + '&#116;o';
			
 	var path = 'hr' + 'ef' + '=';
				var addy3049ff64d711befcfefec7b92b88b688
  = 'tcf.wr&#105;ght' + '&#64;';
				addy3049ff64d711befcfefec7b92b88b688 = 
 addy3049ff64d711befcfefec7b92b88b688 + 'bt&#105;nt&#101;rn&#101;t' + '&#46;
 ' + 'c&#111;m';
				var addy_text3049ff64d711befcfefec7b92b88b688 = 'tcf.wr
 &#105;ght' + '&#64;' + 'bt&#105;nt&#101;rn&#101;t' + '&#46;' + 'c&#111;m';d
 ocument.getElementById('cloak3049ff64d711befcfefec7b92b88b688').innerHTML +
 = '<a ' + path + '\'' + prefix + ':' + addy3049ff64d711befcfefec7b92b88b688
  + '\'>'+addy_text3049ff64d711befcfefec7b92b88b688+'<\/a>';
		</script></p>
  <a href="https://scacr.org/news-events/calendar/1261/surprise-minor-simula
 tor-practice?tmpl=component">This event was imported from: https://scacr.or
 g/news-events/calendar/1261/surprise-minor-simulator-practice?tmpl=componen
 t</a>CONTACT:Joanna Woodcock This email address is being protected from spambots. You need JavaScript enabled to view it.
				document.getElementById('cloakb4fe33e413f48bfc2cd91893e32eb1e1').innerHTML = '';
				var prefix = '&#109;a' + 'i&#108;' + '&#116;o';
				var path = 'hr' + 'ef' + '=';
				var addyb4fe33e413f48bfc2cd91893e32eb1e1 = 'd&#101;&#97;nl&#97;n&#101;&#101;nd' + '&#64;';
				addyb4fe33e413f48bfc2cd91893e32eb1e1 = addyb4fe33e413f48bfc2cd91893e32eb1e1 + 'gm&#97;&#105;l' + '&#46;' + 'c&#111;m';
				var addy_textb4fe33e413f48bfc2cd91893e32eb1e1 = 'd&#101;&#97;nl&#97;n&#101;&#101;nd' + '&#64;' + 'gm&#97;&#105;l' + '&#46;' + 'c&#111;m';document.getElementById('cloakb4fe33e413f48bfc2cd91893e32eb1e1').innerHTML += '<a ' + path + '\'' + prefix + ':' + addyb4fe33e413f48bfc2cd91893e32eb1e1 + '\'>'+addy_textb4fe33e413f48bfc2cd91893e32eb1e1+'';
		
DTSTAMP:20260420T052742
DTSTART;TZID=Europe/London:20240408T193000
DTEND;TZID=Europe/London:20240408T210000
SEQUENCE:0
TRANSP:OPAQUE
END:VEVENT
END:VCALENDAR