BEGIN:VCALENDAR
VERSION:2.0
PRODID:-//jEvents 2.0 for Joomla//EN
CALSCALE:GREGORIAN
METHOD:PUBLISH
BEGIN:VTIMEZONE
TZID:Europe/London
BEGIN:STANDARD
DTSTART:20231029T010000
RDATE:20240331T020000
TZOFFSETFROM:+0100
TZOFFSETTO:+0000
TZNAME:Europe/London GMT
END:STANDARD
BEGIN:STANDARD
DTSTART:20241027T010000
RDATE:20250330T020000
TZOFFSETFROM:+0100
TZOFFSETTO:+0000
TZNAME:Europe/London GMT
END:STANDARD
BEGIN:STANDARD
DTSTART:20251026T010000
RDATE:20260329T020000
TZOFFSETFROM:+0100
TZOFFSETTO:+0000
TZNAME:Europe/London GMT
END:STANDARD
BEGIN:STANDARD
DTSTART:20261025T010000
RDATE:20270328T020000
TZOFFSETFROM:+0100
TZOFFSETTO:+0000
TZNAME:Europe/London GMT
END:STANDARD
BEGIN:STANDARD
DTSTART:20271031T010000
RDATE:20280326T020000
TZOFFSETFROM:+0100
TZOFFSETTO:+0000
TZNAME:Europe/London GMT
END:STANDARD
BEGIN:STANDARD
DTSTART:20281029T010000
RDATE:20290325T020000
TZOFFSETFROM:+0100
TZOFFSETTO:+0000
TZNAME:Europe/London GMT
END:STANDARD
BEGIN:STANDARD
DTSTART:20291028T010000
RDATE:20300331T020000
TZOFFSETFROM:+0100
TZOFFSETTO:+0000
TZNAME:Europe/London GMT
END:STANDARD
BEGIN:STANDARD
DTSTART:20301027T010000
RDATE:20310330T020000
TZOFFSETFROM:+0100
TZOFFSETTO:+0000
TZNAME:Europe/London GMT
END:STANDARD
BEGIN:DAYLIGHT
DTSTART:20230510T193000
RDATE:20231029T010000
TZOFFSETFROM:+0000
TZOFFSETTO:+0100
TZNAME:Europe/London BST
END:DAYLIGHT
BEGIN:DAYLIGHT
DTSTART:20240331T020000
RDATE:20241027T010000
TZOFFSETFROM:+0000
TZOFFSETTO:+0100
TZNAME:Europe/London BST
END:DAYLIGHT
BEGIN:DAYLIGHT
DTSTART:20250330T020000
RDATE:20251026T010000
TZOFFSETFROM:+0000
TZOFFSETTO:+0100
TZNAME:Europe/London BST
END:DAYLIGHT
BEGIN:DAYLIGHT
DTSTART:20260329T020000
RDATE:20261025T010000
TZOFFSETFROM:+0000
TZOFFSETTO:+0100
TZNAME:Europe/London BST
END:DAYLIGHT
BEGIN:DAYLIGHT
DTSTART:20270328T020000
RDATE:20271031T010000
TZOFFSETFROM:+0000
TZOFFSETTO:+0100
TZNAME:Europe/London BST
END:DAYLIGHT
BEGIN:DAYLIGHT
DTSTART:20280326T020000
RDATE:20281029T010000
TZOFFSETFROM:+0000
TZOFFSETTO:+0100
TZNAME:Europe/London BST
END:DAYLIGHT
BEGIN:DAYLIGHT
DTSTART:20290325T020000
RDATE:20291028T010000
TZOFFSETFROM:+0000
TZOFFSETTO:+0100
TZNAME:Europe/London BST
END:DAYLIGHT
BEGIN:DAYLIGHT
DTSTART:20300331T020000
RDATE:20301027T010000
TZOFFSETFROM:+0000
TZOFFSETTO:+0100
TZNAME:Europe/London BST
END:DAYLIGHT
END:VTIMEZONE
BEGIN:VEVENT
UID:2160c5812088252f85c705d8ed0d12d3
CATEGORIES:West
CREATED:20240413T194733
SUMMARY:Ringing Up/Ringing Down in Peal. Session 1
LOCATION:St Mary's Aldingbourne
URL;VALUE=URI:https://scacr.org/news-events/calendar/1276/ringing-up-ringing-down-in-peal
 -session-1?tmpl=component
DESCRIPTION:Are you already able to ring a single bell up and down but would like to do
  so in peal?? Then this is the course for you!!  Running over 2 sessions bo
 th of which you must attend.   With both running on a Friday evening from 7
 .30 - 9 pm, there is a maximum of 6 students and prior booking is essential
 !   This is a great opportunity and hopefully you will be competent by the 
 end of the 2 sessions in ringing up and down in peal and with sufficient sk
 ills to practice in your own towers!!  You will be well supported with expe
 rt tuition.  To book contact This email address is being protected from spa
 mbots. You need JavaScript enabled to view it.
				document.getElementById(
 'cloak525b197260528f656be4cb2d415a23df').innerHTML = '';
				var prefix = '
 &#109;a' + 'i&#108;' + '&#116;o';
				var path = 'hr' + 'ef' + '=';
				var
  addy525b197260528f656be4cb2d415a23df = 's&#101;c-w&#101;st' + '&#64;';
			
 	addy525b197260528f656be4cb2d415a23df = addy525b197260528f656be4cb2d415a23d
 f + 'sc&#97;cr' + '&#46;' + '&#111;rg';
				var addy_text525b197260528f656b
 e4cb2d415a23df = 's&#101;c-w&#101;st' + '&#64;' + 'sc&#97;cr' + '&#46;' + '
 &#111;rg';document.getElementById('cloak525b197260528f656be4cb2d415a23df').
 innerHTML += '<a ' + path + '\'' + prefix + ':' + addy525b197260528f656be4c
 b2d415a23df + '\'>'+addy_text525b197260528f656be4cb2d415a23df+'';
		 or con
 tact Janice on 07890804339  Dont forget - booking is essential.  Helpers ar
 e key to the success of the sessions and if you are able to to do so , plea
 se also make contact in the same way aas the ccourse will not run if there 
 are insufficient helpers and so thank you to you in advance!\n This event w
 as imported from: https://scacr.org/news-events/calendar/1276/ringing-up-ri
 nging-down-in-peal-session-1?tmpl=component (https://scacr.org/news-events/
 calendar/1276/ringing-up-ringing-down-in-peal-session-1?tmpl=component)
X-ALT-DESC;FMTTYPE=text/html:<p>Are you already able to ring a single bell up and down but would like to
  do so in peal?? Then this is the course for you!!&nbsp; Running over 2 ses
 sions both of which you must attend.&nbsp; &nbsp;With both running on a Fri
 day evening from 7.30 - 9 pm, there is a maximum of 6 students and prior bo
 oking is essential!&nbsp; &nbsp;This is a great opportunity and hopefully y
 ou will be competent by the end of the 2 sessions in ringing up and down in
  peal and with sufficient skills to practice in your own towers!!&nbsp; You
  will be well supported with expert tuition.&nbsp; To book contact <span id
 ="cloak525b197260528f656be4cb2d415a23df">This email address is being protec
 ted from spambots. You need JavaScript enabled to view it.</span><script ty
 pe='text/javascript'>
				document.getElementById('cloak525b197260528f656be
 4cb2d415a23df').innerHTML = '';
				var prefix = '&#109;a' + 'i&#108;' + '&
 #116;o';
				var path = 'hr' + 'ef' + '=';
				var addy525b197260528f656be4
 cb2d415a23df = 's&#101;c-w&#101;st' + '&#64;';
				addy525b197260528f656be4
 cb2d415a23df = addy525b197260528f656be4cb2d415a23df + 'sc&#97;cr' + '&#46;'
  + '&#111;rg';
				var addy_text525b197260528f656be4cb2d415a23df = 's&#101;
 c-w&#101;st' + '&#64;' + 'sc&#97;cr' + '&#46;' + '&#111;rg';document.getEle
 mentById('cloak525b197260528f656be4cb2d415a23df').innerHTML += '<a ' + path
  + '\'' + prefix + ':' + addy525b197260528f656be4cb2d415a23df + '\'>'+addy_
 text525b197260528f656be4cb2d415a23df+'<\/a>';
		</script>&nbsp;or contact J
 anice on 07890804339&nbsp; Dont forget - booking is essential.&nbsp; Helper
 s are key to the success of the sessions and if you are able to to do so , 
 please also make contact in the same way aas the ccourse will not run if th
 ere are insufficient helpers and so thank you to you in advance!</p> <a hre
 f="https://scacr.org/news-events/calendar/1276/ringing-up-ringing-down-in-p
 eal-session-1?tmpl=component">This event was imported from: https://scacr.o
 rg/news-events/calendar/1276/ringing-up-ringing-down-in-peal-session-1?tmpl
 =component</a>CONTACT:This email address is being protected from spambots. You need JavaScript enabled to view it.
				document.getElementById('cloakc418b7e445fd53463312ead942bf4772').innerHTML = '';
				var prefix = '&#109;a' + 'i&#108;' + '&#116;o';
				var path = 'hr' + 'ef' + '=';
				var addyc418b7e445fd53463312ead942bf4772 = 's&#101;c-w&#101;st' + '&#64;';
				addyc418b7e445fd53463312ead942bf4772 = addyc418b7e445fd53463312ead942bf4772 + 'sc&#97;cr' + '&#46;' + '&#111;rg';
				var addy_textc418b7e445fd53463312ead942bf4772 = 's&#101;c-w&#101;st' + '&#64;' + 'sc&#97;cr' + '&#46;' + '&#111;rg';document.getElementById('cloakc418b7e445fd53463312ead942bf4772').innerHTML += '<a ' + path + '\'' + prefix + ':' + addyc418b7e445fd53463312ead942bf4772 + '\'>'+addy_textc418b7e445fd53463312ead942bf4772+'';
		
DTSTAMP:20260420T052743
DTSTART;TZID=Europe/London:20240510T193000
DTEND;TZID=Europe/London:20240510T210000
SEQUENCE:0
TRANSP:OPAQUE
END:VEVENT
END:VCALENDAR