BEGIN:VCALENDAR
VERSION:2.0
PRODID:-//jEvents 2.0 for Joomla//EN
CALSCALE:GREGORIAN
METHOD:PUBLISH
BEGIN:VTIMEZONE
TZID:Europe/London
BEGIN:STANDARD
DTSTART:20231029T010000
RDATE:20240331T020000
TZOFFSETFROM:+0100
TZOFFSETTO:+0000
TZNAME:Europe/London GMT
END:STANDARD
BEGIN:STANDARD
DTSTART:20241027T010000
RDATE:20250330T020000
TZOFFSETFROM:+0100
TZOFFSETTO:+0000
TZNAME:Europe/London GMT
END:STANDARD
BEGIN:STANDARD
DTSTART:20251026T010000
RDATE:20260329T020000
TZOFFSETFROM:+0100
TZOFFSETTO:+0000
TZNAME:Europe/London GMT
END:STANDARD
BEGIN:STANDARD
DTSTART:20261025T010000
RDATE:20270328T020000
TZOFFSETFROM:+0100
TZOFFSETTO:+0000
TZNAME:Europe/London GMT
END:STANDARD
BEGIN:STANDARD
DTSTART:20271031T010000
RDATE:20280326T020000
TZOFFSETFROM:+0100
TZOFFSETTO:+0000
TZNAME:Europe/London GMT
END:STANDARD
BEGIN:STANDARD
DTSTART:20281029T010000
RDATE:20290325T020000
TZOFFSETFROM:+0100
TZOFFSETTO:+0000
TZNAME:Europe/London GMT
END:STANDARD
BEGIN:STANDARD
DTSTART:20291028T010000
RDATE:20300331T020000
TZOFFSETFROM:+0100
TZOFFSETTO:+0000
TZNAME:Europe/London GMT
END:STANDARD
BEGIN:STANDARD
DTSTART:20301027T010000
RDATE:20310330T020000
TZOFFSETFROM:+0100
TZOFFSETTO:+0000
TZNAME:Europe/London GMT
END:STANDARD
BEGIN:DAYLIGHT
DTSTART:20230817T103000
RDATE:20231029T010000
TZOFFSETFROM:+0000
TZOFFSETTO:+0100
TZNAME:Europe/London BST
END:DAYLIGHT
BEGIN:DAYLIGHT
DTSTART:20240331T020000
RDATE:20241027T010000
TZOFFSETFROM:+0000
TZOFFSETTO:+0100
TZNAME:Europe/London BST
END:DAYLIGHT
BEGIN:DAYLIGHT
DTSTART:20250330T020000
RDATE:20251026T010000
TZOFFSETFROM:+0000
TZOFFSETTO:+0100
TZNAME:Europe/London BST
END:DAYLIGHT
BEGIN:DAYLIGHT
DTSTART:20260329T020000
RDATE:20261025T010000
TZOFFSETFROM:+0000
TZOFFSETTO:+0100
TZNAME:Europe/London BST
END:DAYLIGHT
BEGIN:DAYLIGHT
DTSTART:20270328T020000
RDATE:20271031T010000
TZOFFSETFROM:+0000
TZOFFSETTO:+0100
TZNAME:Europe/London BST
END:DAYLIGHT
BEGIN:DAYLIGHT
DTSTART:20280326T020000
RDATE:20281029T010000
TZOFFSETFROM:+0000
TZOFFSETTO:+0100
TZNAME:Europe/London BST
END:DAYLIGHT
BEGIN:DAYLIGHT
DTSTART:20290325T020000
RDATE:20291028T010000
TZOFFSETFROM:+0000
TZOFFSETTO:+0100
TZNAME:Europe/London BST
END:DAYLIGHT
BEGIN:DAYLIGHT
DTSTART:20300331T020000
RDATE:20301027T010000
TZOFFSETFROM:+0000
TZOFFSETTO:+0100
TZNAME:Europe/London BST
END:DAYLIGHT
END:VTIMEZONE
BEGIN:VEVENT
UID:d08dda9e1fa922a1a921d7c9a690efa2
CATEGORIES:South
CREATED:20240414T124541
SUMMARY:6 Bell Practice
LOCATION:Little Horsted
URL;VALUE=URI:https://scacr.org/news-events/calendar/1280/6-bell-practice?tmpl=component
DESCRIPTION:<p><em>You’re invited to the Southern District six bell practice.&nbsp; Lit
 tle Horsted will be open from 10:30 – 12:30pm. The morning will be a genera
 l practice including rounds, call changes, Plain Hunt, Plain Bob and Grands
 ire and if possible more advanced methods. Novice/learners are welcome part
 icularly if you attend with your tutor.</em></p><p><em>This is a ground&nbs
 p; floor ring.&nbsp; Please bring your own refreshments to share. Parking i
 s accessible in the nearby surface level car parks.&nbsp; The church does n
 ot have a toilet..</em></p><p><em>Please come along and if possible let Ric
 hard Neal, Southern District Secretary (mailto:<a href="mailto:sec-south@sc
 acr.org"></a><span id="cloak75b6d7025af186adc85e942206f39540">This email ad
 dress is being protected from spambots. You need JavaScript enabled to view
  it.</span><script type='text/javascript'>
				document.getElementById('clo
 ak75b6d7025af186adc85e942206f39540').innerHTML = '';
				var prefix = '&#10
 9;a' + 'i&#108;' + '&#116;o';
				var path = 'hr' + 'ef' + '=';
				var add
 y75b6d7025af186adc85e942206f39540 = 's&#101;c-s&#111;&#117;th' + '&#64;';
	
 			addy75b6d7025af186adc85e942206f39540 = addy75b6d7025af186adc85e942206f39
 540 + 'sc&#97;cr' + '&#46;' + '&#111;rg';
				var addy_text75b6d7025af186ad
 c85e942206f39540 = 's&#101;c-s&#111;&#117;th' + '&#64;' + 'sc&#97;cr' + '&#
 46;' + '&#111;rg';document.getElementById('cloak75b6d7025af186adc85e942206f
 39540').innerHTML += '<a ' + path + '\'' + prefix + ':' + addy75b6d7025af18
 6adc85e942206f39540 + '\'>'+addy_text75b6d7025af186adc85e942206f39540+'<\/a
 >';
		</script>) know you will be attending.&nbsp; </em></p> <a href="https
 ://scacr.org/news-events/calendar/1280/6-bell-practice?tmpl=component">This
  event was imported from: https://scacr.org/news-events/calendar/1280/6-bel
 l-practice?tmpl=component</a>CONTACT:Richard Neal (This email address is being protected from spambots. You need JavaScript enabled to view it.
				document.getElementById('cloak0bebca831f8062200df00815a2eca33c').innerHTML = '';
				var prefix = '&#109;a' + 'i&#108;' + '&#116;o';
				var path = 'hr' + 'ef' + '=';
				var addy0bebca831f8062200df00815a2eca33c = 's&#101;c-s&#111;&#117;th' + '&#64;';
				addy0bebca831f8062200df00815a2eca33c = addy0bebca831f8062200df00815a2eca33c + 'sc&#97;cr' + '&#46;' + '&#111;rg';
				var addy_text0bebca831f8062200df00815a2eca33c = 's&#101;c-s&#111;&#117;th' + '&#64;' + 'sc&#97;cr' + '&#46;' + '&#111;rg';document.getElementById('cloak0bebca831f8062200df00815a2eca33c').innerHTML += '<a ' + path + '\'' + prefix + ':' + addy0bebca831f8062200df00815a2eca33c + '\'>'+addy_text0bebca831f8062200df00815a2eca33c+'';
		)
DTSTAMP:20260424T160547
DTSTART;TZID=Europe/London:20240817T103000
DTEND;TZID=Europe/London:20240817T123000
SEQUENCE:0
TRANSP:OPAQUE
END:VEVENT
END:VCALENDAR