BEGIN:VCALENDAR
VERSION:2.0
PRODID:-//jEvents 2.0 for Joomla//EN
CALSCALE:GREGORIAN
METHOD:PUBLISH
BEGIN:VTIMEZONE
TZID:Europe/London
BEGIN:STANDARD
DTSTART:20231029T010000
RDATE:20240331T020000
TZOFFSETFROM:+0100
TZOFFSETTO:+0000
TZNAME:Europe/London GMT
END:STANDARD
BEGIN:STANDARD
DTSTART:20241027T010000
RDATE:20250330T020000
TZOFFSETFROM:+0100
TZOFFSETTO:+0000
TZNAME:Europe/London GMT
END:STANDARD
BEGIN:STANDARD
DTSTART:20251026T010000
RDATE:20260329T020000
TZOFFSETFROM:+0100
TZOFFSETTO:+0000
TZNAME:Europe/London GMT
END:STANDARD
BEGIN:STANDARD
DTSTART:20261025T010000
RDATE:20270328T020000
TZOFFSETFROM:+0100
TZOFFSETTO:+0000
TZNAME:Europe/London GMT
END:STANDARD
BEGIN:STANDARD
DTSTART:20271031T010000
RDATE:20280326T020000
TZOFFSETFROM:+0100
TZOFFSETTO:+0000
TZNAME:Europe/London GMT
END:STANDARD
BEGIN:STANDARD
DTSTART:20281029T010000
RDATE:20290325T020000
TZOFFSETFROM:+0100
TZOFFSETTO:+0000
TZNAME:Europe/London GMT
END:STANDARD
BEGIN:STANDARD
DTSTART:20291028T010000
RDATE:20300331T020000
TZOFFSETFROM:+0100
TZOFFSETTO:+0000
TZNAME:Europe/London GMT
END:STANDARD
BEGIN:STANDARD
DTSTART:20301027T010000
RDATE:20310330T020000
TZOFFSETFROM:+0100
TZOFFSETTO:+0000
TZNAME:Europe/London GMT
END:STANDARD
BEGIN:DAYLIGHT
DTSTART:20230824T101500
RDATE:20231029T010000
TZOFFSETFROM:+0000
TZOFFSETTO:+0100
TZNAME:Europe/London BST
END:DAYLIGHT
BEGIN:DAYLIGHT
DTSTART:20240331T020000
RDATE:20241027T010000
TZOFFSETFROM:+0000
TZOFFSETTO:+0100
TZNAME:Europe/London BST
END:DAYLIGHT
BEGIN:DAYLIGHT
DTSTART:20250330T020000
RDATE:20251026T010000
TZOFFSETFROM:+0000
TZOFFSETTO:+0100
TZNAME:Europe/London BST
END:DAYLIGHT
BEGIN:DAYLIGHT
DTSTART:20260329T020000
RDATE:20261025T010000
TZOFFSETFROM:+0000
TZOFFSETTO:+0100
TZNAME:Europe/London BST
END:DAYLIGHT
BEGIN:DAYLIGHT
DTSTART:20270328T020000
RDATE:20271031T010000
TZOFFSETFROM:+0000
TZOFFSETTO:+0100
TZNAME:Europe/London BST
END:DAYLIGHT
BEGIN:DAYLIGHT
DTSTART:20280326T020000
RDATE:20281029T010000
TZOFFSETFROM:+0000
TZOFFSETTO:+0100
TZNAME:Europe/London BST
END:DAYLIGHT
BEGIN:DAYLIGHT
DTSTART:20290325T020000
RDATE:20291028T010000
TZOFFSETFROM:+0000
TZOFFSETTO:+0100
TZNAME:Europe/London BST
END:DAYLIGHT
BEGIN:DAYLIGHT
DTSTART:20300331T020000
RDATE:20301027T010000
TZOFFSETFROM:+0000
TZOFFSETTO:+0100
TZNAME:Europe/London BST
END:DAYLIGHT
END:VTIMEZONE
BEGIN:VEVENT
UID:de056233023c1c8b0f169a07aeb39343
CATEGORIES:West
CREATED:20240609T124409
SUMMARY:Surprise Minor Practice
LOCATION:St Mary's Church\, Walberton
URL;VALUE=URI:https://scacr.org/news-events/calendar/1299/surprise-minor-practice?tmpl=co
 mponent
DESCRIPTION:This is a regular monthly event giving ringers the opportunity to ring  met
 hods such as Plain courses and touches of Cambridge and Norwich and Plain c
 ourses of Beverley, London, Carlisle and Pure Treble Bob Hunt!!   Refreshme
 nts are provided.  Please contact This email address is being protected fro
 m spambots. You need JavaScript enabled to view it.
				document.getElement
 ById('cloak4b9bb74ab76f0388ad1981e62a72ba0c').innerHTML = '';
				var prefi
 x = '&#109;a' + 'i&#108;' + '&#116;o';
				var path = 'hr' + 'ef' + '=';
		
 		var addy4b9bb74ab76f0388ad1981e62a72ba0c = 's&#101;c-w&#101;st' + '&#64;'
 ;
				addy4b9bb74ab76f0388ad1981e62a72ba0c = addy4b9bb74ab76f0388ad1981e62a
 72ba0c + 'sc&#97;cr' + '&#46;' + '&#111;rg';
				var addy_text4b9bb74ab76f0
 388ad1981e62a72ba0c = 's&#101;c-w&#101;st' + '&#64;' + 'sc&#97;cr' + '&#46;
 ' + '&#111;rg';document.getElementById('cloak4b9bb74ab76f0388ad1981e62a72ba
 0c').innerHTML += '<a ' + path + '\'' + prefix + ':' + addy4b9bb74ab76f0388
 ad1981e62a72ba0c + '\'>'+addy_text4b9bb74ab76f0388ad1981e62a72ba0c+'';
		 i
 f you would like refreshments.\nThe 'method of the month'  is yet to be ann
 ounced - watch this space!!\n This event was imported from: https://scacr.o
 rg/news-events/calendar/1299/surprise-minor-practice?tmpl=component (https:
 //scacr.org/news-events/calendar/1299/surprise-minor-practice?tmpl=componen
 t)
X-ALT-DESC;FMTTYPE=text/html:<p>This is a regular monthly event giving ringers the opportunity to ring&n
 bsp; methods such as Plain courses and touches of Cambridge and Norwich and
  Plain courses of Beverley, London, Carlisle and Pure Treble Bob Hunt!!&nbs
 p; &nbsp;Refreshments are provided.&nbsp; Please contact <span id="cloak4b9
 bb74ab76f0388ad1981e62a72ba0c">This email address is being protected from s
 pambots. You need JavaScript enabled to view it.</span><script type='text/j
 avascript'>
				document.getElementById('cloak4b9bb74ab76f0388ad1981e62a72b
 a0c').innerHTML = '';
				var prefix = '&#109;a' + 'i&#108;' + '&#116;o';
	
 			var path = 'hr' + 'ef' + '=';
				var addy4b9bb74ab76f0388ad1981e62a72ba
 0c = 's&#101;c-w&#101;st' + '&#64;';
				addy4b9bb74ab76f0388ad1981e62a72ba
 0c = addy4b9bb74ab76f0388ad1981e62a72ba0c + 'sc&#97;cr' + '&#46;' + '&#111;
 rg';
				var addy_text4b9bb74ab76f0388ad1981e62a72ba0c = 's&#101;c-w&#101;s
 t' + '&#64;' + 'sc&#97;cr' + '&#46;' + '&#111;rg';document.getElementById('
 cloak4b9bb74ab76f0388ad1981e62a72ba0c').innerHTML += '<a ' + path + '\'' + 
 prefix + ':' + addy4b9bb74ab76f0388ad1981e62a72ba0c + '\'>'+addy_text4b9bb7
 4ab76f0388ad1981e62a72ba0c+'<\/a>';
		</script>&nbsp;if you would like refr
 eshments.</p><p>The 'method of the month'&nbsp; is yet to be announced - wa
 tch this space!!</p> <a href="https://scacr.org/news-events/calendar/1299/s
 urprise-minor-practice?tmpl=component">This event was imported from: https:
 //scacr.org/news-events/calendar/1299/surprise-minor-practice?tmpl=componen
 t</a>CONTACT:This email address is being protected from spambots. You need JavaScript enabled to view it.
				document.getElementById('cloakdf3442fcfd580b0817ac1b0aaada5951').innerHTML = '';
				var prefix = '&#109;a' + 'i&#108;' + '&#116;o';
				var path = 'hr' + 'ef' + '=';
				var addydf3442fcfd580b0817ac1b0aaada5951 = 's&#101;c-w&#101;st' + '&#64;';
				addydf3442fcfd580b0817ac1b0aaada5951 = addydf3442fcfd580b0817ac1b0aaada5951 + 'sc&#97;cr' + '&#46;' + '&#111;rg';
				var addy_textdf3442fcfd580b0817ac1b0aaada5951 = 's&#101;c-w&#101;st' + '&#64;' + 'sc&#97;cr' + '&#46;' + '&#111;rg';document.getElementById('cloakdf3442fcfd580b0817ac1b0aaada5951').innerHTML += '<a ' + path + '\'' + prefix + ':' + addydf3442fcfd580b0817ac1b0aaada5951 + '\'>'+addy_textdf3442fcfd580b0817ac1b0aaada5951+'';
		
DTSTAMP:20260424T173407
DTSTART;TZID=Europe/London:20240824T101500
DTEND;TZID=Europe/London:20240824T120000
SEQUENCE:0
TRANSP:OPAQUE
END:VEVENT
END:VCALENDAR