BEGIN:VCALENDAR
VERSION:2.0
PRODID:-//jEvents 2.0 for Joomla//EN
CALSCALE:GREGORIAN
METHOD:PUBLISH
BEGIN:VTIMEZONE
TZID:Europe/London
BEGIN:STANDARD
DTSTART:20231029T010000
RDATE:20240331T020000
TZOFFSETFROM:+0100
TZOFFSETTO:+0000
TZNAME:Europe/London GMT
END:STANDARD
BEGIN:STANDARD
DTSTART:20241027T010000
RDATE:20250330T020000
TZOFFSETFROM:+0100
TZOFFSETTO:+0000
TZNAME:Europe/London GMT
END:STANDARD
BEGIN:STANDARD
DTSTART:20251026T010000
RDATE:20260329T020000
TZOFFSETFROM:+0100
TZOFFSETTO:+0000
TZNAME:Europe/London GMT
END:STANDARD
BEGIN:STANDARD
DTSTART:20261025T010000
RDATE:20270328T020000
TZOFFSETFROM:+0100
TZOFFSETTO:+0000
TZNAME:Europe/London GMT
END:STANDARD
BEGIN:STANDARD
DTSTART:20271031T010000
RDATE:20280326T020000
TZOFFSETFROM:+0100
TZOFFSETTO:+0000
TZNAME:Europe/London GMT
END:STANDARD
BEGIN:STANDARD
DTSTART:20281029T010000
RDATE:20290325T020000
TZOFFSETFROM:+0100
TZOFFSETTO:+0000
TZNAME:Europe/London GMT
END:STANDARD
BEGIN:STANDARD
DTSTART:20291028T010000
RDATE:20300331T020000
TZOFFSETFROM:+0100
TZOFFSETTO:+0000
TZNAME:Europe/London GMT
END:STANDARD
BEGIN:STANDARD
DTSTART:20301027T010000
RDATE:20310330T020000
TZOFFSETFROM:+0100
TZOFFSETTO:+0000
TZNAME:Europe/London GMT
END:STANDARD
BEGIN:DAYLIGHT
DTSTART:20230812T193000
RDATE:20231029T010000
TZOFFSETFROM:+0000
TZOFFSETTO:+0100
TZNAME:Europe/London BST
END:DAYLIGHT
BEGIN:DAYLIGHT
DTSTART:20240331T020000
RDATE:20241027T010000
TZOFFSETFROM:+0000
TZOFFSETTO:+0100
TZNAME:Europe/London BST
END:DAYLIGHT
BEGIN:DAYLIGHT
DTSTART:20250330T020000
RDATE:20251026T010000
TZOFFSETFROM:+0000
TZOFFSETTO:+0100
TZNAME:Europe/London BST
END:DAYLIGHT
BEGIN:DAYLIGHT
DTSTART:20260329T020000
RDATE:20261025T010000
TZOFFSETFROM:+0000
TZOFFSETTO:+0100
TZNAME:Europe/London BST
END:DAYLIGHT
BEGIN:DAYLIGHT
DTSTART:20270328T020000
RDATE:20271031T010000
TZOFFSETFROM:+0000
TZOFFSETTO:+0100
TZNAME:Europe/London BST
END:DAYLIGHT
BEGIN:DAYLIGHT
DTSTART:20280326T020000
RDATE:20281029T010000
TZOFFSETFROM:+0000
TZOFFSETTO:+0100
TZNAME:Europe/London BST
END:DAYLIGHT
BEGIN:DAYLIGHT
DTSTART:20290325T020000
RDATE:20291028T010000
TZOFFSETFROM:+0000
TZOFFSETTO:+0100
TZNAME:Europe/London BST
END:DAYLIGHT
BEGIN:DAYLIGHT
DTSTART:20300331T020000
RDATE:20301027T010000
TZOFFSETFROM:+0000
TZOFFSETTO:+0100
TZNAME:Europe/London BST
END:DAYLIGHT
END:VTIMEZONE
BEGIN:VEVENT
UID:3e9a213c6fabc226b1489c0e2d8a7a6d
CATEGORIES:West
CREATED:20240612T133027
SUMMARY:Surprise Minor Simulator Practice
LOCATION:St Mary's Church\, Stoughton
URL;VALUE=URI:https://scacr.org/news-events/calendar/1302/surprise-minor-simulator-practi
 ce?tmpl=component
DESCRIPTION:DUE TO LACK OF NUMBERS - THIS PRACTICE IS UNFORTUNATELY CANCELLED THIS EVEN
 ING.  \nThis  is a regular practice is held every second Monday of the mont
 h!\nCurrent methods rung are: Cambridge, London, Norwich, Carlisle and Beve
 rley!  The idea is to consolidate them and start splicing them!!  Other met
 hods maybe added as and when.\nDue to lack of numbers - this event is unfor
 tunately cancelled this evening.  The practice is scheduled to run on the 9
 th Sepetember 2024!!\n \n \n \nDon't br put off if you are unable to ring a
 ll these methods or can't ring spliced - there are a range of abilities and
  it is a practice so an opportunity to have a go!!\nPlease let Joanna Woodc
 ock know if you intend to go along on This email address is being protected
  from spambots. You need JavaScript enabled to view it.
				document.getEle
 mentById('cloak5a33284c7f75d392b60f0fd16fc834d3').innerHTML = '';
				var p
 refix = '&#109;a' + 'i&#108;' + '&#116;o';
				var path = 'hr' + 'ef' + '='
 ;
				var addy5a33284c7f75d392b60f0fd16fc834d3 = 'd&#101;&#97;nl&#97;n&#101
 ;&#101;nd' + '&#64;';
				addy5a33284c7f75d392b60f0fd16fc834d3 = addy5a3328
 4c7f75d392b60f0fd16fc834d3 + 'gm&#97;&#105;l' + '&#46;' + 'c&#111;m';
				v
 ar addy_text5a33284c7f75d392b60f0fd16fc834d3 = 'd&#101;&#97;nl&#97;n&#101;&
 #101;nd' + '&#64;' + 'gm&#97;&#105;l' + '&#46;' + 'c&#111;m';document.getEl
 ementById('cloak5a33284c7f75d392b60f0fd16fc834d3').innerHTML += '<a ' + pat
 h + '\'' + prefix + ':' + addy5a33284c7f75d392b60f0fd16fc834d3 + '\'>'+addy
 _text5a33284c7f75d392b60f0fd16fc834d3+'';
		\nThere is ample on-street park
 ing in the village and limited, blue badge parking up at the track at the c
 hurch.  The farmyard car park to the left of the track is private and so pl
 ease do not use!\nThere are no toilets in the church - nearest facilities a
 re in the Hare and Hounds pub approx 300 m away.\nIf there is plenty of rai
 n - it may be handy to wear wellies or at least have some in the car!!!\nCo
 ntact the Tower Captain if you have any other questions!  Tim Wright - This
  email address is being protected from spambots. You need JavaScript enable
 d to view it.
				document.getElementById('cloaka0b5f0c3da4c7d1060721151c17
 dcca5').innerHTML = '';
				var prefix = '&#109;a' + 'i&#108;' + '&#116;o';
 
				var path = 'hr' + 'ef' + '=';
				var addya0b5f0c3da4c7d1060721151c17d
 cca5 = 'tcf.wr&#105;ght' + '&#64;';
				addya0b5f0c3da4c7d1060721151c17dcca
 5 = addya0b5f0c3da4c7d1060721151c17dcca5 + 'bt&#105;nt&#101;rn&#101;t' + '&
 #46;' + 'c&#111;m';
				var addy_texta0b5f0c3da4c7d1060721151c17dcca5 = 'tc
 f.wr&#105;ght' + '&#64;' + 'bt&#105;nt&#101;rn&#101;t' + '&#46;' + 'c&#111;
 m';document.getElementById('cloaka0b5f0c3da4c7d1060721151c17dcca5').innerHT
 ML += '<a ' + path + '\'' + prefix + ':' + addya0b5f0c3da4c7d1060721151c17d
 cca5 + '\'>'+addy_texta0b5f0c3da4c7d1060721151c17dcca5+'';
		\n This event 
 was imported from: https://scacr.org/news-events/calendar/1302/surprise-min
 or-simulator-practice?tmpl=component (https://scacr.org/news-events/calenda
 r/1302/surprise-minor-simulator-practice?tmpl=component)
X-ALT-DESC;FMTTYPE=text/html:<p>DUE TO LACK OF NUMBERS - THIS PRACTICE IS UNFORTUNATELY CANCELLED THIS E
 VENING.&nbsp;&nbsp;</p><p>This&nbsp; is a regular practice is held every se
 cond Monday of the month!</p><p>Current methods rung are: Cambridge, London
 , Norwich, Carlisle and Beverley!&nbsp; The idea is to consolidate them and
  start splicing them!!&nbsp; Other methods maybe added as and when.</p><p>D
 ue to lack of numbers - this event is unfortunately cancelled this evening.
 &nbsp; The practice is scheduled to run on the 9th Sepetember 2024!!</p><p>
 &nbsp;</p><p>&nbsp;</p><p>&nbsp;</p><p>Don't br put off if you are unable t
 o ring all these methods or can't ring spliced - there are a range of abili
 ties and it is a practice so an opportunity to have a go!!</p><p>Please let
  Joanna Woodcock know if you intend to go along on <span id="cloak5a33284c7
 f75d392b60f0fd16fc834d3">This email address is being protected from spambot
 s. You need JavaScript enabled to view it.</span><script type='text/javascr
 ipt'>
				document.getElementById('cloak5a33284c7f75d392b60f0fd16fc834d3').
 innerHTML = '';
				var prefix = '&#109;a' + 'i&#108;' + '&#116;o';
				var
  path = 'hr' + 'ef' + '=';
				var addy5a33284c7f75d392b60f0fd16fc834d3 = '
 d&#101;&#97;nl&#97;n&#101;&#101;nd' + '&#64;';
				addy5a33284c7f75d392b60f
 0fd16fc834d3 = addy5a33284c7f75d392b60f0fd16fc834d3 + 'gm&#97;&#105;l' + '&
 #46;' + 'c&#111;m';
				var addy_text5a33284c7f75d392b60f0fd16fc834d3 = 'd&
 #101;&#97;nl&#97;n&#101;&#101;nd' + '&#64;' + 'gm&#97;&#105;l' + '&#46;' + 
 'c&#111;m';document.getElementById('cloak5a33284c7f75d392b60f0fd16fc834d3')
 .innerHTML += '<a ' + path + '\'' + prefix + ':' + addy5a33284c7f75d392b60f
 0fd16fc834d3 + '\'>'+addy_text5a33284c7f75d392b60f0fd16fc834d3+'<\/a>';
		<
 /script></p><p>There is ample on-street parking in the village and limited,
  blue badge parking up at the track at the church.&nbsp; The farmyard car p
 ark to the left of the track is private and so please do not use!</p><p>The
 re are no toilets in the church - nearest facilities are in the Hare and Ho
 unds pub approx 300 m away.</p><p>If there is plenty of rain - it may be ha
 ndy to wear wellies or at least have some in the car!!!</p><p>Contact the T
 ower Captain if you have any other questions!&nbsp; Tim Wright - <span id="
 cloaka0b5f0c3da4c7d1060721151c17dcca5">This email address is being protecte
 d from spambots. You need JavaScript enabled to view it.</span><script type
 ='text/javascript'>
				document.getElementById('cloaka0b5f0c3da4c7d1060721
 151c17dcca5').innerHTML = '';
				var prefix = '&#109;a' + 'i&#108;' + '&#1
 16;o';
				var path = 'hr' + 'ef' + '=';
				var addya0b5f0c3da4c7d10607211
 51c17dcca5 = 'tcf.wr&#105;ght' + '&#64;';
				addya0b5f0c3da4c7d1060721151c
 17dcca5 = addya0b5f0c3da4c7d1060721151c17dcca5 + 'bt&#105;nt&#101;rn&#101;t
 ' + '&#46;' + 'c&#111;m';
				var addy_texta0b5f0c3da4c7d1060721151c17dcca5
  = 'tcf.wr&#105;ght' + '&#64;' + 'bt&#105;nt&#101;rn&#101;t' + '&#46;' + 'c
 &#111;m';document.getElementById('cloaka0b5f0c3da4c7d1060721151c17dcca5').i
 nnerHTML += '<a ' + path + '\'' + prefix + ':' + addya0b5f0c3da4c7d10607211
 51c17dcca5 + '\'>'+addy_texta0b5f0c3da4c7d1060721151c17dcca5+'<\/a>';
		</s
 cript></p> <a href="https://scacr.org/news-events/calendar/1302/surprise-mi
 nor-simulator-practice?tmpl=component">This event was imported from: https:
 //scacr.org/news-events/calendar/1302/surprise-minor-simulator-practice?tmp
 l=component</a>CONTACT:Joanna Woodcock This email address is being protected from spambots. You need JavaScript enabled to view it.
				document.getElementById('cloakd15adaf81c5b6915c85d24fe96435158').innerHTML = '';
				var prefix = '&#109;a' + 'i&#108;' + '&#116;o';
				var path = 'hr' + 'ef' + '=';
				var addyd15adaf81c5b6915c85d24fe96435158 = 'd&#101;&#97;nl&#97;n&#101;&#101;nd' + '&#64;';
				addyd15adaf81c5b6915c85d24fe96435158 = addyd15adaf81c5b6915c85d24fe96435158 + 'gm&#97;&#105;l' + '&#46;' + 'c&#111;m';
				var addy_textd15adaf81c5b6915c85d24fe96435158 = 'd&#101;&#97;nl&#97;n&#101;&#101;nd' + '&#64;' + 'gm&#97;&#105;l' + '&#46;' + 'c&#111;m';document.getElementById('cloakd15adaf81c5b6915c85d24fe96435158').innerHTML += '<a ' + path + '\'' + prefix + ':' + addyd15adaf81c5b6915c85d24fe96435158 + '\'>'+addy_textd15adaf81c5b6915c85d24fe96435158+'';
		
DTSTAMP:20260424T173412
DTSTART;TZID=Europe/London:20240812T193000
DTEND;TZID=Europe/London:20240812T210000
SEQUENCE:0
TRANSP:OPAQUE
END:VEVENT
END:VCALENDAR