BEGIN:VCALENDAR
VERSION:2.0
PRODID:-//jEvents 2.0 for Joomla//EN
CALSCALE:GREGORIAN
METHOD:PUBLISH
BEGIN:VTIMEZONE
TZID:Europe/London
BEGIN:STANDARD
DTSTART:20231029T010000
RDATE:20240331T020000
TZOFFSETFROM:+0100
TZOFFSETTO:+0000
TZNAME:Europe/London GMT
END:STANDARD
BEGIN:STANDARD
DTSTART:20241027T010000
RDATE:20250330T020000
TZOFFSETFROM:+0100
TZOFFSETTO:+0000
TZNAME:Europe/London GMT
END:STANDARD
BEGIN:STANDARD
DTSTART:20251026T010000
RDATE:20260329T020000
TZOFFSETFROM:+0100
TZOFFSETTO:+0000
TZNAME:Europe/London GMT
END:STANDARD
BEGIN:STANDARD
DTSTART:20261025T010000
RDATE:20270328T020000
TZOFFSETFROM:+0100
TZOFFSETTO:+0000
TZNAME:Europe/London GMT
END:STANDARD
BEGIN:STANDARD
DTSTART:20271031T010000
RDATE:20280326T020000
TZOFFSETFROM:+0100
TZOFFSETTO:+0000
TZNAME:Europe/London GMT
END:STANDARD
BEGIN:STANDARD
DTSTART:20281029T010000
RDATE:20290325T020000
TZOFFSETFROM:+0100
TZOFFSETTO:+0000
TZNAME:Europe/London GMT
END:STANDARD
BEGIN:STANDARD
DTSTART:20291028T010000
RDATE:20300331T020000
TZOFFSETFROM:+0100
TZOFFSETTO:+0000
TZNAME:Europe/London GMT
END:STANDARD
BEGIN:STANDARD
DTSTART:20301027T010000
RDATE:20310330T020000
TZOFFSETFROM:+0100
TZOFFSETTO:+0000
TZNAME:Europe/London GMT
END:STANDARD
BEGIN:DAYLIGHT
DTSTART:20230831T100000
RDATE:20231029T010000
TZOFFSETFROM:+0000
TZOFFSETTO:+0100
TZNAME:Europe/London BST
END:DAYLIGHT
BEGIN:DAYLIGHT
DTSTART:20240331T020000
RDATE:20241027T010000
TZOFFSETFROM:+0000
TZOFFSETTO:+0100
TZNAME:Europe/London BST
END:DAYLIGHT
BEGIN:DAYLIGHT
DTSTART:20250330T020000
RDATE:20251026T010000
TZOFFSETFROM:+0000
TZOFFSETTO:+0100
TZNAME:Europe/London BST
END:DAYLIGHT
BEGIN:DAYLIGHT
DTSTART:20260329T020000
RDATE:20261025T010000
TZOFFSETFROM:+0000
TZOFFSETTO:+0100
TZNAME:Europe/London BST
END:DAYLIGHT
BEGIN:DAYLIGHT
DTSTART:20270328T020000
RDATE:20271031T010000
TZOFFSETFROM:+0000
TZOFFSETTO:+0100
TZNAME:Europe/London BST
END:DAYLIGHT
BEGIN:DAYLIGHT
DTSTART:20280326T020000
RDATE:20281029T010000
TZOFFSETFROM:+0000
TZOFFSETTO:+0100
TZNAME:Europe/London BST
END:DAYLIGHT
BEGIN:DAYLIGHT
DTSTART:20290325T020000
RDATE:20291028T010000
TZOFFSETFROM:+0000
TZOFFSETTO:+0100
TZNAME:Europe/London BST
END:DAYLIGHT
BEGIN:DAYLIGHT
DTSTART:20300331T020000
RDATE:20301027T010000
TZOFFSETFROM:+0000
TZOFFSETTO:+0100
TZNAME:Europe/London BST
END:DAYLIGHT
END:VTIMEZONE
BEGIN:VEVENT
UID:b9cb96f959457268a59cde946e90e166
CATEGORIES:West
CREATED:20240612T140158
SUMMARY:Triple Tower Event!!
LOCATION:Midhurst\, Lodsworth\, Easebourne
URL;VALUE=URI:https://scacr.org/news-events/calendar/1304/triple-tower-event?tmpl=compone
 nt
DESCRIPTION:This is instead of the monthly event due to holidays.  Come along to this T
 riple Tower Event or 'Mini Outing' - however you would like to describe the
  day!  The plan for the day is as follows:\n10 - 11 - Ringing at SS May Mag
 dalene &amp; Denys Midhurst (GU29 9NJ)  (There is 2 hours free parking at T
 he Grange 5 minnnutes walk from the church)\n11.15 - 12.15 St Peter's Churc
 h, Lodsworth (GU28 9DDE)\nThen back to Easebbourne for Lunch - There is The
  White Horse Pub (GU29 0AL) or the Cowdray Farm Shop cafe (GU29 0AJ) and pl
 enty of seating next to the polo ground if you would like to take a picnic.
   Beer and Pizza is available at Langham's Brewery (GU28 9BU) in Lodsworth 
 for those do not want to go back to Easebourne.so there is plenty of choice
 .\n2 - 3- Ringing at St Mary's , Easebourne. (GU29 0AH)\nPlease let Janice 
 know on 07890 804339 or This email address is being protected from spambots
 . You need JavaScript enabled to view it.
				document.getElementById('cloa
 k047906df77beefb3f2d884611ba5edfb').innerHTML = '';
				var prefix = '&#109
 ;a' + 'i&#108;' + '&#116;o';
				var path = 'hr' + 'ef' + '=';
				var addy
 047906df77beefb3f2d884611ba5edfb = 's&#101;c-w&#101;st' + '&#64;';
				addy
 047906df77beefb3f2d884611ba5edfb = addy047906df77beefb3f2d884611ba5edfb + '
 sc&#97;cr' + '&#46;' + '&#111;rg';
				var addy_text047906df77beefb3f2d8846
 11ba5edfb = 's&#101;c-w&#101;st' + '&#64;' + 'sc&#97;cr' + '&#46;' + '&#111
 ;rg';document.getElementById('cloak047906df77beefb3f2d884611ba5edfb').inner
 HTML += '<a ' + path + '\'' + prefix + ':' + addy047906df77beefb3f2d884611b
 a5edfb + '\'>'+addy_text047906df77beefb3f2d884611ba5edfb+'';
		 if you woul
 d like to come along.  Depending on numbers - we may need to book the pub i
 n advance!\nEveryone is welcome even if only available for one or some of t
 he towers!\n \nLook forward to seeing you there.\n \n This event was import
 ed from: https://scacr.org/news-events/calendar/1304/triple-tower-event?tmp
 l=component (https://scacr.org/news-events/calendar/1304/triple-tower-event
 ?tmpl=component)
X-ALT-DESC;FMTTYPE=text/html:<p>This is instead of the monthly event due to holidays.&nbsp; Come along t
 o this Triple Tower Event or 'Mini Outing' - however you would like to desc
 ribe the day!&nbsp; The plan for the day is as follows:</p><p>10 - 11 - Rin
 ging at SS May Magdalene &amp; Denys Midhurst (GU29 9NJ)&nbsp; (There is 2 
 hours free parking at The Grange 5 minnnutes walk from the church)</p><p>11
 .15 - 12.15 St Peter's Church, Lodsworth (GU28 9DDE)</p><p>Then back to Eas
 ebbourne for Lunch - There is The White Horse Pub (GU29 0AL) or the Cowdray
  Farm Shop cafe (GU29 0AJ) and plenty of seating next to the polo ground if
  you would like to take a picnic.&nbsp; Beer and Pizza is available at Lang
 ham's Brewery (GU28 9BU) in Lodsworth for those do not want to go back to E
 asebourne.so there is plenty of choice.</p><p>2 - 3- Ringing at St Mary's ,
  Easebourne. (GU29 0AH)</p><p>Please let Janice know on 07890 804339 or <sp
 an id="cloak047906df77beefb3f2d884611ba5edfb">This email address is being p
 rotected from spambots. You need JavaScript enabled to view it.</span><scri
 pt type='text/javascript'>
				document.getElementById('cloak047906df77beef
 b3f2d884611ba5edfb').innerHTML = '';
				var prefix = '&#109;a' + 'i&#108;'
  + '&#116;o';
				var path = 'hr' + 'ef' + '=';
				var addy047906df77beefb
 3f2d884611ba5edfb = 's&#101;c-w&#101;st' + '&#64;';
				addy047906df77beefb
 3f2d884611ba5edfb = addy047906df77beefb3f2d884611ba5edfb + 'sc&#97;cr' + '&
 #46;' + '&#111;rg';
				var addy_text047906df77beefb3f2d884611ba5edfb = 's&
 #101;c-w&#101;st' + '&#64;' + 'sc&#97;cr' + '&#46;' + '&#111;rg';document.g
 etElementById('cloak047906df77beefb3f2d884611ba5edfb').innerHTML += '<a ' +
  path + '\'' + prefix + ':' + addy047906df77beefb3f2d884611ba5edfb + '\'>'+
 addy_text047906df77beefb3f2d884611ba5edfb+'<\/a>';
		</script>&nbsp;if you 
 would like to come along.&nbsp; Depending on numbers - we may need to book 
 the pub in advance!</p><p>Everyone is welcome even if only available for on
 e or some of the towers!</p><p>&nbsp;</p><p>Look forward to seeing you ther
 e.</p><p>&nbsp;</p> <a href="https://scacr.org/news-events/calendar/1304/tr
 iple-tower-event?tmpl=component">This event was imported from: https://scac
 r.org/news-events/calendar/1304/triple-tower-event?tmpl=component</a>CONTACT:This email address is being protected from spambots. You need JavaScript enabled to view it.
				document.getElementById('cloak8a3b302582bab5ba27f8a158a48e99bf').innerHTML = '';
				var prefix = '&#109;a' + 'i&#108;' + '&#116;o';
				var path = 'hr' + 'ef' + '=';
				var addy8a3b302582bab5ba27f8a158a48e99bf = 's&#101;c-w&#101;st' + '&#64;';
				addy8a3b302582bab5ba27f8a158a48e99bf = addy8a3b302582bab5ba27f8a158a48e99bf + 'sc&#97;cr' + '&#46;' + '&#111;rg';
				var addy_text8a3b302582bab5ba27f8a158a48e99bf = 's&#101;c-w&#101;st' + '&#64;' + 'sc&#97;cr' + '&#46;' + '&#111;rg';document.getElementById('cloak8a3b302582bab5ba27f8a158a48e99bf').innerHTML += '<a ' + path + '\'' + prefix + ':' + addy8a3b302582bab5ba27f8a158a48e99bf + '\'>'+addy_text8a3b302582bab5ba27f8a158a48e99bf+'';
		
DTSTAMP:20260424T173359
DTSTART;TZID=Europe/London:20240831T100000
SEQUENCE:0
TRANSP:OPAQUE
END:VEVENT
END:VCALENDAR