BEGIN:VCALENDAR
VERSION:2.0
PRODID:-//jEvents 2.0 for Joomla//EN
CALSCALE:GREGORIAN
METHOD:PUBLISH
BEGIN:VTIMEZONE
TZID:Europe/London
BEGIN:STANDARD
DTSTART:20231029T010000
RDATE:20240331T020000
TZOFFSETFROM:+0100
TZOFFSETTO:+0000
TZNAME:Europe/London GMT
END:STANDARD
BEGIN:STANDARD
DTSTART:20241027T010000
RDATE:20250330T020000
TZOFFSETFROM:+0100
TZOFFSETTO:+0000
TZNAME:Europe/London GMT
END:STANDARD
BEGIN:STANDARD
DTSTART:20251026T010000
RDATE:20260329T020000
TZOFFSETFROM:+0100
TZOFFSETTO:+0000
TZNAME:Europe/London GMT
END:STANDARD
BEGIN:STANDARD
DTSTART:20261025T010000
RDATE:20270328T020000
TZOFFSETFROM:+0100
TZOFFSETTO:+0000
TZNAME:Europe/London GMT
END:STANDARD
BEGIN:STANDARD
DTSTART:20271031T010000
RDATE:20280326T020000
TZOFFSETFROM:+0100
TZOFFSETTO:+0000
TZNAME:Europe/London GMT
END:STANDARD
BEGIN:STANDARD
DTSTART:20281029T010000
RDATE:20290325T020000
TZOFFSETFROM:+0100
TZOFFSETTO:+0000
TZNAME:Europe/London GMT
END:STANDARD
BEGIN:STANDARD
DTSTART:20291028T010000
RDATE:20300331T020000
TZOFFSETFROM:+0100
TZOFFSETTO:+0000
TZNAME:Europe/London GMT
END:STANDARD
BEGIN:STANDARD
DTSTART:20301027T010000
RDATE:20310330T020000
TZOFFSETFROM:+0100
TZOFFSETTO:+0000
TZNAME:Europe/London GMT
END:STANDARD
BEGIN:DAYLIGHT
DTSTART:20230824T100000
RDATE:20231029T010000
TZOFFSETFROM:+0000
TZOFFSETTO:+0100
TZNAME:Europe/London BST
END:DAYLIGHT
BEGIN:DAYLIGHT
DTSTART:20240331T020000
RDATE:20241027T010000
TZOFFSETFROM:+0000
TZOFFSETTO:+0100
TZNAME:Europe/London BST
END:DAYLIGHT
BEGIN:DAYLIGHT
DTSTART:20250330T020000
RDATE:20251026T010000
TZOFFSETFROM:+0000
TZOFFSETTO:+0100
TZNAME:Europe/London BST
END:DAYLIGHT
BEGIN:DAYLIGHT
DTSTART:20260329T020000
RDATE:20261025T010000
TZOFFSETFROM:+0000
TZOFFSETTO:+0100
TZNAME:Europe/London BST
END:DAYLIGHT
BEGIN:DAYLIGHT
DTSTART:20270328T020000
RDATE:20271031T010000
TZOFFSETFROM:+0000
TZOFFSETTO:+0100
TZNAME:Europe/London BST
END:DAYLIGHT
BEGIN:DAYLIGHT
DTSTART:20280326T020000
RDATE:20281029T010000
TZOFFSETFROM:+0000
TZOFFSETTO:+0100
TZNAME:Europe/London BST
END:DAYLIGHT
BEGIN:DAYLIGHT
DTSTART:20290325T020000
RDATE:20291028T010000
TZOFFSETFROM:+0000
TZOFFSETTO:+0100
TZNAME:Europe/London BST
END:DAYLIGHT
BEGIN:DAYLIGHT
DTSTART:20300331T020000
RDATE:20301027T010000
TZOFFSETFROM:+0000
TZOFFSETTO:+0100
TZNAME:Europe/London BST
END:DAYLIGHT
END:VTIMEZONE
BEGIN:VEVENT
UID:bc10ab8dbb6e6af43be34c185bf8663d
CATEGORIES:East
CREATED:20240808T122247
SUMMARY:10 Bell Simulator Practice
LOCATION:Hailsham
URL;VALUE=URI:https://scacr.org/news-events/calendar/1314/10-bell-simulator-practice?tmpl
 =component
DESCRIPTION:For the Eastern District practice this month Hailsham will have their 10 be
 ll simulator (8 x normal bells and 2 x large dumb/training bells) available
  for a 10 bell practice on 24th August.\nThe simulator allows practice to b
 e carried on bells that have been silenced, and the additional dumbells mea
 n that a realistic 10 bell tower can be created that is only heard in the r
 inging room on speakers.\nThis practice is open to everyone, please come al
 ong and try ringing on the simulator.  Don't worry if you've never rung on 
 10 bells before, you can start with rounds and see what else takes your fan
 cy.\nThe ringing room is large, comfortable and air conditioned, which comb
 ined with the fantastic ring of 8 here (plus the two extras!), makes this o
 ne of the most pleasant towers to ring at in the county (which is one of th
 e reasons why it had more quarters than any other church in Sussex last yea
 r - 45!).\n This event was imported from: https://scacr.org/news-events/cal
 endar/1314/10-bell-simulator-practice?tmpl=component (https://scacr.org/new
 s-events/calendar/1314/10-bell-simulator-practice?tmpl=component)
X-ALT-DESC;FMTTYPE=text/html:<p>For the Eastern District practice this month Hailsham will have their 10
  bell simulator (8 x normal bells and 2 x large dumb/training bells) availa
 ble for a 10 bell practice on 24th August.</p><p>The simulator allows pract
 ice to be carried on bells that have been silenced, and the additional dumb
 ells mean that a realistic 10 bell tower can be created that is only heard 
 in the ringing room on speakers.</p><p>This practice is open to everyone, p
 lease come along and try ringing on the simulator.&nbsp; Don't worry if you
 've never rung on 10 bells before, you can start with rounds and see what e
 lse takes your fancy.</p><p>The ringing room is large, comfortable and air 
 conditioned, which combined with the fantastic ring of 8 here (plus the two
  extras!), makes this one of the most pleasant towers to ring at in the cou
 nty (which is one of the reasons why it had more quarters than any other ch
 urch in Sussex last year - 45!).</p> <a href="https://scacr.org/news-events
 /calendar/1314/10-bell-simulator-practice?tmpl=component">This event was im
 ported from: https://scacr.org/news-events/calendar/1314/10-bell-simulator-
 practice?tmpl=component</a>CONTACT:This email address is being protected from spambots. You need JavaScript enabled to view it.
				document.getElementById('cloak1555017882fdaa6a368a9c30850de9e9').innerHTML = '';
				var prefix = '&#109;a' + 'i&#108;' + '&#116;o';
				var path = 'hr' + 'ef' + '=';
				var addy1555017882fdaa6a368a9c30850de9e9 = 's&#101;c-&#101;&#97;st' + '&#64;';
				addy1555017882fdaa6a368a9c30850de9e9 = addy1555017882fdaa6a368a9c30850de9e9 + 'sc&#97;cr' + '&#46;' + '&#111;rg';
				var addy_text1555017882fdaa6a368a9c30850de9e9 = 's&#101;c-&#101;&#97;st' + '&#64;' + 'sc&#97;cr' + '&#46;' + '&#111;rg';document.getElementById('cloak1555017882fdaa6a368a9c30850de9e9').innerHTML += '<a ' + path + '\'' + prefix + ':' + addy1555017882fdaa6a368a9c30850de9e9 + '\'>'+addy_text1555017882fdaa6a368a9c30850de9e9+'';
		
DTSTAMP:20260424T173359
DTSTART;TZID=Europe/London:20240824T100000
DTEND;TZID=Europe/London:20240824T120000
SEQUENCE:0
TRANSP:OPAQUE
END:VEVENT
END:VCALENDAR