BEGIN:VCALENDAR
VERSION:2.0
PRODID:-//jEvents 2.0 for Joomla//EN
CALSCALE:GREGORIAN
METHOD:PUBLISH
BEGIN:VTIMEZONE
TZID:Europe/London
BEGIN:STANDARD
DTSTART:20231029T010000
RDATE:20240331T020000
TZOFFSETFROM:+0100
TZOFFSETTO:+0000
TZNAME:Europe/London GMT
END:STANDARD
BEGIN:STANDARD
DTSTART:20241027T010000
RDATE:20250330T020000
TZOFFSETFROM:+0100
TZOFFSETTO:+0000
TZNAME:Europe/London GMT
END:STANDARD
BEGIN:STANDARD
DTSTART:20251026T010000
RDATE:20260329T020000
TZOFFSETFROM:+0100
TZOFFSETTO:+0000
TZNAME:Europe/London GMT
END:STANDARD
BEGIN:STANDARD
DTSTART:20261025T010000
RDATE:20270328T020000
TZOFFSETFROM:+0100
TZOFFSETTO:+0000
TZNAME:Europe/London GMT
END:STANDARD
BEGIN:STANDARD
DTSTART:20271031T010000
RDATE:20280326T020000
TZOFFSETFROM:+0100
TZOFFSETTO:+0000
TZNAME:Europe/London GMT
END:STANDARD
BEGIN:STANDARD
DTSTART:20281029T010000
RDATE:20290325T020000
TZOFFSETFROM:+0100
TZOFFSETTO:+0000
TZNAME:Europe/London GMT
END:STANDARD
BEGIN:STANDARD
DTSTART:20291028T010000
RDATE:20300331T020000
TZOFFSETFROM:+0100
TZOFFSETTO:+0000
TZNAME:Europe/London GMT
END:STANDARD
BEGIN:STANDARD
DTSTART:20301027T010000
RDATE:20310330T020000
TZOFFSETFROM:+0100
TZOFFSETTO:+0000
TZNAME:Europe/London GMT
END:STANDARD
BEGIN:DAYLIGHT
DTSTART:20230906T193000
RDATE:20231029T010000
TZOFFSETFROM:+0000
TZOFFSETTO:+0100
TZNAME:Europe/London BST
END:DAYLIGHT
BEGIN:DAYLIGHT
DTSTART:20240331T020000
RDATE:20241027T010000
TZOFFSETFROM:+0000
TZOFFSETTO:+0100
TZNAME:Europe/London BST
END:DAYLIGHT
BEGIN:DAYLIGHT
DTSTART:20250330T020000
RDATE:20251026T010000
TZOFFSETFROM:+0000
TZOFFSETTO:+0100
TZNAME:Europe/London BST
END:DAYLIGHT
BEGIN:DAYLIGHT
DTSTART:20260329T020000
RDATE:20261025T010000
TZOFFSETFROM:+0000
TZOFFSETTO:+0100
TZNAME:Europe/London BST
END:DAYLIGHT
BEGIN:DAYLIGHT
DTSTART:20270328T020000
RDATE:20271031T010000
TZOFFSETFROM:+0000
TZOFFSETTO:+0100
TZNAME:Europe/London BST
END:DAYLIGHT
BEGIN:DAYLIGHT
DTSTART:20280326T020000
RDATE:20281029T010000
TZOFFSETFROM:+0000
TZOFFSETTO:+0100
TZNAME:Europe/London BST
END:DAYLIGHT
BEGIN:DAYLIGHT
DTSTART:20290325T020000
RDATE:20291028T010000
TZOFFSETFROM:+0000
TZOFFSETTO:+0100
TZNAME:Europe/London BST
END:DAYLIGHT
BEGIN:DAYLIGHT
DTSTART:20300331T020000
RDATE:20301027T010000
TZOFFSETFROM:+0000
TZOFFSETTO:+0100
TZNAME:Europe/London BST
END:DAYLIGHT
END:VTIMEZONE
BEGIN:VEVENT
UID:2d431b20c5f1baab381fdcc16ec95501
CATEGORIES:West
CREATED:20240817T195813
SUMMARY:General 8 Bell Practice
LOCATION:St Nicholas Church\, Arundel. 
URL;VALUE=URI:https://scacr.org/news-events/calendar/1328/general-8-bell-practice?tmpl=co
 mponent
DESCRIPTION:<p>&nbsp;Come along and enjoy ringing on this lovely ring of 8 bells in a p
 icturesque setting!&nbsp; &nbsp;All levels are welcome !!&nbsp; A great opp
 ortunity if you normally ring on 6 bells, to stretch the mind into counting
  up to 8!&nbsp; Rounds, call changes, Plain Hunt, Grandsire and Bob Triples
  can be practiced so do come and give it a try!</p><p>Any queries contact J
 anice on 07890804339 or e mail <span id="cloak63da2b5e7bbc4dfe84be8083d1894
 194">This email address is being protected from spambots. You need JavaScri
 pt enabled to view it.</span><script type='text/javascript'>
				document.g
 etElementById('cloak63da2b5e7bbc4dfe84be8083d1894194').innerHTML = '';
				
 var prefix = '&#109;a' + 'i&#108;' + '&#116;o';
				var path = 'hr' + 'ef' 
 + '=';
				var addy63da2b5e7bbc4dfe84be8083d1894194 = 's&#101;c-w&#101;st' 
 + '&#64;';
				addy63da2b5e7bbc4dfe84be8083d1894194 = addy63da2b5e7bbc4dfe8
 4be8083d1894194 + 'sc&#97;cr' + '&#46;' + '&#111;rg';
				var addy_text63da
 2b5e7bbc4dfe84be8083d1894194 = 's&#101;c-w&#101;st' + '&#64;' + 'sc&#97;cr'
  + '&#46;' + '&#111;rg';document.getElementById('cloak63da2b5e7bbc4dfe84be8
 083d1894194').innerHTML += '<a ' + path + '\'' + prefix + ':' + addy63da2b5
 e7bbc4dfe84be8083d1894194 + '\'>'+addy_text63da2b5e7bbc4dfe84be8083d1894194
 +'<\/a>';
		</script></p> <a href="https://scacr.org/news-events/calendar/1
 328/general-8-bell-practice?tmpl=component">This event was imported from: h
 ttps://scacr.org/news-events/calendar/1328/general-8-bell-practice?tmpl=com
 ponent</a>CONTACT:This email address is being protected from spambots. You need JavaScript enabled to view it.
				document.getElementById('cloakdabfdfdbcff0cf49199b8b079d9497a0').innerHTML = '';
				var prefix = '&#109;a' + 'i&#108;' + '&#116;o';
				var path = 'hr' + 'ef' + '=';
				var addydabfdfdbcff0cf49199b8b079d9497a0 = 's&#101;c-w&#101;st' + '&#64;';
				addydabfdfdbcff0cf49199b8b079d9497a0 = addydabfdfdbcff0cf49199b8b079d9497a0 + 'sc&#97;cr' + '&#46;' + '&#111;rg';
				var addy_textdabfdfdbcff0cf49199b8b079d9497a0 = 's&#101;c-w&#101;st' + '&#64;' + 'sc&#97;cr' + '&#46;' + '&#111;rg';document.getElementById('cloakdabfdfdbcff0cf49199b8b079d9497a0').innerHTML += '<a ' + path + '\'' + prefix + ':' + addydabfdfdbcff0cf49199b8b079d9497a0 + '\'>'+addy_textdabfdfdbcff0cf49199b8b079d9497a0+'';
		
DTSTAMP:20260424T160534
DTSTART;TZID=Europe/London:20240906T193000
DTEND;TZID=Europe/London:20240906T210000
SEQUENCE:0
TRANSP:OPAQUE
END:VEVENT
END:VCALENDAR