BEGIN:VCALENDAR
VERSION:2.0
PRODID:-//jEvents 2.0 for Joomla//EN
CALSCALE:GREGORIAN
METHOD:PUBLISH
BEGIN:VTIMEZONE
TZID:Europe/London
BEGIN:STANDARD
DTSTART:20241027T010000
RDATE:20250330T020000
TZOFFSETFROM:+0100
TZOFFSETTO:+0000
TZNAME:Europe/London GMT
END:STANDARD
BEGIN:STANDARD
DTSTART:20251026T010000
RDATE:20260329T020000
TZOFFSETFROM:+0100
TZOFFSETTO:+0000
TZNAME:Europe/London GMT
END:STANDARD
BEGIN:STANDARD
DTSTART:20261025T010000
RDATE:20270328T020000
TZOFFSETFROM:+0100
TZOFFSETTO:+0000
TZNAME:Europe/London GMT
END:STANDARD
BEGIN:STANDARD
DTSTART:20271031T010000
RDATE:20280326T020000
TZOFFSETFROM:+0100
TZOFFSETTO:+0000
TZNAME:Europe/London GMT
END:STANDARD
BEGIN:STANDARD
DTSTART:20281029T010000
RDATE:20290325T020000
TZOFFSETFROM:+0100
TZOFFSETTO:+0000
TZNAME:Europe/London GMT
END:STANDARD
BEGIN:STANDARD
DTSTART:20291028T010000
RDATE:20300331T020000
TZOFFSETFROM:+0100
TZOFFSETTO:+0000
TZNAME:Europe/London GMT
END:STANDARD
BEGIN:STANDARD
DTSTART:20301027T010000
RDATE:20310330T020000
TZOFFSETFROM:+0100
TZOFFSETTO:+0000
TZNAME:Europe/London GMT
END:STANDARD
BEGIN:DAYLIGHT
DTSTART:20240801T100000
RDATE:20241027T010000
TZOFFSETFROM:+0000
TZOFFSETTO:+0100
TZNAME:Europe/London BST
END:DAYLIGHT
BEGIN:DAYLIGHT
DTSTART:20250330T020000
RDATE:20251026T010000
TZOFFSETFROM:+0000
TZOFFSETTO:+0100
TZNAME:Europe/London BST
END:DAYLIGHT
BEGIN:DAYLIGHT
DTSTART:20260329T020000
RDATE:20261025T010000
TZOFFSETFROM:+0000
TZOFFSETTO:+0100
TZNAME:Europe/London BST
END:DAYLIGHT
BEGIN:DAYLIGHT
DTSTART:20270328T020000
RDATE:20271031T010000
TZOFFSETFROM:+0000
TZOFFSETTO:+0100
TZNAME:Europe/London BST
END:DAYLIGHT
BEGIN:DAYLIGHT
DTSTART:20280326T020000
RDATE:20281029T010000
TZOFFSETFROM:+0000
TZOFFSETTO:+0100
TZNAME:Europe/London BST
END:DAYLIGHT
BEGIN:DAYLIGHT
DTSTART:20290325T020000
RDATE:20291028T010000
TZOFFSETFROM:+0000
TZOFFSETTO:+0100
TZNAME:Europe/London BST
END:DAYLIGHT
BEGIN:DAYLIGHT
DTSTART:20300331T020000
RDATE:20301027T010000
TZOFFSETFROM:+0000
TZOFFSETTO:+0100
TZNAME:Europe/London BST
END:DAYLIGHT
END:VTIMEZONE
BEGIN:VEVENT
UID:e4477901a711f305229bfbf9f397f887
CATEGORIES:North
CREATED:20250114T184517
SUMMARY:Northern District Summer Outing: All Welcome!
LOCATION:Outing - Various Towers
URL;VALUE=URI:https://scacr.org/news-events/calendar/1393/northern-district-summer-outing
 -all-welcome?tmpl=component
DESCRIPTION:<p>The Northern District Summer Outing will take place on<em>&nbsp;</em>Sat
 urday 2nd August. Ringing will be rounds onwards - all welcome!</p><p>This 
 year's outing will feature a set of towers in the Surrey area, as we ventur
 e across the border! Confirmed details:</p><p><strong>10:00-10:45 -&nbsp;</
 strong><strong>Rudgwick</strong>, St Nicolas: 8 bells, 14-0-5cwt in F (Chur
 ch Street, Rudgwick, RH12 3EB)<br />An antique-clockwise peal of 8 rung fro
 m a gallery. A mixed bag of bells cast around London, except for the two tr
 ebles that were cast at the Eijsbouts <br /><br /><strong>11:15-12:00 Ockle
 y</strong>, St Peter &amp; St Paul: 6 bells, 13-2-4cwt in F#; ground floor 
 (Coles Lanes, Ockley, RH5 5LS)<br />A peal of 6 with a bit of a draft. Orig
 inally a complete 6 by Richard Phelps in 1701, the treble was recast by Whi
 techapel in 1981. In the same year, the back 5 by Phelps were re-tuned 4 be
 lls were recorded in the church in 1552. <br /><br /><strong>12:00-13:30</s
 trong> - <strong>lunch</strong>:&nbsp;own arrangements</p><p><strong>13:30-
 14:15</strong> - <strong>Capel</strong>, St John the Baptist: 6 bells, 6-3-
 7cwt in A (The Street, Capel, RH5 5JZ)<br />A charming peal of 6 by a mixed
  bag of founders. One of which is by Richard Eldridge of Woking. The bells 
 were overhauled by Mears &amp; Stainbank in 1951 that included the recastin
 g of one of the two Eldridge be<strong>lls. </strong></p><p><strong>14:30 -
  15:15</strong> - <strong>Newdigate</strong>, St Peter: 6 bells, 8-0-1cwt i
 n Bb;&nbsp;ground floor (Church Lane, Newdigate, RH5 5DL)<br />All 6 by Tho
 mas I Mears were recast by the Whitechapel Bellfoundry in 1969. Hung in a l
 ovely wooden tower and cozy ringing room.&nbsp;</p><p>&nbsp;</p><p><em><spa
 n style="font-size: 12pt; color: #ff0000;">If you plan to join us, please f
 ill in <span style="color: #0000ff;"><strong><a href="https://forms.gle/jaC
 2oDe8Gx9MNovK8" style="color: #0000ff; text-decoration: underline;">this sh
 ort form</a></strong> </span>to allow us to plan for expected numbers.</spa
 n></em></p> <a href="https://scacr.org/news-events/calendar/1393/northern-d
 istrict-summer-outing-all-welcome?tmpl=component">This event was imported f
 rom: https://scacr.org/news-events/calendar/1393/northern-district-summer-o
 uting-all-welcome?tmpl=component</a>CONTACT:This email address is being protected from spambots. You need JavaScript enabled to view it.
				document.getElementById('cloak290c96a6f453123a791c3d6f7b899d8d').innerHTML = '';
				var prefix = '&#109;a' + 'i&#108;' + '&#116;o';
				var path = 'hr' + 'ef' + '=';
				var addy290c96a6f453123a791c3d6f7b899d8d = 's&#101;c-n&#111;rth' + '&#64;';
				addy290c96a6f453123a791c3d6f7b899d8d = addy290c96a6f453123a791c3d6f7b899d8d + 'sc&#97;cr' + '&#46;' + '&#111;rg';
				var addy_text290c96a6f453123a791c3d6f7b899d8d = 's&#101;c-n&#111;rth' + '&#64;' + 'sc&#97;cr' + '&#46;' + '&#111;rg';document.getElementById('cloak290c96a6f453123a791c3d6f7b899d8d').innerHTML += '<a ' + path + '\'' + prefix + ':' + addy290c96a6f453123a791c3d6f7b899d8d + '\'>'+addy_text290c96a6f453123a791c3d6f7b899d8d+'';
		
DTSTAMP:20260422T192535
DTSTART;TZID=Europe/London:20250802T100000
DTEND;TZID=Europe/London:20250802T151500
SEQUENCE:0
TRANSP:OPAQUE
END:VEVENT
END:VCALENDAR