BEGIN:VCALENDAR
VERSION:2.0
PRODID:-//jEvents 2.0 for Joomla//EN
CALSCALE:GREGORIAN
METHOD:PUBLISH
BEGIN:VTIMEZONE
TZID:Europe/London
BEGIN:STANDARD
DTSTART:20241027T010000
RDATE:20250330T020000
TZOFFSETFROM:+0100
TZOFFSETTO:+0000
TZNAME:Europe/London GMT
END:STANDARD
BEGIN:STANDARD
DTSTART:20251026T010000
RDATE:20260329T020000
TZOFFSETFROM:+0100
TZOFFSETTO:+0000
TZNAME:Europe/London GMT
END:STANDARD
BEGIN:STANDARD
DTSTART:20261025T010000
RDATE:20270328T020000
TZOFFSETFROM:+0100
TZOFFSETTO:+0000
TZNAME:Europe/London GMT
END:STANDARD
BEGIN:STANDARD
DTSTART:20271031T010000
RDATE:20280326T020000
TZOFFSETFROM:+0100
TZOFFSETTO:+0000
TZNAME:Europe/London GMT
END:STANDARD
BEGIN:STANDARD
DTSTART:20281029T010000
RDATE:20290325T020000
TZOFFSETFROM:+0100
TZOFFSETTO:+0000
TZNAME:Europe/London GMT
END:STANDARD
BEGIN:STANDARD
DTSTART:20291028T010000
RDATE:20300331T020000
TZOFFSETFROM:+0100
TZOFFSETTO:+0000
TZNAME:Europe/London GMT
END:STANDARD
BEGIN:STANDARD
DTSTART:20301027T010000
RDATE:20310330T020000
TZOFFSETFROM:+0100
TZOFFSETTO:+0000
TZNAME:Europe/London GMT
END:STANDARD
BEGIN:DAYLIGHT
DTSTART:20240815T100000
RDATE:20241027T010000
TZOFFSETFROM:+0000
TZOFFSETTO:+0100
TZNAME:Europe/London BST
END:DAYLIGHT
BEGIN:DAYLIGHT
DTSTART:20250330T020000
RDATE:20251026T010000
TZOFFSETFROM:+0000
TZOFFSETTO:+0100
TZNAME:Europe/London BST
END:DAYLIGHT
BEGIN:DAYLIGHT
DTSTART:20260329T020000
RDATE:20261025T010000
TZOFFSETFROM:+0000
TZOFFSETTO:+0100
TZNAME:Europe/London BST
END:DAYLIGHT
BEGIN:DAYLIGHT
DTSTART:20270328T020000
RDATE:20271031T010000
TZOFFSETFROM:+0000
TZOFFSETTO:+0100
TZNAME:Europe/London BST
END:DAYLIGHT
BEGIN:DAYLIGHT
DTSTART:20280326T020000
RDATE:20281029T010000
TZOFFSETFROM:+0000
TZOFFSETTO:+0100
TZNAME:Europe/London BST
END:DAYLIGHT
BEGIN:DAYLIGHT
DTSTART:20290325T020000
RDATE:20291028T010000
TZOFFSETFROM:+0000
TZOFFSETTO:+0100
TZNAME:Europe/London BST
END:DAYLIGHT
BEGIN:DAYLIGHT
DTSTART:20300331T020000
RDATE:20301027T010000
TZOFFSETFROM:+0000
TZOFFSETTO:+0100
TZNAME:Europe/London BST
END:DAYLIGHT
END:VTIMEZONE
BEGIN:VEVENT
UID:4a0d263f3d883b902d4f099c1096b3bf
CATEGORIES:South
CREATED:20250509T170017
SUMMARY:Southern District Outing 
LOCATION:Mayfield\, Wadhurst\, Ticehurst and Salehust
URL;VALUE=URI:https://scacr.org/news-events/calendar/1455/southern-district-outing?tmpl=c
 omponent
DESCRIPTION:<p>&nbsp;</p><p><strong>SCACR Southern District Outing</strong><br />Sat 16
 th August 2025<br /><br /><strong>Mayfield</strong>, S Dunstan.&nbsp; &nbsp
 ; &nbsp; 8, 19–2–26 (1002 kg) in E♭&nbsp; &nbsp; &nbsp; &nbsp; &nbsp; &nbsp
 ; &nbsp; &nbsp; &nbsp; &nbsp; &nbsp; &nbsp; &nbsp;10.00 - 11.00am&nbsp; &nb
 sp; &nbsp;TN20 6AQ</p><p><br /><strong>Wadhurst</strong>, S Peter &amp; S P
 aul (GF).&nbsp; &nbsp; &nbsp; 8, 12–1–15 (629 kg) in F♯.&nbsp; &nbsp; &nbsp
 ; &nbsp;11.30--12.30pm&nbsp; &nbsp; &nbsp;TN5 6AR</p><p>Lunch <br />Own arr
 angements<br /> &nbsp;&nbsp;<br /><strong>Ticehu</strong><span><strong>rst<
 /strong>, S</span>&nbsp;Mary (T).&nbsp; &nbsp; &nbsp; &nbsp; &nbsp; &nbsp;&
 nbsp;&nbsp;6, 15–1–16 (782 kg) in F♯.&nbsp; &nbsp; &nbsp; &nbsp; &nbsp; 2.0
 0 -2.45pm&nbsp; &nbsp; &nbsp;TN5 7AH</p><p><br /><strong>Salehurst</strong>
 , S Mary V.&nbsp; &nbsp; &nbsp; &nbsp; &nbsp; &nbsp; &nbsp; &nbsp;8, 18–1–2
 6 (939 kg) in E♭.&nbsp; &nbsp; &nbsp; &nbsp; &nbsp; &nbsp;&nbsp;<span>3.30-
 4.30pm</span>&nbsp; &nbsp; &nbsp;TN32 5PJ<br /><br /></p><p>We will be aski
 ng for a contribution towards the tower donations.</p><p>Richard Neal<br />
 SCACR Master</p><p><span id="cloakbc4f7706257a2bcb98647efbbee0e787">This em
 ail address is being protected from spambots. You need JavaScript enabled t
 o view it.</span><script type='text/javascript'>
				document.getElementByI
 d('cloakbc4f7706257a2bcb98647efbbee0e787').innerHTML = '';
				var prefix =
  '&#109;a' + 'i&#108;' + '&#116;o';
				var path = 'hr' + 'ef' + '=';
				v
 ar addybc4f7706257a2bcb98647efbbee0e787 = 'm&#97;st&#101;r' + '&#64;';
				
 addybc4f7706257a2bcb98647efbbee0e787 = addybc4f7706257a2bcb98647efbbee0e787
  + 'sc&#97;cr' + '&#46;' + '&#111;rg';
				var addy_textbc4f7706257a2bcb986
 47efbbee0e787 = 'm&#97;st&#101;r' + '&#64;' + 'sc&#97;cr' + '&#46;' + '&#11
 1;rg';document.getElementById('cloakbc4f7706257a2bcb98647efbbee0e787').inne
 rHTML += '<a ' + path + '\'' + prefix + ':' + addybc4f7706257a2bcb98647efbb
 ee0e787 + '\'>'+addy_textbc4f7706257a2bcb98647efbbee0e787+'<\/a>';
		</scri
 pt><br />01273 473603</p><p>Rounds onwards&nbsp;</p><p>All welcome</p><p>&n
 bsp;Please let us know if you're likely to be on the outing</p> <a href="ht
 tps://scacr.org/news-events/calendar/1455/southern-district-outing?tmpl=com
 ponent">This event was imported from: https://scacr.org/news-events/calenda
 r/1455/southern-district-outing?tmpl=component</a>CONTACT:Richard Neal This email address is being protected from spambots. You need JavaScript enabled to view it.
				document.getElementById('cloak435f47491698883b460d74ca84b9cba7').innerHTML = '';
				var prefix = '&#109;a' + 'i&#108;' + '&#116;o';
				var path = 'hr' + 'ef' + '=';
				var addy435f47491698883b460d74ca84b9cba7 = 'm&#97;st&#101;r' + '&#64;';
				addy435f47491698883b460d74ca84b9cba7 = addy435f47491698883b460d74ca84b9cba7 + 'sc&#97;cr' + '&#46;' + '&#111;rg';
				var addy_text435f47491698883b460d74ca84b9cba7 = 'm&#97;st&#101;r' + '&#64;' + 'sc&#97;cr' + '&#46;' + '&#111;rg';document.getElementById('cloak435f47491698883b460d74ca84b9cba7').innerHTML += '<a ' + path + '\'' + prefix + ':' + addy435f47491698883b460d74ca84b9cba7 + '\'>'+addy_text435f47491698883b460d74ca84b9cba7+'';
		 or Debbie Evans This email address is being protected from spambots. You need JavaScript enabled to view it.
				document.getElementById('cloakf32409c6183cdf131ad24095ca55b89e').innerHTML = '';
				var prefix = '&#109;a' + 'i&#108;' + '&#116;o';
				var path = 'hr' + 'ef' + '=';
				var addyf32409c6183cdf131ad24095ca55b89e = 's&#101;c-s&#111;&#117;th' + '&#64;';
				addyf32409c6183cdf131ad24095ca55b89e = addyf32409c6183cdf131ad24095ca55b89e + 'sc&#97;cr' + '&#46;' + '&#111;rg';
				var addy_textf32409c6183cdf131ad24095ca55b89e = 's&#101;c-s&#111;&#117;th' + '&#64;' + 'sc&#97;cr' + '&#46;' + '&#111;rg';document.getElementById('cloakf32409c6183cdf131ad24095ca55b89e').innerHTML += '<a ' + path + '\'' + prefix + ':' + addyf32409c6183cdf131ad24095ca55b89e + '\'>'+addy_textf32409c6183cdf131ad24095ca55b89e+'';
		
DTSTAMP:20260424T224654
DTSTART;TZID=Europe/London:20250816T100000
DTEND;TZID=Europe/London:20250816T163000
SEQUENCE:0
TRANSP:OPAQUE
END:VEVENT
END:VCALENDAR