BEGIN:VCALENDAR
VERSION:2.0
PRODID:-//jEvents 2.0 for Joomla//EN
CALSCALE:GREGORIAN
METHOD:PUBLISH
BEGIN:VTIMEZONE
TZID:Europe/London
BEGIN:STANDARD
DTSTART:20241027T010000
RDATE:20250330T020000
TZOFFSETFROM:+0100
TZOFFSETTO:+0000
TZNAME:Europe/London GMT
END:STANDARD
BEGIN:STANDARD
DTSTART:20251026T010000
RDATE:20260329T020000
TZOFFSETFROM:+0100
TZOFFSETTO:+0000
TZNAME:Europe/London GMT
END:STANDARD
BEGIN:STANDARD
DTSTART:20261025T010000
RDATE:20270328T020000
TZOFFSETFROM:+0100
TZOFFSETTO:+0000
TZNAME:Europe/London GMT
END:STANDARD
BEGIN:STANDARD
DTSTART:20271031T010000
RDATE:20280326T020000
TZOFFSETFROM:+0100
TZOFFSETTO:+0000
TZNAME:Europe/London GMT
END:STANDARD
BEGIN:STANDARD
DTSTART:20281029T010000
RDATE:20290325T020000
TZOFFSETFROM:+0100
TZOFFSETTO:+0000
TZNAME:Europe/London GMT
END:STANDARD
BEGIN:STANDARD
DTSTART:20291028T010000
RDATE:20300331T020000
TZOFFSETFROM:+0100
TZOFFSETTO:+0000
TZNAME:Europe/London GMT
END:STANDARD
BEGIN:STANDARD
DTSTART:20301027T010000
RDATE:20310330T020000
TZOFFSETFROM:+0100
TZOFFSETTO:+0000
TZNAME:Europe/London GMT
END:STANDARD
BEGIN:DAYLIGHT
DTSTART:20240820T103000
RDATE:20241027T010000
TZOFFSETFROM:+0000
TZOFFSETTO:+0100
TZNAME:Europe/London BST
END:DAYLIGHT
BEGIN:DAYLIGHT
DTSTART:20250330T020000
RDATE:20251026T010000
TZOFFSETFROM:+0000
TZOFFSETTO:+0100
TZNAME:Europe/London BST
END:DAYLIGHT
BEGIN:DAYLIGHT
DTSTART:20260329T020000
RDATE:20261025T010000
TZOFFSETFROM:+0000
TZOFFSETTO:+0100
TZNAME:Europe/London BST
END:DAYLIGHT
BEGIN:DAYLIGHT
DTSTART:20270328T020000
RDATE:20271031T010000
TZOFFSETFROM:+0000
TZOFFSETTO:+0100
TZNAME:Europe/London BST
END:DAYLIGHT
BEGIN:DAYLIGHT
DTSTART:20280326T020000
RDATE:20281029T010000
TZOFFSETFROM:+0000
TZOFFSETTO:+0100
TZNAME:Europe/London BST
END:DAYLIGHT
BEGIN:DAYLIGHT
DTSTART:20290325T020000
RDATE:20291028T010000
TZOFFSETFROM:+0000
TZOFFSETTO:+0100
TZNAME:Europe/London BST
END:DAYLIGHT
BEGIN:DAYLIGHT
DTSTART:20300331T020000
RDATE:20301027T010000
TZOFFSETFROM:+0000
TZOFFSETTO:+0100
TZNAME:Europe/London BST
END:DAYLIGHT
END:VTIMEZONE
BEGIN:VEVENT
UID:5968d62b56939ec1d2d18d3456176d85
CATEGORIES:Association Event
CREATED:20250514T124038
SUMMARY:Codgers
LOCATION:Cuckfield &amp; Bolney
URL;VALUE=URI:https://scacr.org/news-events/calendar/1456/codgers?tmpl=component
DESCRIPTION:Itinerary: 10.30 Cuckfield (Holy Trinity) - ringing until 12:00 (8 bells). 
 Parking in the public car park - a parking disc is required.\n12:00 to 14:0
 0 Travel &amp; lunch. The selected pub for lunch is The Eight Bells at Boln
 ey (The Street, RH17 5QW, recently re-opened - opposite the church), or mak
 e your own arrangements.\n14:00 Bolney (St Mary Magdalene) - ringing until 
 15:30 (8 bells).\nPlease email to let us know if you are planning to come a
 nd ring, and specify your menu choice if eating at the pub (by end of Mon 1
 8th August).\nThe menu can be found on the pub's website: pub menu here (ht
 tps://www.eightbellsbolney.com/)  Specials may not be available on a Thursd
 ay at the moment.\nAs we are a larger group, your pub food must be ordered 
 in advance by the end of Mon 18th August. Email your choice to  (mailto:cod
 gers@scacr.org)This email address is being protected from spambots. You nee
 d JavaScript enabled to view it.
				document.getElementById('cloak780ff83b
 9f6b258ddc8e9520b677b318').innerHTML = '';
				var prefix = '&#109;a' + 'i&
 #108;' + '&#116;o';
				var path = 'hr' + 'ef' + '=';
				var addy780ff83b9
 f6b258ddc8e9520b677b318 = 'c&#111;dg&#101;rs' + '&#64;';
				addy780ff83b9f
 6b258ddc8e9520b677b318 = addy780ff83b9f6b258ddc8e9520b677b318 + 'sc&#97;cr'
  + '&#46;' + '&#111;rg';
				var addy_text780ff83b9f6b258ddc8e9520b677b318 
 = 'c&#111;dg&#101;rs' + '&#64;' + 'sc&#97;cr' + '&#46;' + '&#111;rg';docume
 nt.getElementById('cloak780ff83b9f6b258ddc8e9520b677b318').innerHTML += '<a
  ' + path + '\'' + prefix + ':' + addy780ff83b9f6b258ddc8e9520b677b318 + '\
 '>'+addy_text780ff83b9f6b258ddc8e9520b677b318+'';
		\nIf you want a sandwic
 h (£9.50, and includes small salad and fries), let me know whether you want
  white bread, granary bread or ciabatta. The filling choices are:\n\n - Egg
  Mayonnaise\n - Crayfish Cocktail &amp; lettuce\n - Ham salad\n - Sussex Ch
 armer cheddar and tomato\n - Pastrami &amp; pickleWe will need to cap numbe
 rs attending at 25 maximum, so do let me know if you are coming.\nEmail add
 ress to confirm attendance and order food:   (mailto:codgers@scacr.org)This
  email address is being protected from spambots. You need JavaScript enable
 d to view it.
				document.getElementById('cloak72364b9e61be21de093db56ffa7
 32abd').innerHTML = '';
				var prefix = '&#109;a' + 'i&#108;' + '&#116;o';
 
				var path = 'hr' + 'ef' + '=';
				var addy72364b9e61be21de093db56ffa73
 2abd = 'c&#111;dg&#101;rs' + '&#64;';
				addy72364b9e61be21de093db56ffa732
 abd = addy72364b9e61be21de093db56ffa732abd + 'sc&#97;cr' + '&#46;' + '&#111
 ;rg';
				var addy_text72364b9e61be21de093db56ffa732abd = 'c&#111;dg&#101;r
 s' + '&#64;' + 'sc&#97;cr' + '&#46;' + '&#111;rg';document.getElementById('
 cloak72364b9e61be21de093db56ffa732abd').innerHTML += '<a ' + path + '\'' + 
 prefix + ':' + addy72364b9e61be21de093db56ffa732abd + '\'>'+addy_text72364b
 9e61be21de093db56ffa732abd+'';
		 \nHope to see you there.\n This event was
  imported from: https://scacr.org/news-events/calendar/1456/codgers?tmpl=co
 mponent (https://scacr.org/news-events/calendar/1456/codgers?tmpl=component
 )
X-ALT-DESC;FMTTYPE=text/html:<div>Itinerary:&nbsp;</div><div><div><div><p><strong>10.30 Cuckfield (Holy 
 Trinity)</strong>&nbsp;- ringing until 12:00 (8 bells). Parking in the publ
 ic car park - a parking disc is required.</p><p><strong>12:00 to 14:00 Trav
 el &amp; lunch. The selected pub for lunch is The Eight Bells at Bolney (</
 strong>The Street, RH17 5QW, recently re-opened&nbsp;- opposite the church)
 , or make your own arrangements.</p><p><strong>14:00 Bolney (St Mary Magdal
 ene)</strong>&nbsp;- ringing until 15:30 (8 bells).</p><p>Please email to l
 et us know if you are planning to come and ring, and specify your menu choi
 ce if eating at the pub (by end of Mon 18th August).</p><p>The menu can be 
 found on the pub's website:&nbsp;<a href="https://www.eightbellsbolney.com/
 " target="_blank" rel="noopener" data-saferedirecturl="https://www.google.c
 om/url?q=https://www.eightbellsbolney.com/&amp;source=gmail&amp;ust=1755274
 453956000&amp;usg=AOvVaw2xbqAwzMsh_473bvmNS0TD">pub menu here</a>&nbsp; Spe
 cials may not be available on a Thursday at the moment.</p><p>As we are a l
 arger group, your pub food must be ordered in advance by the end of&nbsp;<s
 pan style="text-decoration: underline;">Mon 18th August</span>.&nbsp;Email 
 your choice to&nbsp;<span style="text-decoration: underline;"><a href="mail
 to:codgers@scacr.org" target="_blank"></a><span id="cloak780ff83b9f6b258ddc
 8e9520b677b318">This email address is being protected from spambots. You ne
 ed JavaScript enabled to view it.</span><script type='text/javascript'>
			
 	document.getElementById('cloak780ff83b9f6b258ddc8e9520b677b318').innerHTML
  = '';
				var prefix = '&#109;a' + 'i&#108;' + '&#116;o';
				var path = '
 hr' + 'ef' + '=';
				var addy780ff83b9f6b258ddc8e9520b677b318 = 'c&#111;dg
 &#101;rs' + '&#64;';
				addy780ff83b9f6b258ddc8e9520b677b318 = addy780ff83
 b9f6b258ddc8e9520b677b318 + 'sc&#97;cr' + '&#46;' + '&#111;rg';
				var add
 y_text780ff83b9f6b258ddc8e9520b677b318 = 'c&#111;dg&#101;rs' + '&#64;' + 's
 c&#97;cr' + '&#46;' + '&#111;rg';document.getElementById('cloak780ff83b9f6b
 258ddc8e9520b677b318').innerHTML += '<a ' + path + '\'' + prefix + ':' + ad
 dy780ff83b9f6b258ddc8e9520b677b318 + '\'>'+addy_text780ff83b9f6b258ddc8e952
 0b677b318+'<\/a>';
		</script></span></p><p>If you want a sandwich (£9.50, 
 and includes small salad and fries), let me know whether you want white bre
 ad, granary bread or ciabatta. The filling choices are:</p><ul><li>Egg Mayo
 nnaise</li><li>Crayfish Cocktail &amp; lettuce</li><li>Ham salad</li><li>Su
 ssex Charmer cheddar and tomato</li><li>Pastrami &amp; pickle</li></ul><p>W
 e will need to cap numbers attending at 25 maximum, so do let me know if yo
 u are coming.</p><p>Email address to confirm attendance and order food:&nbs
 p;&nbsp;<a href="mailto:codgers@scacr.org" target="_blank"></a><span id="cl
 oak72364b9e61be21de093db56ffa732abd">This email address is being protected 
 from spambots. You need JavaScript enabled to view it.</span><script type='
 text/javascript'>
				document.getElementById('cloak72364b9e61be21de093db56
 ffa732abd').innerHTML = '';
				var prefix = '&#109;a' + 'i&#108;' + '&#116
 ;o';
				var path = 'hr' + 'ef' + '=';
				var addy72364b9e61be21de093db56f
 fa732abd = 'c&#111;dg&#101;rs' + '&#64;';
				addy72364b9e61be21de093db56ff
 a732abd = addy72364b9e61be21de093db56ffa732abd + 'sc&#97;cr' + '&#46;' + '&
 #111;rg';
				var addy_text72364b9e61be21de093db56ffa732abd = 'c&#111;dg&#1
 01;rs' + '&#64;' + 'sc&#97;cr' + '&#46;' + '&#111;rg';document.getElementBy
 Id('cloak72364b9e61be21de093db56ffa732abd').innerHTML += '<a ' + path + '\'
 ' + prefix + ':' + addy72364b9e61be21de093db56ffa732abd + '\'>'+addy_text72
 364b9e61be21de093db56ffa732abd+'<\/a>';
		</script>&nbsp;</p><p>Hope to see
  you there.</p></div></div></div> <a href="https://scacr.org/news-events/ca
 lendar/1456/codgers?tmpl=component">This event was imported from: https://s
 cacr.org/news-events/calendar/1456/codgers?tmpl=component</a>CONTACT:This email address is being protected from spambots. You need JavaScript enabled to view it.
				document.getElementById('cloak320db6819a9a602dd2a7c115969fac4c').innerHTML = '';
				var prefix = '&#109;a' + 'i&#108;' + '&#116;o';
				var path = 'hr' + 'ef' + '=';
				var addy320db6819a9a602dd2a7c115969fac4c = 'c&#111;dg&#101;rs' + '&#64;';
				addy320db6819a9a602dd2a7c115969fac4c = addy320db6819a9a602dd2a7c115969fac4c + 'sc&#97;cr' + '&#46;' + '&#111;rg';
				var addy_text320db6819a9a602dd2a7c115969fac4c = 'c&#111;dg&#101;rs' + '&#64;' + 'sc&#97;cr' + '&#46;' + '&#111;rg';document.getElementById('cloak320db6819a9a602dd2a7c115969fac4c').innerHTML += '<a ' + path + '\'' + prefix + ':' + addy320db6819a9a602dd2a7c115969fac4c + '\'>'+addy_text320db6819a9a602dd2a7c115969fac4c+'';
		
DTSTAMP:20260422T143215
DTSTART;TZID=Europe/London:20250821T103000
DTEND;TZID=Europe/London:20250821T153000
SEQUENCE:0
TRANSP:OPAQUE
END:VEVENT
END:VCALENDAR