BEGIN:VCALENDAR
VERSION:2.0
PRODID:-//jEvents 2.0 for Joomla//EN
CALSCALE:GREGORIAN
METHOD:PUBLISH
BEGIN:VTIMEZONE
TZID:Europe/London
BEGIN:STANDARD
DTSTART:20241027T010000
RDATE:20250330T020000
TZOFFSETFROM:+0100
TZOFFSETTO:+0000
TZNAME:Europe/London GMT
END:STANDARD
BEGIN:STANDARD
DTSTART:20251026T010000
RDATE:20260329T020000
TZOFFSETFROM:+0100
TZOFFSETTO:+0000
TZNAME:Europe/London GMT
END:STANDARD
BEGIN:STANDARD
DTSTART:20261025T010000
RDATE:20270328T020000
TZOFFSETFROM:+0100
TZOFFSETTO:+0000
TZNAME:Europe/London GMT
END:STANDARD
BEGIN:STANDARD
DTSTART:20271031T010000
RDATE:20280326T020000
TZOFFSETFROM:+0100
TZOFFSETTO:+0000
TZNAME:Europe/London GMT
END:STANDARD
BEGIN:STANDARD
DTSTART:20281029T010000
RDATE:20290325T020000
TZOFFSETFROM:+0100
TZOFFSETTO:+0000
TZNAME:Europe/London GMT
END:STANDARD
BEGIN:STANDARD
DTSTART:20291028T010000
RDATE:20300331T020000
TZOFFSETFROM:+0100
TZOFFSETTO:+0000
TZNAME:Europe/London GMT
END:STANDARD
BEGIN:STANDARD
DTSTART:20301027T010000
RDATE:20310330T020000
TZOFFSETFROM:+0100
TZOFFSETTO:+0000
TZNAME:Europe/London GMT
END:STANDARD
BEGIN:DAYLIGHT
DTSTART:20241015T100000
RDATE:20241027T010000
TZOFFSETFROM:+0000
TZOFFSETTO:+0100
TZNAME:Europe/London BST
END:DAYLIGHT
BEGIN:DAYLIGHT
DTSTART:20250330T020000
RDATE:20251026T010000
TZOFFSETFROM:+0000
TZOFFSETTO:+0100
TZNAME:Europe/London BST
END:DAYLIGHT
BEGIN:DAYLIGHT
DTSTART:20260329T020000
RDATE:20261025T010000
TZOFFSETFROM:+0000
TZOFFSETTO:+0100
TZNAME:Europe/London BST
END:DAYLIGHT
BEGIN:DAYLIGHT
DTSTART:20270328T020000
RDATE:20271031T010000
TZOFFSETFROM:+0000
TZOFFSETTO:+0100
TZNAME:Europe/London BST
END:DAYLIGHT
BEGIN:DAYLIGHT
DTSTART:20280326T020000
RDATE:20281029T010000
TZOFFSETFROM:+0000
TZOFFSETTO:+0100
TZNAME:Europe/London BST
END:DAYLIGHT
BEGIN:DAYLIGHT
DTSTART:20290325T020000
RDATE:20291028T010000
TZOFFSETFROM:+0000
TZOFFSETTO:+0100
TZNAME:Europe/London BST
END:DAYLIGHT
BEGIN:DAYLIGHT
DTSTART:20300331T020000
RDATE:20301027T010000
TZOFFSETFROM:+0000
TZOFFSETTO:+0100
TZNAME:Europe/London BST
END:DAYLIGHT
END:VTIMEZONE
BEGIN:VEVENT
UID:afa67f7ee3b6d2249a43c0df9e91dc57
CATEGORIES:Association Event
CREATED:20250514T124408
SUMMARY:Codgers
LOCATION:Itchingfield\, Warnham\, Horsham
URL;VALUE=URI:https://scacr.org/news-events/calendar/1458/codgers?tmpl=component
DESCRIPTION:Itinerary:\n10.00 to 11.00:    Itchingfield (St Nicholas Church - 5 bells).
  Parking in the church drive. Access to ringing room via a ladder and a nar
 row opening.\n11.15 to 12.30:    Warnham (St Margarets Church - 10-bells). 
 Parking in road outside church.\n12.30 to 13.45:    Pub lunch at The Sussex
  Oak, Warnham (opposite the church) or make your own arrangements. Meals mu
 st be booked in advance direct with the pub - the email to book your meal i
 s This email address is being protected from spambots. You need JavaScript 
 enabled to view it.
				document.getElementById('cloak568c1a53af8453ae634f5
 383abcd2d62').innerHTML = '';
				var prefix = '&#109;a' + 'i&#108;' + '&#1
 16;o';
				var path = 'hr' + 'ef' + '=';
				var addy568c1a53af8453ae634f53
 83abcd2d62 = 's&#117;ss&#101;x&#111;&#97;kw&#97;rnh&#97;m' + '&#64;';
				a
 ddy568c1a53af8453ae634f5383abcd2d62 = addy568c1a53af8453ae634f5383abcd2d62 
 + '&#97;&#111;l' + '&#46;' + 'c&#111;m';
				var addy_text568c1a53af8453ae6
 34f5383abcd2d62 = 's&#117;ss&#101;x&#111;&#97;kw&#97;rnh&#97;m' + '&#64;' +
  '&#97;&#111;l' + '&#46;' + 'c&#111;m';document.getElementById('cloak568c1a
 53af8453ae634f5383abcd2d62').innerHTML += '<a ' + path + '\'' + prefix + ':
 ' + addy568c1a53af8453ae634f5383abcd2d62 + '\'>'+addy_text568c1a53af8453ae6
 34f5383abcd2d62+'';
		 (under 'Codgers' table booking). Menu is on the pub 
 website https://www.thesussexoak.com/MenuDaily (https://www.thesussexoak.co
 m/MenuDaily) .\n14.15 to 15.15     Horsham (St Mary the Virgin - 10-bells).
    No parking near church. Use paid-for car parks in town Centre. Sainsbury
 's is free for 2 hours if you spend £10 in store, you must leave within the
  2 hours.\nPlease email This email address is being protected from spambots
 . You need JavaScript enabled to view it.
				document.getElementById('cloa
 k9b6209f1cdaa0989dc5e07113c4d5edf').innerHTML = '';
				var prefix = '&#109
 ;a' + 'i&#108;' + '&#116;o';
				var path = 'hr' + 'ef' + '=';
				var addy
 9b6209f1cdaa0989dc5e07113c4d5edf = 'c&#111;dg&#101;rs' + '&#64;';
				addy9
 b6209f1cdaa0989dc5e07113c4d5edf = addy9b6209f1cdaa0989dc5e07113c4d5edf + 's
 c&#97;cr' + '&#46;' + '&#111;rg';
				var addy_text9b6209f1cdaa0989dc5e0711
 3c4d5edf = 'c&#111;dg&#101;rs' + '&#64;' + 'sc&#97;cr' + '&#46;' + '&#111;r
 g';document.getElementById('cloak9b6209f1cdaa0989dc5e07113c4d5edf').innerHT
 ML += '<a ' + path + '\'' + prefix + ':' + addy9b6209f1cdaa0989dc5e07113c4d
 5edf + '\'>'+addy_text9b6209f1cdaa0989dc5e07113c4d5edf+'';
		 to let us kno
 w you are coming.\n This event was imported from: https://scacr.org/news-ev
 ents/calendar/1458/codgers?tmpl=component (https://scacr.org/news-events/ca
 lendar/1458/codgers?tmpl=component)
X-ALT-DESC;FMTTYPE=text/html:<p>Itinerary:</p><p>10.00 to 11.00:&nbsp; &nbsp; Itchingfield (St Nicholas 
 Church - 5 bells). Parking in the church drive. Access to ringing room via 
 a ladder and a narrow opening.</p><p>11.15 to 12.30:&nbsp; &nbsp; Warnham (
 St Margarets Church - 10-bells). Parking in road outside church.</p><p>12.3
 0 to 13.45:&nbsp; &nbsp; Pub lunch at The Sussex Oak, Warnham (opposite the
  church) or make your own arrangements. Meals must be booked in advance dir
 ect with the pub - the email to book your meal is <span id="cloak568c1a53af
 8453ae634f5383abcd2d62">This email address is being protected from spambots
 . You need JavaScript enabled to view it.</span><script type='text/javascri
 pt'>
				document.getElementById('cloak568c1a53af8453ae634f5383abcd2d62').i
 nnerHTML = '';
				var prefix = '&#109;a' + 'i&#108;' + '&#116;o';
				var 
 path = 'hr' + 'ef' + '=';
				var addy568c1a53af8453ae634f5383abcd2d62 = 's
 &#117;ss&#101;x&#111;&#97;kw&#97;rnh&#97;m' + '&#64;';
				addy568c1a53af84
 53ae634f5383abcd2d62 = addy568c1a53af8453ae634f5383abcd2d62 + '&#97;&#111;l
 ' + '&#46;' + 'c&#111;m';
				var addy_text568c1a53af8453ae634f5383abcd2d62
  = 's&#117;ss&#101;x&#111;&#97;kw&#97;rnh&#97;m' + '&#64;' + '&#97;&#111;l'
  + '&#46;' + 'c&#111;m';document.getElementById('cloak568c1a53af8453ae634f5
 383abcd2d62').innerHTML += '<a ' + path + '\'' + prefix + ':' + addy568c1a5
 3af8453ae634f5383abcd2d62 + '\'>'+addy_text568c1a53af8453ae634f5383abcd2d62
 +'<\/a>';
		</script>&nbsp;(under 'Codgers' table booking). Menu is on the 
 pub website&nbsp;<a href="https://www.thesussexoak.com/MenuDaily">https://w
 ww.thesussexoak.com/MenuDaily</a>&nbsp;.</p><p>14.15 to 15.15&nbsp; &nbsp; 
 &nbsp;Horsham (St Mary the Virgin - 10-bells).&nbsp; &nbsp;No parking near 
 church. Use paid-for car parks in town Centre. Sainsbury's is free for 2 ho
 urs if you spend £10 in store, you must leave within the 2 hours.</p><p>Ple
 ase email <span id="cloak9b6209f1cdaa0989dc5e07113c4d5edf">This email addre
 ss is being protected from spambots. You need JavaScript enabled to view it
 .</span><script type='text/javascript'>
				document.getElementById('cloak9
 b6209f1cdaa0989dc5e07113c4d5edf').innerHTML = '';
				var prefix = '&#109;a
 ' + 'i&#108;' + '&#116;o';
				var path = 'hr' + 'ef' + '=';
				var addy9b
 6209f1cdaa0989dc5e07113c4d5edf = 'c&#111;dg&#101;rs' + '&#64;';
				addy9b6
 209f1cdaa0989dc5e07113c4d5edf = addy9b6209f1cdaa0989dc5e07113c4d5edf + 'sc&
 #97;cr' + '&#46;' + '&#111;rg';
				var addy_text9b6209f1cdaa0989dc5e07113c
 4d5edf = 'c&#111;dg&#101;rs' + '&#64;' + 'sc&#97;cr' + '&#46;' + '&#111;rg'
 ;document.getElementById('cloak9b6209f1cdaa0989dc5e07113c4d5edf').innerHTML
  += '<a ' + path + '\'' + prefix + ':' + addy9b6209f1cdaa0989dc5e07113c4d5e
 df + '\'>'+addy_text9b6209f1cdaa0989dc5e07113c4d5edf+'<\/a>';
		</script>&n
 bsp;to let us know you are coming.</p> <a href="https://scacr.org/news-even
 ts/calendar/1458/codgers?tmpl=component">This event was imported from: http
 s://scacr.org/news-events/calendar/1458/codgers?tmpl=component</a>CONTACT:This email address is being protected from spambots. You need JavaScript enabled to view it.
				document.getElementById('cloak698fac656b610c42b42fd1f28730c92f').innerHTML = '';
				var prefix = '&#109;a' + 'i&#108;' + '&#116;o';
				var path = 'hr' + 'ef' + '=';
				var addy698fac656b610c42b42fd1f28730c92f = 'c&#111;dg&#101;rs' + '&#64;';
				addy698fac656b610c42b42fd1f28730c92f = addy698fac656b610c42b42fd1f28730c92f + 'sc&#97;cr' + '&#46;' + '&#111;rg';
				var addy_text698fac656b610c42b42fd1f28730c92f = 'c&#111;dg&#101;rs' + '&#64;' + 'sc&#97;cr' + '&#46;' + '&#111;rg';document.getElementById('cloak698fac656b610c42b42fd1f28730c92f').innerHTML += '<a ' + path + '\'' + prefix + ':' + addy698fac656b610c42b42fd1f28730c92f + '\'>'+addy_text698fac656b610c42b42fd1f28730c92f+'';
		
DTSTAMP:20260422T203529
DTSTART;TZID=Europe/London:20251016T100000
DTEND;TZID=Europe/London:20251016T151500
SEQUENCE:0
TRANSP:OPAQUE
END:VEVENT
END:VCALENDAR