BEGIN:VCALENDAR
VERSION:2.0
PRODID:-//jEvents 2.0 for Joomla//EN
CALSCALE:GREGORIAN
METHOD:PUBLISH
BEGIN:VTIMEZONE
TZID:Europe/London
BEGIN:STANDARD
DTSTART:20241119T110000
RDATE:20250330T020000
TZOFFSETFROM:+0100
TZOFFSETTO:+0000
TZNAME:Europe/London GMT
END:STANDARD
BEGIN:STANDARD
DTSTART:20251026T010000
RDATE:20260329T020000
TZOFFSETFROM:+0100
TZOFFSETTO:+0000
TZNAME:Europe/London GMT
END:STANDARD
BEGIN:STANDARD
DTSTART:20261025T010000
RDATE:20270328T020000
TZOFFSETFROM:+0100
TZOFFSETTO:+0000
TZNAME:Europe/London GMT
END:STANDARD
BEGIN:STANDARD
DTSTART:20271031T010000
RDATE:20280326T020000
TZOFFSETFROM:+0100
TZOFFSETTO:+0000
TZNAME:Europe/London GMT
END:STANDARD
BEGIN:STANDARD
DTSTART:20281029T010000
RDATE:20290325T020000
TZOFFSETFROM:+0100
TZOFFSETTO:+0000
TZNAME:Europe/London GMT
END:STANDARD
BEGIN:STANDARD
DTSTART:20291028T010000
RDATE:20300331T020000
TZOFFSETFROM:+0100
TZOFFSETTO:+0000
TZNAME:Europe/London GMT
END:STANDARD
BEGIN:STANDARD
DTSTART:20301027T010000
RDATE:20310330T020000
TZOFFSETFROM:+0100
TZOFFSETTO:+0000
TZNAME:Europe/London GMT
END:STANDARD
BEGIN:DAYLIGHT
DTSTART:20250330T020000
RDATE:20251026T010000
TZOFFSETFROM:+0000
TZOFFSETTO:+0100
TZNAME:Europe/London BST
END:DAYLIGHT
BEGIN:DAYLIGHT
DTSTART:20260329T020000
RDATE:20261025T010000
TZOFFSETFROM:+0000
TZOFFSETTO:+0100
TZNAME:Europe/London BST
END:DAYLIGHT
BEGIN:DAYLIGHT
DTSTART:20270328T020000
RDATE:20271031T010000
TZOFFSETFROM:+0000
TZOFFSETTO:+0100
TZNAME:Europe/London BST
END:DAYLIGHT
BEGIN:DAYLIGHT
DTSTART:20280326T020000
RDATE:20281029T010000
TZOFFSETFROM:+0000
TZOFFSETTO:+0100
TZNAME:Europe/London BST
END:DAYLIGHT
BEGIN:DAYLIGHT
DTSTART:20290325T020000
RDATE:20291028T010000
TZOFFSETFROM:+0000
TZOFFSETTO:+0100
TZNAME:Europe/London BST
END:DAYLIGHT
BEGIN:DAYLIGHT
DTSTART:20300331T020000
RDATE:20301027T010000
TZOFFSETFROM:+0000
TZOFFSETTO:+0100
TZNAME:Europe/London BST
END:DAYLIGHT
END:VTIMEZONE
BEGIN:VEVENT
UID:f85524be9142347638d36c96c06d9a78
CATEGORIES:Association Event
CREATED:20250514T124538
SUMMARY:Codgers
LOCATION:Ringmer &amp; Seaford
URL;VALUE=URI:https://scacr.org/news-events/calendar/1459/codgers?tmpl=component
DESCRIPTION:Itinerary:\n11:00 Ringmer (St Mary the Virgin - 8 bells - Church Hill, Ring
 mer) - NB - there is a service beforehand so please wait outside until the 
 ringing start time. Some parking by the church and on surrounding roads.\n1
 2:00 Travel\n12:45 pub lunch - The Old Boot Inn, 13 High Street, Seaford, B
 N25 1PE (must be pre-booked) - or make your own arrangements. No parking, n
 earest car park is West Street (chargeable). Free parking at The Esplanade 
 car park on the sea front.\n14:15 Seaford (St Leonard's - 8 bells - Church 
 Street, Seaford) - no parking at church, use car parks in town.\n15:15 Fini
 sh\nHopefully this is the final tower line-up! Apologies for the latest cha
 nge, Barcombe's organ is being installed and therefore they cancelled the r
 inging as they need to tune it.\nThe pub menu is on the email circulated se
 parately, or email This email address is being protected from spambots. You
  need JavaScript enabled to view it.
				document.getElementById('cloak57bb
 0b7fb19d8bfdcfc6d62f727a8359').innerHTML = '';
				var prefix = '&#109;a' +
  'i&#108;' + '&#116;o';
				var path = 'hr' + 'ef' + '=';
				var addy57bb0
 b7fb19d8bfdcfc6d62f727a8359 = 'c&#111;dg&#101;rs' + '&#64;';
				addy57bb0b
 7fb19d8bfdcfc6d62f727a8359 = addy57bb0b7fb19d8bfdcfc6d62f727a8359 + 'sc&#97
 ;cr' + '&#46;' + '&#111;rg';
				var addy_text57bb0b7fb19d8bfdcfc6d62f727a8
 359 = 'c&#111;dg&#101;rs' + '&#64;' + 'sc&#97;cr' + '&#46;' + '&#111;rg';do
 cument.getElementById('cloak57bb0b7fb19d8bfdcfc6d62f727a8359').innerHTML +=
  '<a ' + path + '\'' + prefix + ':' + addy57bb0b7fb19d8bfdcfc6d62f727a8359 
 + '\'>'+addy_text57bb0b7fb19d8bfdcfc6d62f727a8359+'';
		 to request it. Foo
 d at the pub must be pre-booked - deadline for menu choices is Mon 17th Nov
 . - your choice by email to This email address is being protected from spam
 bots. You need JavaScript enabled to view it.
				document.getElementById('
 cloak264c29cfeb3ded82c5b4b8d4adc0e9a3').innerHTML = '';
				var prefix = '&
 #109;a' + 'i&#108;' + '&#116;o';
				var path = 'hr' + 'ef' + '=';
				var 
 addy264c29cfeb3ded82c5b4b8d4adc0e9a3 = 'c&#111;dg&#101;rs' + '&#64;';
				a
 ddy264c29cfeb3ded82c5b4b8d4adc0e9a3 = addy264c29cfeb3ded82c5b4b8d4adc0e9a3 
 + 'sc&#97;cr' + '&#46;' + '&#111;rg';
				var addy_text264c29cfeb3ded82c5b4
 b8d4adc0e9a3 = 'c&#111;dg&#101;rs' + '&#64;' + 'sc&#97;cr' + '&#46;' + '&#1
 11;rg';document.getElementById('cloak264c29cfeb3ded82c5b4b8d4adc0e9a3').inn
 erHTML += '<a ' + path + '\'' + prefix + ':' + addy264c29cfeb3ded82c5b4b8d4
 adc0e9a3 + '\'>'+addy_text264c29cfeb3ded82c5b4b8d4adc0e9a3+'';
		 please.\n
 Please let us know if you are intending to come and ring, it really helps w
 ith the planning (This email address is being protected from spambots. You 
 need JavaScript enabled to view it.
				document.getElementById('cloakefd18
 4ce2fa789e32e94d05d598d0a28').innerHTML = '';
				var prefix = '&#109;a' + 
 'i&#108;' + '&#116;o';
				var path = 'hr' + 'ef' + '=';
				var addyefd184
 ce2fa789e32e94d05d598d0a28 = 'c&#111;dg&#101;rs' + '&#64;';
				addyefd184c
 e2fa789e32e94d05d598d0a28 = addyefd184ce2fa789e32e94d05d598d0a28 + 'sc&#97;
 cr' + '&#46;' + '&#111;rg';
				var addy_textefd184ce2fa789e32e94d05d598d0a
 28 = 'c&#111;dg&#101;rs' + '&#64;' + 'sc&#97;cr' + '&#46;' + '&#111;rg';doc
 ument.getElementById('cloakefd184ce2fa789e32e94d05d598d0a28').innerHTML += 
 '<a ' + path + '\'' + prefix + ':' + addyefd184ce2fa789e32e94d05d598d0a28 +
  '\'>'+addy_textefd184ce2fa789e32e94d05d598d0a28+'';
		) .\n This event was
  imported from: https://scacr.org/news-events/calendar/1459/codgers?tmpl=co
 mponent (https://scacr.org/news-events/calendar/1459/codgers?tmpl=component
 )
X-ALT-DESC;FMTTYPE=text/html:<p>Itinerary:</p><p><strong>11:00 Ringmer</strong> (St Mary the Virgin - 8 
 bells - Church Hill, Ringmer) - NB - there is a service beforehand so pleas
 e wait outside until the ringing start time. Some parking by the church and
  on surrounding roads.</p><p>12:00 Travel</p><p>12:45 pub lunch - The Old B
 oot Inn, 13 High Street, Seaford, BN25 1PE (must be pre-booked) - or make y
 our own arrangements. No parking, nearest car park is West Street (chargeab
 le). Free parking at The Esplanade car park on the sea front.</p><p><strong
 >14:15 Seaford</strong> (St Leonard's - 8 bells - Church Street, Seaford) -
  no parking at church, use car parks in town.</p><p>15:15 Finish</p><p>Hope
 fully this is the final tower line-up! Apologies for the latest change, Bar
 combe's organ is being installed and therefore they cancelled the ringing a
 s they need to tune it.</p><p>The pub menu is on the email circulated separ
 ately, or email <span id="cloak57bb0b7fb19d8bfdcfc6d62f727a8359">This email
  address is being protected from spambots. You need JavaScript enabled to v
 iew it.</span><script type='text/javascript'>
				document.getElementById('
 cloak57bb0b7fb19d8bfdcfc6d62f727a8359').innerHTML = '';
				var prefix = '&
 #109;a' + 'i&#108;' + '&#116;o';
				var path = 'hr' + 'ef' + '=';
				var 
 addy57bb0b7fb19d8bfdcfc6d62f727a8359 = 'c&#111;dg&#101;rs' + '&#64;';
				a
 ddy57bb0b7fb19d8bfdcfc6d62f727a8359 = addy57bb0b7fb19d8bfdcfc6d62f727a8359 
 + 'sc&#97;cr' + '&#46;' + '&#111;rg';
				var addy_text57bb0b7fb19d8bfdcfc6
 d62f727a8359 = 'c&#111;dg&#101;rs' + '&#64;' + 'sc&#97;cr' + '&#46;' + '&#1
 11;rg';document.getElementById('cloak57bb0b7fb19d8bfdcfc6d62f727a8359').inn
 erHTML += '<a ' + path + '\'' + prefix + ':' + addy57bb0b7fb19d8bfdcfc6d62f
 727a8359 + '\'>'+addy_text57bb0b7fb19d8bfdcfc6d62f727a8359+'<\/a>';
		</scr
 ipt>&nbsp;to request it. Food at the pub must be pre-booked - deadline for 
 menu choices is Mon 17th Nov. - your choice by email to <span id="cloak264c
 29cfeb3ded82c5b4b8d4adc0e9a3">This email address is being protected from sp
 ambots. You need JavaScript enabled to view it.</span><script type='text/ja
 vascript'>
				document.getElementById('cloak264c29cfeb3ded82c5b4b8d4adc0e9
 a3').innerHTML = '';
				var prefix = '&#109;a' + 'i&#108;' + '&#116;o';
		
 		var path = 'hr' + 'ef' + '=';
				var addy264c29cfeb3ded82c5b4b8d4adc0e9a
 3 = 'c&#111;dg&#101;rs' + '&#64;';
				addy264c29cfeb3ded82c5b4b8d4adc0e9a3
  = addy264c29cfeb3ded82c5b4b8d4adc0e9a3 + 'sc&#97;cr' + '&#46;' + '&#111;rg
 ';
				var addy_text264c29cfeb3ded82c5b4b8d4adc0e9a3 = 'c&#111;dg&#101;rs' 
 + '&#64;' + 'sc&#97;cr' + '&#46;' + '&#111;rg';document.getElementById('clo
 ak264c29cfeb3ded82c5b4b8d4adc0e9a3').innerHTML += '<a ' + path + '\'' + pre
 fix + ':' + addy264c29cfeb3ded82c5b4b8d4adc0e9a3 + '\'>'+addy_text264c29cfe
 b3ded82c5b4b8d4adc0e9a3+'<\/a>';
		</script>&nbsp;please.</p><p>Please let 
 us know if you are intending to come and ring, it really helps with the pla
 nning (<span id="cloakefd184ce2fa789e32e94d05d598d0a28">This email address 
 is being protected from spambots. You need JavaScript enabled to view it.</
 span><script type='text/javascript'>
				document.getElementById('cloakefd1
 84ce2fa789e32e94d05d598d0a28').innerHTML = '';
				var prefix = '&#109;a' +
  'i&#108;' + '&#116;o';
				var path = 'hr' + 'ef' + '=';
				var addyefd18
 4ce2fa789e32e94d05d598d0a28 = 'c&#111;dg&#101;rs' + '&#64;';
				addyefd184
 ce2fa789e32e94d05d598d0a28 = addyefd184ce2fa789e32e94d05d598d0a28 + 'sc&#97
 ;cr' + '&#46;' + '&#111;rg';
				var addy_textefd184ce2fa789e32e94d05d598d0
 a28 = 'c&#111;dg&#101;rs' + '&#64;' + 'sc&#97;cr' + '&#46;' + '&#111;rg';do
 cument.getElementById('cloakefd184ce2fa789e32e94d05d598d0a28').innerHTML +=
  '<a ' + path + '\'' + prefix + ':' + addyefd184ce2fa789e32e94d05d598d0a28 
 + '\'>'+addy_textefd184ce2fa789e32e94d05d598d0a28+'<\/a>';
		</script>)&nbs
 p;.</p> <a href="https://scacr.org/news-events/calendar/1459/codgers?tmpl=c
 omponent">This event was imported from: https://scacr.org/news-events/calen
 dar/1459/codgers?tmpl=component</a>CONTACT:This email address is being protected from spambots. You need JavaScript enabled to view it.
				document.getElementById('cloak55064e0c7953c7635ea509f8433458f2').innerHTML = '';
				var prefix = '&#109;a' + 'i&#108;' + '&#116;o';
				var path = 'hr' + 'ef' + '=';
				var addy55064e0c7953c7635ea509f8433458f2 = 'c&#111;dg&#101;rs' + '&#64;';
				addy55064e0c7953c7635ea509f8433458f2 = addy55064e0c7953c7635ea509f8433458f2 + 'sc&#97;cr' + '&#46;' + '&#111;rg';
				var addy_text55064e0c7953c7635ea509f8433458f2 = 'c&#111;dg&#101;rs' + '&#64;' + 'sc&#97;cr' + '&#46;' + '&#111;rg';document.getElementById('cloak55064e0c7953c7635ea509f8433458f2').innerHTML += '<a ' + path + '\'' + prefix + ':' + addy55064e0c7953c7635ea509f8433458f2 + '\'>'+addy_text55064e0c7953c7635ea509f8433458f2+'';
		
DTSTAMP:20260424T072511
DTSTART;TZID=Europe/London:20251120T110000
DTEND;TZID=Europe/London:20251120T151500
SEQUENCE:0
TRANSP:OPAQUE
END:VEVENT
END:VCALENDAR