BEGIN:VCALENDAR
VERSION:2.0
PRODID:-//jEvents 2.0 for Joomla//EN
CALSCALE:GREGORIAN
METHOD:PUBLISH
BEGIN:VTIMEZONE
TZID:Europe/London
BEGIN:STANDARD
DTSTART:20241027T010000
RDATE:20250330T020000
TZOFFSETFROM:+0100
TZOFFSETTO:+0000
TZNAME:Europe/London GMT
END:STANDARD
BEGIN:STANDARD
DTSTART:20251026T010000
RDATE:20260329T020000
TZOFFSETFROM:+0100
TZOFFSETTO:+0000
TZNAME:Europe/London GMT
END:STANDARD
BEGIN:STANDARD
DTSTART:20261025T010000
RDATE:20270328T020000
TZOFFSETFROM:+0100
TZOFFSETTO:+0000
TZNAME:Europe/London GMT
END:STANDARD
BEGIN:STANDARD
DTSTART:20271031T010000
RDATE:20280326T020000
TZOFFSETFROM:+0100
TZOFFSETTO:+0000
TZNAME:Europe/London GMT
END:STANDARD
BEGIN:STANDARD
DTSTART:20281029T010000
RDATE:20290325T020000
TZOFFSETFROM:+0100
TZOFFSETTO:+0000
TZNAME:Europe/London GMT
END:STANDARD
BEGIN:STANDARD
DTSTART:20291028T010000
RDATE:20300331T020000
TZOFFSETFROM:+0100
TZOFFSETTO:+0000
TZNAME:Europe/London GMT
END:STANDARD
BEGIN:STANDARD
DTSTART:20301027T010000
RDATE:20310330T020000
TZOFFSETFROM:+0100
TZOFFSETTO:+0000
TZNAME:Europe/London GMT
END:STANDARD
BEGIN:DAYLIGHT
DTSTART:20240810T193000
RDATE:20241027T010000
TZOFFSETFROM:+0000
TZOFFSETTO:+0100
TZNAME:Europe/London BST
END:DAYLIGHT
BEGIN:DAYLIGHT
DTSTART:20250330T020000
RDATE:20251026T010000
TZOFFSETFROM:+0000
TZOFFSETTO:+0100
TZNAME:Europe/London BST
END:DAYLIGHT
BEGIN:DAYLIGHT
DTSTART:20260329T020000
RDATE:20261025T010000
TZOFFSETFROM:+0000
TZOFFSETTO:+0100
TZNAME:Europe/London BST
END:DAYLIGHT
BEGIN:DAYLIGHT
DTSTART:20270328T020000
RDATE:20271031T010000
TZOFFSETFROM:+0000
TZOFFSETTO:+0100
TZNAME:Europe/London BST
END:DAYLIGHT
BEGIN:DAYLIGHT
DTSTART:20280326T020000
RDATE:20281029T010000
TZOFFSETFROM:+0000
TZOFFSETTO:+0100
TZNAME:Europe/London BST
END:DAYLIGHT
BEGIN:DAYLIGHT
DTSTART:20290325T020000
RDATE:20291028T010000
TZOFFSETFROM:+0000
TZOFFSETTO:+0100
TZNAME:Europe/London BST
END:DAYLIGHT
BEGIN:DAYLIGHT
DTSTART:20300331T020000
RDATE:20301027T010000
TZOFFSETFROM:+0000
TZOFFSETTO:+0100
TZNAME:Europe/London BST
END:DAYLIGHT
END:VTIMEZONE
BEGIN:VEVENT
UID:263406ed3059f83ee7ccee27fdc6172a
CATEGORIES:West
CREATED:20250611T123730
SUMMARY:Surprise Minor Simulator Practice
LOCATION:St Mary's Church\, Stoughton
URL;VALUE=URI:https://scacr.org/news-events/calendar/1471/surprise-minor-simulator-practi
 ce?tmpl=component
DESCRIPTION:<p>&nbsp;EDIT - Due to insuffucent numbers - this practice has been cancell
 ed this evening.</p><p>This is a regular practice is held every second Mond
 ay of the month!</p><p>Current methods rung are: Cambridge, London, Norwich
 , Carlisle and Beverley!&nbsp; The idea is to consolidate them and start sp
 licing them!!&nbsp; Other methods maybe added as and when.</p><p>Don't br p
 ut off if you are unable to ring all these methods or can't ring spliced - 
 there are a range of abilities and it is a practice so an opportunity to ha
 ve a go!!</p><p>Please let Joanna Woodcock know if you intend to go along o
 n <span id="cloak791497a113872c13bab557c4531add28">This email address is be
 ing protected from spambots. You need JavaScript enabled to view it.</span>
 <script type='text/javascript'>
				document.getElementById('cloak791497a11
 3872c13bab557c4531add28').innerHTML = '';
				var prefix = '&#109;a' + 'i&#
 108;' + '&#116;o';
				var path = 'hr' + 'ef' + '=';
				var addy791497a113
 872c13bab557c4531add28 = 'd&#101;&#97;nl&#97;n&#101;&#101;nd' + '&#64;';
		
 		addy791497a113872c13bab557c4531add28 = addy791497a113872c13bab557c4531add
 28 + 'gm&#97;&#105;l' + '&#46;' + 'c&#111;m';
				var addy_text791497a11387
 2c13bab557c4531add28 = 'd&#101;&#97;nl&#97;n&#101;&#101;nd' + '&#64;' + 'gm
 &#97;&#105;l' + '&#46;' + 'c&#111;m';document.getElementById('cloak791497a1
 13872c13bab557c4531add28').innerHTML += '<a ' + path + '\'' + prefix + ':' 
 + addy791497a113872c13bab557c4531add28 + '\'>'+addy_text791497a113872c13bab
 557c4531add28+'<\/a>';
		</script></p><p>There is ample on-street parking i
 n the village and limited, blue badge parking up at the track at the church
 .&nbsp; The farmyard car park to the left of the track is private and so pl
 ease do not use!</p><p>There are no toilets in the church - nearest facilit
 ies are in the Hare and Hounds pub approx 300 m away.</p><p>If there is ple
 nty of rain - it may be handy to wear wellies or at least have some in the 
 car!!!</p><p>Contact the Tower Captain if you have any other questions!&nbs
 p; Tim Wright - <span id="cloak4579ee26a9d6e627796af6f13ce3280a">This email
  address is being protected from spambots. You need JavaScript enabled to v
 iew it.</span><script type='text/javascript'>
				document.getElementById('
 cloak4579ee26a9d6e627796af6f13ce3280a').innerHTML = '';
				var prefix = '&
 #109;a' + 'i&#108;' + '&#116;o';
				var path = 'hr' + 'ef' + '=';
				var 
 addy4579ee26a9d6e627796af6f13ce3280a = 'tcf.wr&#105;ght' + '&#64;';
				add
 y4579ee26a9d6e627796af6f13ce3280a = addy4579ee26a9d6e627796af6f13ce3280a + 
 'bt&#105;nt&#101;rn&#101;t' + '&#46;' + 'c&#111;m';
				var addy_text4579ee
 26a9d6e627796af6f13ce3280a = 'tcf.wr&#105;ght' + '&#64;' + 'bt&#105;nt&#101
 ;rn&#101;t' + '&#46;' + 'c&#111;m';document.getElementById('cloak4579ee26a9
 d6e627796af6f13ce3280a').innerHTML += '<a ' + path + '\'' + prefix + ':' + 
 addy4579ee26a9d6e627796af6f13ce3280a + '\'>'+addy_text4579ee26a9d6e627796af
 6f13ce3280a+'<\/a>';
		</script></p> <a href="https://scacr.org/news-events
 /calendar/1471/surprise-minor-simulator-practice?tmpl=component">This event
  was imported from: https://scacr.org/news-events/calendar/1471/surprise-mi
 nor-simulator-practice?tmpl=component</a>CONTACT:Joanna Woodcock This email address is being protected from spambots. You need JavaScript enabled to view it.
				document.getElementById('cloakb646c83007a9e49a2a4710af3106cba1').innerHTML = '';
				var prefix = '&#109;a' + 'i&#108;' + '&#116;o';
				var path = 'hr' + 'ef' + '=';
				var addyb646c83007a9e49a2a4710af3106cba1 = 'd&#101;&#97;nl&#97;n&#101;&#101;nd' + '&#64;';
				addyb646c83007a9e49a2a4710af3106cba1 = addyb646c83007a9e49a2a4710af3106cba1 + 'gm&#97;&#105;l' + '&#46;' + 'c&#111;m';
				var addy_textb646c83007a9e49a2a4710af3106cba1 = 'd&#101;&#97;nl&#97;n&#101;&#101;nd' + '&#64;' + 'gm&#97;&#105;l' + '&#46;' + 'c&#111;m';document.getElementById('cloakb646c83007a9e49a2a4710af3106cba1').innerHTML += '<a ' + path + '\'' + prefix + ':' + addyb646c83007a9e49a2a4710af3106cba1 + '\'>'+addy_textb646c83007a9e49a2a4710af3106cba1+'';
		
DTSTAMP:20260422T143326
DTSTART;TZID=Europe/London:20250811T193000
DTEND;TZID=Europe/London:20250811T210000
SEQUENCE:0
TRANSP:OPAQUE
END:VEVENT
END:VCALENDAR