BEGIN:VCALENDAR
VERSION:2.0
PRODID:-//jEvents 2.0 for Joomla//EN
CALSCALE:GREGORIAN
METHOD:PUBLISH
BEGIN:VTIMEZONE
TZID:Europe/London
BEGIN:STANDARD
DTSTART:20241027T010000
RDATE:20250330T020000
TZOFFSETFROM:+0100
TZOFFSETTO:+0000
TZNAME:Europe/London GMT
END:STANDARD
BEGIN:STANDARD
DTSTART:20251026T010000
RDATE:20260329T020000
TZOFFSETFROM:+0100
TZOFFSETTO:+0000
TZNAME:Europe/London GMT
END:STANDARD
BEGIN:STANDARD
DTSTART:20261025T010000
RDATE:20270328T020000
TZOFFSETFROM:+0100
TZOFFSETTO:+0000
TZNAME:Europe/London GMT
END:STANDARD
BEGIN:STANDARD
DTSTART:20271031T010000
RDATE:20280326T020000
TZOFFSETFROM:+0100
TZOFFSETTO:+0000
TZNAME:Europe/London GMT
END:STANDARD
BEGIN:STANDARD
DTSTART:20281029T010000
RDATE:20290325T020000
TZOFFSETFROM:+0100
TZOFFSETTO:+0000
TZNAME:Europe/London GMT
END:STANDARD
BEGIN:STANDARD
DTSTART:20291028T010000
RDATE:20300331T020000
TZOFFSETFROM:+0100
TZOFFSETTO:+0000
TZNAME:Europe/London GMT
END:STANDARD
BEGIN:STANDARD
DTSTART:20301027T010000
RDATE:20310330T020000
TZOFFSETFROM:+0100
TZOFFSETTO:+0000
TZNAME:Europe/London GMT
END:STANDARD
BEGIN:DAYLIGHT
DTSTART:20240905T100000
RDATE:20241027T010000
TZOFFSETFROM:+0000
TZOFFSETTO:+0100
TZNAME:Europe/London BST
END:DAYLIGHT
BEGIN:DAYLIGHT
DTSTART:20250330T020000
RDATE:20251026T010000
TZOFFSETFROM:+0000
TZOFFSETTO:+0100
TZNAME:Europe/London BST
END:DAYLIGHT
BEGIN:DAYLIGHT
DTSTART:20260329T020000
RDATE:20261025T010000
TZOFFSETFROM:+0000
TZOFFSETTO:+0100
TZNAME:Europe/London BST
END:DAYLIGHT
BEGIN:DAYLIGHT
DTSTART:20270328T020000
RDATE:20271031T010000
TZOFFSETFROM:+0000
TZOFFSETTO:+0100
TZNAME:Europe/London BST
END:DAYLIGHT
BEGIN:DAYLIGHT
DTSTART:20280326T020000
RDATE:20281029T010000
TZOFFSETFROM:+0000
TZOFFSETTO:+0100
TZNAME:Europe/London BST
END:DAYLIGHT
BEGIN:DAYLIGHT
DTSTART:20290325T020000
RDATE:20291028T010000
TZOFFSETFROM:+0000
TZOFFSETTO:+0100
TZNAME:Europe/London BST
END:DAYLIGHT
BEGIN:DAYLIGHT
DTSTART:20300331T020000
RDATE:20301027T010000
TZOFFSETFROM:+0000
TZOFFSETTO:+0100
TZNAME:Europe/London BST
END:DAYLIGHT
END:VTIMEZONE
BEGIN:VEVENT
UID:dca12b1aa8711b9f258e2ee712eba062
CATEGORIES:North
CREATED:20250729T134711
SUMMARY:Ringing and Bacon Butties!
LOCATION:Slaugham; St. Mary
URL;VALUE=URI:https://scacr.org/news-events/calendar/1488/ringing-and-bacon-butties?tmpl=
 component
DESCRIPTION:Join us on Saturday 6th September, from 10:00am - 12:00pm, at Slaugham, St.
  Mary as the Northern Distrcit holds our fan favourite Ringing with Bacon B
 utties! \nCome and enjoy a tasty bacon butty &amp; both hot and cold refres
 hments, alongside ringing to suit all; including rounds on 8 onwards, inclu
 ding Call Changes, Grandsire, Stedman, and even Surprise Major (subject to 
 available experience)! A small donation of £2 is kindly requested for cater
 ing and the use of the tower.  Our Ringing with Bacon Butties is one of the
  most popular events in the Northern District Calendar, so if you plan to j
 oin us we do kindly request you fill in this short form (https://forms.gle/
 7byAGTfU8fPTqzv7A) to allow us to cater for all!  For any questions, please
  don't hesistate to reach out to Tom at This email address is being protect
 ed from spambots. You need JavaScript enabled to view it.
				document.getE
 lementById('cloak8ec3a257889b98332f38fa4e102a934c').innerHTML = '';
				var
  prefix = '&amp;#109;a' + 'i&amp;#108;' + '&amp;#116;o';
				var path = 'hr
 ' + 'ef' + '=';
				var addy8ec3a257889b98332f38fa4e102a934c = 's&amp;#101;
 c-n&amp;#111;rth' + '&amp;#64;';
				addy8ec3a257889b98332f38fa4e102a934c =
  addy8ec3a257889b98332f38fa4e102a934c + 'sc&amp;#97;cr' + '&amp;#46;' + '&a
 mp;#111;rg';
				var addy_text8ec3a257889b98332f38fa4e102a934c = 's&amp;#10
 1;c-n&amp;#111;rth' + '&amp;#64;' + 'sc&amp;#97;cr' + '&amp;#46;' + '&amp;#
 111;rg';document.getElementById('cloak8ec3a257889b98332f38fa4e102a934c').in
 nerHTML += '&lt;a ' + path + '\'' + prefix + ':' + addy8ec3a257889b98332f38
 fa4e102a934c + '\'&gt;'+addy_text8ec3a257889b98332f38fa4e102a934c+'&lt;\/a&
 gt;';
		. (mailto:sec-north@scacr.org.) We look forward to seeing you there
 !  This event was imported from: https://scacr.org/news-events/calendar/148
 8/ringing-and-bacon-butties?tmpl=component (https://scacr.org/news-events/c
 alendar/1488/ringing-and-bacon-butties?tmpl=component)
X-ALT-DESC;FMTTYPE=text/html:<p>Join us on Saturday 6th September, from 10:00am - 12:00pm, at Slaugham, 
 St. Mary as the Northern Distrcit holds our fan favourite&nbsp;<em>Ringing 
 with Bacon Butties</em>!&nbsp;</p><div>Come and enjoy a tasty bacon butty &
 amp; both hot and cold refreshments, alongside ringing to suit all; includi
 ng rounds on 8 onwards, including Call Changes, Grandsire, Stedman, and eve
 n Surprise Major (subject to available experience)! A small donation of £2 
 is kindly requested for catering and the use of the tower.&nbsp;</div><div>
 &nbsp;</div><div><span style="color: #ff0000;">Our Ringing with Bacon Butti
 es is one of the most popular events in the Northern District Calendar, so 
 if you plan to join us we do kindly request you fill in <span style="text-d
 ecoration: underline; color: #0000ff;"><strong><a href="https://forms.gle/7
 byAGTfU8fPTqzv7A" style="color: #0000ff; text-decoration: underline;">this 
 short form</a></strong></span> to allow us to cater for all!&nbsp;</span></
 div><div>&nbsp;</div><div>For any questions, please don't hesistate to reac
 h out to Tom at <a href="mailto:sec-north@scacr.org."><span id="cloak8ec3a2
 57889b98332f38fa4e102a934c">This email address is being protected from spam
 bots. You need JavaScript enabled to view it.</span><script type='text/java
 script'>
				document.getElementById('cloak8ec3a257889b98332f38fa4e102a934c
 ').innerHTML = '';
				var prefix = '&#109;a' + 'i&#108;' + '&#116;o';
				
 var path = 'hr' + 'ef' + '=';
				var addy8ec3a257889b98332f38fa4e102a934c 
 = 's&#101;c-n&#111;rth' + '&#64;';
				addy8ec3a257889b98332f38fa4e102a934c
  = addy8ec3a257889b98332f38fa4e102a934c + 'sc&#97;cr' + '&#46;' + '&#111;rg
 ';
				var addy_text8ec3a257889b98332f38fa4e102a934c = 's&#101;c-n&#111;rth
 ' + '&#64;' + 'sc&#97;cr' + '&#46;' + '&#111;rg';document.getElementById('c
 loak8ec3a257889b98332f38fa4e102a934c').innerHTML += '<a ' + path + '\'' + p
 refix + ':' + addy8ec3a257889b98332f38fa4e102a934c + '\'>'+addy_text8ec3a25
 7889b98332f38fa4e102a934c+'<\/a>';
		</script>.</a> We look forward to seei
 ng you there!&nbsp;</div> <a href="https://scacr.org/news-events/calendar/1
 488/ringing-and-bacon-butties?tmpl=component">This event was imported from:
  https://scacr.org/news-events/calendar/1488/ringing-and-bacon-butties?tmpl
 =component</a>CONTACT:This email address is being protected from spambots. You need JavaScript enabled to view it.
				document.getElementById('cloakaeab08f305c7bb43d995d6ef429fc316').innerHTML = '';
				var prefix = '&#109;a' + 'i&#108;' + '&#116;o';
				var path = 'hr' + 'ef' + '=';
				var addyaeab08f305c7bb43d995d6ef429fc316 = 's&#101;c-n&#111;rth' + '&#64;';
				addyaeab08f305c7bb43d995d6ef429fc316 = addyaeab08f305c7bb43d995d6ef429fc316 + 'sc&#97;cr' + '&#46;' + '&#111;rg';
				var addy_textaeab08f305c7bb43d995d6ef429fc316 = 's&#101;c-n&#111;rth' + '&#64;' + 'sc&#97;cr' + '&#46;' + '&#111;rg';document.getElementById('cloakaeab08f305c7bb43d995d6ef429fc316').innerHTML += '<a ' + path + '\'' + prefix + ':' + addyaeab08f305c7bb43d995d6ef429fc316 + '\'>'+addy_textaeab08f305c7bb43d995d6ef429fc316+'';
		
DTSTAMP:20260421T004131
DTSTART;TZID=Europe/London:20250906T100000
DTEND;TZID=Europe/London:20250906T120000
SEQUENCE:0
TRANSP:OPAQUE
END:VEVENT
END:VCALENDAR